{"text_format":"1","workbook":"xlsx","n_sheets":23,"sheets":["報表選項","A.YD-部門新保比率分析表","B.YD-部門續保比率分析表","C.YD-業代新車承保月報表","C.月承保率(正確版)","D.YD-業代續保承保月報表","E.Sheet1(檔名未更新)","F.Sheet1(檔名未更新)","E&F.正確版","G.YD-部門保險佔比分析表","H.YD-部門保險佔比分析表","J.YD-業代新保獎勵統計表","J.獎勵金(正確版)","K.YD-業代續保獎勵統計表","L.Sheet1(檔名未更新)","M.2014-01-YD-新保承保明細表","N.2014-01(檔名未更新)","O.2014-01新保未投保電訪記錄表","P.2014-01續保未投保電訪記錄表","R.YD-承保業務分析總表","成交客戶表","新保承保率版(檔名未更新)","依德+鎔德"],"not_rendered":{"charts":0,"images":21,"macros":1,"external_links":2,"defined_names":13,"comments":0,"pivot_tables":0},"unopened":[],"bounds":{"document_bytes":16777216,"sheet_cells":100000,"rows_first":2000,"rows_last":500,"rows_between":2000,"halvings":0,"cell_chars":16384,"cell_head_chars":4096},"cells_cut":0,"cells_raw":0,"read":"whole","date_system":"1900"}

{"sheet":"報表選項","index":0,"n_rows":26,"n_cols":8,"rows_kept":26,"cut":false,"hidden":false,"merged":[[1,5,1,6]]}
[null,null,null,null,null,null,null,"2014-04-14"]
[null,"保險管理系統（元月份)","依德","鎔德","鉑德","報表狀態",null,"問題及建議事項"]
["A","部門新保比率分析表","*","*",null,null,"相同","-"]
["B","部門續保比率分析表","*","*","*",null,"相同","-"]
["C","業代新車承保月報表","*","*",null,"不同",null,"公式錯誤、需調整欄位"]
["D","業代續保承保月報表","*","*","*","不同",null,"到期單車售退保、單強制有誤，統計出現#DIV/0!（公式正確如列）\n'=IF(ISERROR(ROUND(($B6+$C6)/$N6,3)),\"\",ROUND(($B6+$C6)/$N6,3))"]
["E","保險承保同期比較表","*","*","*",null,"相同","檔名未更新，去年度資料由舊系統匯入無法比對"]
["F","新車及續保承保分析","*","*","*","不同",null,"檔名未更新、增列專案統計，報表參閱E&F正確版"]
["G","保險承保佔比分析表","*","*","*","不同",null,"強制、任意不同保險公司，造成件數重覆統計"]
["H","部門保險佔比分析表","*","*","*","不同",null,"總額部份須列保險公司件數及金額"]
["I","保險公司收付明細表","*","*","*",null,"相同","-"]
["J","業代新保獎勵統計表","*","*",null,"不同",null,"強制、任意及保險公司不同造成統計錯誤、百分比表示%，另需調整欄位"]
["K","業代續保獎勵統計表","*","*","*","不同",null,"與D.報表問題相同"]
["L","新保承保率分析總表","*","*",null,"不同",null,"檔名未更新，內容須調整"]
["M","新保承保明細表","*","*",null,"不同",null,"強制金額及件數重覆統計"]
["N","續保到期明細表","*","*","*","不同",null,"報表名稱未更新，備註欄上退保是否應在車輛轉售表現"]
["O","新保未保電訪表","*","*",null,null,"相同","-"]
["P","續保未保電訪表","*","*","*",null,"相同","原到期單日期與次年度日期不相符"]
["Q","每日承保明細表","*","*","*",null,"符合","-"]
["R","承保業務分析總表","*","*","*",null,"相同","-"]
["S","業代佣金明細總表","*","*","*",null,"符合","-"]
[]
[null,"成交客戶表（車源系統）",null,null,null,"不同",null,"4/11日發現成交客戶資料及付款方式變更造成保險統計不同"]
[null,"保險明細資料下載(續保)\n-承保率版",null,null,null,null,null,"增加保險類別 、欄位調整、刪除付款、更正檔名及增加統計"]
[null,"依德+鎔德總表",null,null,null,null,null,"能否增加當月及累計和同期之比較分析"]
["(*)","各事業體所需報表"]

{"sheet":"A.YD-部門新保比率分析表","index":1,"n_rows":25,"n_cols":26,"rows_kept":25,"cut":false,"hidden":false,"merged":[[18,6,18,10],[18,11,18,15],[18,16,18,20],[18,21,18,25],[0,0,0,2],[3,1,3,5],[3,6,3,10],[3,11,3,15],[3,16,3,20],[3,21,3,25]]}
["2014/01月各課新保比率分析表"]
[]
[]
[null,"台產",null,null,null,null,"富邦",null,null,null,null,"明台",null,null,null,null,"華南",null,null,null,null,"合計"]
["部門","件數","車體險","其他險","強制險","總額","件數","車體險","其他險","強制險","總額","件數","車體險","其他險","強制險","總額","件數","車體險","其他險","強制險","總額","件數","車體險","其他險","強制險","總額"]
["營一課",2,20145,36517,2038,58700,6,122767,132842,6813,262422,11,278265,210412,12884,501561,8,373905,215799,10803,600507,27,795082,595570,32538,1423190]
["營二課",1,30561,31122,1138,62821,3,119040,105953,3226,228219,8,263717,200885,9018,473620,18,475075,384617,21783,881475,30,888393,722577,35165,1646135]
["營三課",0,0,0,0,0,7,191764,231626,8230,431620,10,342810,269377,14281,626468,7,203177,187292,6991,397460,24,737751,688295,29502,1455548]
["行銷業務部",0,0,0,0,0,0,0,0,0,0,0,0,0,0,0,0,0,0,0,0,0,0,0,0,0]
["營業部",3,62334,83343,1398,147075,0,0,0,0,0,2,91648,54404,5592,151644,0,0,0,0,0,5,153982,137747,6990,298719]
["總計",{"$f":"SUM(B5:B10)","v":6},113040,150982,4574,268596,16,433571,470421,18269,922261,31,976440,735078,41775,1753293,33,1052157,787708,39577,1879442,86,2575208,2144189,104195,4823592]
[]
[]
[]
[]
[]
["人工統計"]
[]
[null,"台產",null,null,null,null,"富邦",null,null,null,null,"明台",null,null,null,null,"華南",null,null,null,null,"合計"]
["表  部  門","件數","車體險","其他險","強制險","總額","件數","車體險","其他險","強制險","總額","件數","車體險","其他險","強制險","總額","件數","車體險","其他險","強制險","總額","件數","車體險","其他險","強制險","總額"]
["營一課",2,20145,36517,2038,58700,6,122767,132842,6813,262422,11,278265,210412,12884,501561,8,373905,215799,10803,600507,27,795082,595570,32538,1423190]
["營二課",1,30561,31122,1138,62821,3,119040,105953,3226,228219,8,263717,200885,9018,473620,18,475075,384617,21783,881475,30,888393,722577,35165,1646135]
["營三課",null,null,null,null,null,7,191764,231626,8230,431620,10,342810,269377,14281,626468,7,203177,187292,6991,397460,24,737751,688295,29502,1455548]
["營業部",3,62334,83343,1398,147075,null,null,null,null,null,2,91648,54404,5592,151644,null,null,null,null,null,5,153982,137747,6990,298719]
["總計",6,113040,150982,4574,268596,18,433571,470421,18269,922261,31,976440,735078,41775,1753293,33,1052157,787708,39577,1879442,86,2575208,2144189,104195,4823592]

{"sheet":"B.YD-部門續保比率分析表","index":2,"n_rows":13,"n_cols":26,"rows_kept":13,"cut":false,"hidden":false,"merged":[[3,21,3,25],[0,0,0,2],[3,1,3,5],[3,6,3,10],[3,11,3,15],[3,16,3,20]]}
["2014/01月各課續保比率分析表"]
[]
[]
[null,"台產",null,null,null,null,"富邦",null,null,null,null,"明台",null,null,null,null,"華南",null,null,null,null,"合計"]
["課別","件數","車體險","其他險","強制險","總額","件數","車體險","其他險","強制險","總額","件數","車體險","其他險","強制險","總額","件數","車體險","其他險","強制險","總額","件數","車體險","其他險","強制險","總額"]
["營一課",4,79598,69364,4455,153417,7,179184,96518,6274,281976,22,363723,315745,21416,700884,29,478518,464543,31426,974487,62,1101023,946170,63571,2110764]
["營二課",7,182270,156183,7860,346313,7,162902,119827,6512,289241,33,790404,618238,36558,1445200,22,600729,370213,24965,995907,69,1736305,1264461,75895,3076661]
["營三課",8,238371,166885,9347,414603,1,40356,35087,1138,76581,28,761287,492936,30351,1284574,11,177509,134520,12167,324196,48,1217523,829428,53003,2099954]
["行銷業務部",0,0,0,0,0,0,0,0,0,0,0,0,0,0,0,0,0,0,0,0,0,0,0,0,0]
["營業部",0,0,0,0,0,1,43044,3179,1398,47621,0,0,0,0,0,0,0,0,0,0,1,43044,3179,1398,47621]
["服務部",5,56192,35713,5255,97160,0,0,0,0,0,6,173859,72572,6274,252705,10,129842,80576,11792,222210,21,359893,188861,23321,572075]
["STF",3,99945,65501,3086,168532,1,11452,7659,1099,20210,5,70127,53880,5753,129760,13,392870,157659,14073,564602,22,574394,284699,24011,883104]
["總計",{"$f":"SUM(B6:B12)","v":27},656376,493646,30003,1180025,17,436938,262270,16421,715629,94,2159400,1553371,100352,3813123,85,1779468,1207511,94423,3081402,223,5032182,3516798,241199,8790179]

{"sheet":"C.YD-業代新車承保月報表","index":3,"n_rows":44,"n_cols":12,"rows_kept":44,"cut":false,"hidden":false,"merged":[[28,0,37,0],[0,0,0,11],[5,0,14,0],[15,0,15,1],[16,0,26,0],[27,0,27,1],[38,0,38,1],[39,0,39,1],[41,0,41,1],[42,0,42,1],[43,0,43,1]]}
["2014/01月業代新車承保月報表"]
[]
["建議調整成C.正確版版面及程式內容"]
[]
["部門","業務代表","現金台數","租賃台數","車體件數","其他件數","單強制件數","單強制金額","總金額(含強制)","新車承保率","專案保險","含專案承保率"]
["營一課","凌大偉",6,0,2,0,2,2497,123649,{"$f":"ROUND((E6+F6)/(C6-K6),3)","v":0.5},2,{"$f":"ROUND((E6+F6+K6)/C6,3)","v":0.66700000000000004}]
[null,"張健宏",3,0,1,1,0,null,128330,1,1,1]
[null,"梁大民",1,0,0,0,1,1398,1398,0,0,0]
[null,"林柏霖",2,0,2,0,0,null,165719,1,0,1]
[null,"李昀融",2,1,1,0,1,1148,78843,0.5,0,0.5]
[null,"王裕明",3,0,2,1,0,null,177944,1,0,1]
[null,"蘇士文",6,0,3,1,1,1099,165593,0.8,1,0.83299999999999996]
[null,"郭天南",4,0,4,0,0,null,328501,1,0,1]
[null,"花志明",1,2,1,0,0,null,48277,1,0,1]
[null,"陳龍雲",3,1,3,0,0,null,204936,1,0,1]
["營一課 合計",null,{"$f":"SUM(C6:C15)","v":31},4,19,3,5,6142,1423190,{"$f":"ROUND((E16+F16)/C16,3)","v":0.71},{"$f":"SUM(K6:K15)","v":4},0.83899999999999997]
["營二課","張昇文",1,0,1,0,0,null,34125,{"$f":"ROUND((E17+F17)/(C17-K17),3)","v":1},0,1]
[null,"戴子貽",1,0,1,0,0,null,76846,1,0,1]
[null,"林宗慶",2,0,1,0,0,null,49056,1,1,1]
[null,"林政勳",4,0,2,0,2,2796,164852,0.5,0,0.5]
[null,"林陳郎",5,0,4,0,1,889,286264,0.8,0,0.8]
[null,"王冠賢",2,0,1,0,0,null,43618,1,1,1]
[null,"王慶儒",2,0,2,0,0,null,120152,1,0,1]
[null,"謝中堅",5,0,5,0,0,null,341935,1,0,1]
[null,"陳一鋐",5,1,4,0,1,1019,341132,0.8,0,0.8]
[null,"陳維德 ",5,0,2,0,1,1099,111268,0.5,1,0.6]
[null,"莊朝清",3,0,1,1,0,null,76887,1,1,1]
["營二課 合計",null,{"$f":"SUM(C17:C27)","v":35},1,24,1,5,5803,1646135,{"$f":"ROUND((E28+F28)/C28,3)","v":0.71399999999999997},{"$f":"SUM(K17:K27)","v":4},0.82899999999999996]
["營三課","孫茂耀",3,0,3,0,0,null,188168,{"$f":"ROUND((E29+F29)/(C29-K29),3)","v":1},0,1]
[null,"劉家任",4,0,3,0,0,null,238622,0.75,0,0.75]
[null,"林謙慶",4,1,3,0,1,1019,210889,0.75,0,0.75]
[null,"李玄璸",1,0,1,0,0,null,114191,1,0,1]
[null,"簡志勳",1,1,1,0,0,null,61072,1,0,1]
[null,"鄭英彥",4,1,2,1,1,1398,200293,0.75,0,0.75]
[null,"黃盛緯",0,1,0,0,0,null,0,{"$error":"#DIV/0!"},0,{"$error":"#DIV/0!"}]
[null,"賈勇華",5,0,3,1,1,1138,264171,0.8,0,0.8]
[null,"郭力嘉",1,0,1,0,0,null,85506,1,0,1]
[null,"陳禮建",2,0,2,0,0,null,92636,1,0,1]
["營三課 合計",null,{"$f":"SUM(C29:C38)","v":25},4,19,2,3,3555,1455548,{"$f":"ROUND((E39+F39)/C39,3)","v":0.84},{"$f":"SUM(K29:K38)","v":0},0.84]
["行銷業務部 合計"]
["營業部","陳德益",5,0,5,0,0,null,298719,{"$f":"ROUND((E41+F41)/(C41-K41),3)","v":1},0,{"$f":"ROUND((E41+F41+K41)/C41,3)","v":1}]
["營業部 合計",null,{"$f":"SUM(C41:C41)","v":5},0,5,0,0,0,298719,{"$f":"ROUND((E42+F42)/C42,3)","v":1},{"$f":"SUM(K41:K41)","v":0},{"$f":"ROUND((E42+F42+K42)/C42,3)","v":1}]
["其他 合計"]
["總計",null,{"$f":"SUM(C6:C43)/2","v":96},9,67,6,13,15500,4823592,{"$f":"ROUND((E44+F44)/C44,3)","v":0.76},{"$f":"SUM(K6:K43)/2","v":8},{"$f":"ROUND((E44+F44+K44)/C44,3)","v":0.84399999999999997}]

{"sheet":"C.月承保率(正確版)","index":4,"n_rows":56,"n_cols":22,"rows_kept":56,"cut":false,"hidden":false,"merged":[[1,0,1,17],[3,0,4,0],[3,14,4,14],[3,15,4,15],[3,16,4,16],[3,17,4,17]]}
[]
["2014年1月新車承保率統計表（依德）"]
[null,null,null,null,null,null,null,null,null,"投保率<70%",null,null,null,"2014-04-12"]
["業務代業",null,"鋿售台數",null,"車體","其他","強制","合計","專案","新車承保率","新車承保率",null,"承保金額",null,"提撥率","加權\n提撥率","2013年\n第四季\n承保率未達\n60%,八折計","業代獎金",null,null,null,"程式保護"]
[null,"一般(A)","租賃(B)","合計(C)","D","E","F","G","H","含專案((D+E+H)/A)","不含專案((D+E)/(A-H))","單強制","(車體+其他)","總金額",null,null,null,null,null,null,1,"上季達標準值"]
["梁大民",1,0,{"$f":"SUM(B6:C6)","v":1},0,0,1,{"$f":"SUM(E6:G6)","v":1},0,{"$f":"IF(ISERROR(ROUND(($E6+$F6+$I6)/$B6,3)),\"\",ROUND(($E6+$F6+$I6)/$B6,3))","v":0},{"$f":"IF(ISERROR(ROUND(($E6+$F6)/($B6-$I6),3)),\"\",ROUND(($E6+$F6)/($B6-$I6),3))","v":0},1398,{"$f":"N6-L6","v":0},1398,{"$f":"IF($J6<70%,\"0\",IF($J6<75%,\"0.5%\",IF($J6<80%,\"1%\",IF($J6<85%,\"1.25%\",IF($J6<90%,\"1.5%\",IF($J6<95%,\"2%\",IF($J6<101%,\"2.5%\",\"0\")))))))","v":"0"},{"$f":"IF($M6=0,\"0\",IF($M6<300000,\"0.75\",IF($M6<500000,\"1\",IF($M6<750000,\"1.25\",IF($M6<1000000,\"1.5\",IF($M6>1000000,\"1.75\"))))))","v":"0"},{"$f":"$U$5","v":1},{"$f":"ROUND($M6*$O6*$P6*$Q6,0)","v":0}]
["凌大偉",6,0,{"$f":"SUM(B7:C7)","v":6},2,0,2,{"$f":"SUM(E7:G7)","v":4},2,{"$f":"IF(ISERROR(ROUND(($E7+$F7+$I7)/$B7,3)),\"\",ROUND(($E7+$F7+$I7)/$B7,3))","v":0.66700000000000004},{"$f":"IF(ISERROR(ROUND(($E7+$F7)/($B7-$I7),3)),\"\",ROUND(($E7+$F7)/($B7-$I7),3))","v":0.5},2497,{"$f":"N7-L7","v":121152},123649,{"$f":"IF($J7<70%,\"0\",IF($J7<75%,\"0.5%\",IF($J7<80%,\"1%\",IF($J7<85%,\"1.25%\",IF($J7<90%,\"1.5%\",IF($J7<95%,\"2%\",IF($J7<101%,\"2.5%\",\"0\")))))))","v":"0"},{"$f":"IF($M7=0,\"0\",IF($M7<300000,\"0.75\",IF($M7<500000,\"1\",IF($M7<750000,\"1.25\",IF($M7<1000000,\"1.5\",IF($M7>1000000,\"1.75\"))))))","v":"0.75"},{"$f":"$U$5","v":1},{"$f":"ROUND($M7*$O7*$P7*$Q7,0)","v":0}]
["花志明",1,2,3,1,0,0,1,0,1,1,0,48277,48277,"2.5%","0.75",1,905]
["林柏霖",2,0,2,2,0,0,2,0,1,1,0,165719,165719,"2.5%","0.75",1,3107]
["郭天南",4,0,4,4,0,0,4,0,1,1,0,328501,328501,"2.5%","1",1,8213]
["陳龍雲",3,1,4,3,0,0,3,0,1,1,0,204936,204936,"2.5%","0.75",1,3843]
["張健宏",3,0,3,1,1,0,2,1,1,1,0,128330,128330,"2.5%","0.75",1,2406]
["王裕明",3,0,3,2,1,0,3,0,1,1,0,177944,177944,"2.5%","0.75",1,3336]
["蘇士文",6,0,6,3,1,1,5,1,0.83299999999999996,0.8,1099,164494,165593,"1.25%","0.75",1,1542]
["李昀融",2,1,3,1,0,1,2,0,0.5,0.5,1148,77695,78843,"0","0.75",1,0]
["盧培育",null,null,0,null,null,null,0,null,"","",null,0,null,"0","0",1,0]
[null,null,null,{"$f":"SUM(B17:C17)","v":0},null,null,null,0,null,null,null,0,null,{"$f":"VLOOKUP($A17,[1]工作表2!$A$5:$L$37,12,0)","v":{"$error":"#N/A"}},null,null,null,0]
[null,null,null,0,null,null,null,0,null,null,null,0,null,{"$f":"VLOOKUP($A18,[1]工作表2!$A$5:$L$37,12,0)","v":{"$error":"#N/A"}},null,null,null,0]
[null,null,null,0,null,null,null,0,null,null,null,0,null,{"$f":"VLOOKUP($A19,[1]工作表2!$A$5:$L$37,12,0)","v":{"$error":"#N/A"}},null,null,null,0]
["營一課",{"$f":"SUM(B6:B19)","v":31},{"$f":"SUM(C6:C19)","v":4},{"$f":"SUM(D6:D19)","v":35},{"$f":"SUM(E6:E19)","v":19},{"$f":"SUM(F6:F19)","v":3},{"$f":"SUM(G6:G16)","v":5},{"$f":"SUM(H6:H19)","v":27},{"$f":"SUM(I6:I19)","v":4},{"$f":"IF(ISERROR(ROUND(($E20+$F20+$I20)/$B20,3)),\"\",ROUND(($E20+$F20+$I20)/$B20,3))","v":0.83899999999999997},{"$f":"IF(ISERROR(ROUND(($E20+$F20)/($B20-$I20),3)),\"\",ROUND(($E20+$F20)/($B20-$I20),3))","v":0.81499999999999995},{"$f":"SUM(L6:L15)","v":6142},{"$f":"N20-L20","v":1417048},{"$f":"SUM(N6:N15)","v":1423190},null,null,null,{"$f":"SUM(R6:R15)","v":23352}]
["莊朝清",3,0,{"$f":"SUM(B21:C21)","v":3},1,1,0,{"$f":"SUM(E21:G21)","v":2},1,{"$f":"IF(ISERROR(ROUND(($E21+$F21+$I21)/$B21,3)),\"\",ROUND(($E21+$F21+$I21)/$B21,3))","v":1},{"$f":"IF(ISERROR(ROUND(($E21+$F21)/($B21-$I21),3)),\"\",ROUND(($E21+$F21)/($B21-$I21),3))","v":1},0,{"$f":"N21-L21","v":76887},76887,{"$f":"IF($J21<70%,\"0\",IF($J21<75%,\"0.5%\",IF($J21<80%,\"1%\",IF($J21<85%,\"1.25%\",IF($J21<90%,\"1.5%\",IF($J21<95%,\"2%\",IF($J21<101%,\"2.5%\",\"0\")))))))","v":"2.5%"},{"$f":"IF($M21=0,\"0\",IF($M21<300000,\"0.75\",IF($M21<500000,\"1\",IF($M21<750000,\"1.25\",IF($M21<1000000,\"1.5\",IF($M21>1000000,\"1.75\"))))))","v":"0.75"},{"$f":"$U$5","v":1},{"$f":"ROUND($M21*$O21*$P21*$Q21,0)","v":1442}]
["林陳郎",5,0,{"$f":"SUM(B22:C22)","v":5},4,0,1,{"$f":"SUM(E22:G22)","v":5},0,{"$f":"IF(ISERROR(ROUND(($E22+$F22+$I22)/$B22,3)),\"\",ROUND(($E22+$F22+$I22)/$B22,3))","v":0.8},{"$f":"IF(ISERROR(ROUND(($E22+$F22)/($B22-$I22),3)),\"\",ROUND(($E22+$F22)/($B22-$I22),3))","v":0.8},889,{"$f":"N22-L22","v":285375},286264,{"$f":"IF($J22<70%,\"0\",IF($J22<75%,\"0.5%\",IF($J22<80%,\"1%\",IF($J22<85%,\"1.25%\",IF($J22<90%,\"1.5%\",IF($J22<95%,\"2%\",IF($J22<101%,\"2.5%\",\"0\")))))))","v":"1.25%"},{"$f":"IF($M22=0,\"0\",IF($M22<300000,\"0.75\",IF($M22<500000,\"1\",IF($M22<750000,\"1.25\",IF($M22<1000000,\"1.5\",IF($M22>1000000,\"1.75\"))))))","v":"0.75"},{"$f":"$U$5","v":1},{"$f":"ROUND($M22*$O22*$P22*$Q22,0)","v":2675}]
["謝中堅",5,0,5,5,0,0,5,0,1,1,0,341935,341935,"2.5%","1",1,8548]
["王慶儒",2,0,2,2,0,0,2,0,1,1,0,120152,120152,"2.5%","0.75",1,2253]
["張昇文",1,0,1,1,0,0,1,0,1,1,0,34125,34125,"2.5%","0.75",1,640]
["林政勳",4,0,4,2,0,2,4,0,0.5,0.5,2796,162056,164852,"0","0.75",1,0]
["陳維德",5,0,5,2,0,1,3,1,0.6,0.5,1099,110169,111268,"0","0.75",1,0]
["王冠賢",2,0,2,1,0,0,1,1,1,1,0,43618,43618,"2.5%","0.75",1,818]
["陳一鋐",5,1,6,4,0,1,5,0,0.8,0.8,1019,340113,341132,"1.25%","1",1,4251]
["戴子貽",1,0,1,1,0,0,1,0,1,1,0,76846,76846,"2.5%","0.75",1,1441]
["林宗慶",2,0,2,1,0,0,1,1,1,1,0,49056,49056,"2.5%","0.75",1,920]
[null,null,null,null,null,null,null,null,null,null,null,0,null,{"$f":"SUM(L32:M32)","v":0},null,null,null,0]
[null,null,null,null,null,null,null,null,null,null,null,0,null,0,null,null,null,0]
[null,null,null,null,null,null,null,null,null,null,null,0,null,0,null,null,null,0]
["營二課",{"$f":"SUM(B21:B34)","v":35},{"$f":"SUM(C21:C34)","v":1},{"$f":"SUM(D21:D34)","v":36},{"$f":"SUM(E21:E34)","v":24},{"$f":"SUM(F21:F34)","v":1},{"$f":"SUM(G21:G31)","v":5},{"$f":"SUM(H21:H34)","v":30},{"$f":"SUM(I21:I34)","v":4},{"$f":"IF(ISERROR(ROUND(($E35+$F35+$I35)/$B35,3)),\"\",ROUND(($E35+$F35+$I35)/$B35,3))","v":0.82899999999999996},{"$f":"IF(ISERROR(ROUND(($E35+$F35)/($B35-$I35),3)),\"\",ROUND(($E35+$F35)/($B35-$I35),3))","v":0.80600000000000005},{"$f":"SUM(L21:L31)","v":5803},{"$f":"N35-L35","v":1640332},{"$f":"SUM(N21:N31)","v":1646135},null,null,null,{"$f":"SUM(R21:R31)","v":22988}]
["陳禮建",2,0,{"$f":"SUM(B36:C36)","v":2},2,0,0,{"$f":"SUM(E36:G36)","v":2},0,{"$f":"IF(ISERROR(ROUND(($E36+$F36+$I36)/$B36,3)),\"\",ROUND(($E36+$F36+$I36)/$B36,3))","v":1},{"$f":"IF(ISERROR(ROUND(($E36+$F36)/($B36-$I36),3)),\"\",ROUND(($E36+$F36)/($B36-$I36),3))","v":1},0,{"$f":"N36-L36","v":92636},92636,{"$f":"IF($J36<70%,\"0\",IF($J36<75%,\"0.5%\",IF($J36<80%,\"1%\",IF($J36<85%,\"1.25%\",IF($J36<90%,\"1.5%\",IF($J36<95%,\"2%\",IF($J36<101%,\"2.5%\",\"0\")))))))","v":"2.5%"},{"$f":"IF($M36=0,\"0\",IF($M36<300000,\"0.75\",IF($M36<500000,\"1\",IF($M36<750000,\"1.25\",IF($M36<1000000,\"1.5\",IF($M36>1000000,\"1.75\"))))))","v":"0.75"},{"$f":"$U$5","v":1},{"$f":"ROUND($M36*$O36*$P36*$Q36,0)","v":1737}]
["黃盛緯",0,1,{"$f":"SUM(B37:C37)","v":1},0,0,0,{"$f":"SUM(E37:G37)","v":0},0,{"$f":"IF(ISERROR(ROUND(($E37+$F37+$I37)/$B37,3)),\"\",ROUND(($E37+$F37+$I37)/$B37,3))","v":""},{"$f":"IF(ISERROR(ROUND(($E37+$F37)/($B37-$I37),3)),\"\",ROUND(($E37+$F37)/($B37-$I37),3))","v":""},0,{"$f":"N37-L37","v":0},0,{"$f":"IF($J37<70%,\"0\",IF($J37<75%,\"0.5%\",IF($J37<80%,\"1%\",IF($J37<85%,\"1.25%\",IF($J37<90%,\"1.5%\",IF($J37<95%,\"2%\",IF($J37<101%,\"2.5%\",\"0\")))))))","v":"0"},{"$f":"IF($M37=0,\"0\",IF($M37<300000,\"0.75\",IF($M37<500000,\"1\",IF($M37<750000,\"1.25\",IF($M37<1000000,\"1.5\",IF($M37>1000000,\"1.75\"))))))","v":"0"},{"$f":"$U$5","v":1},{"$f":"ROUND($M37*$O37*$P37*$Q37,0)","v":0}]
["簡志勳",1,1,2,1,0,0,1,0,1,1,0,61072,61072,"2.5%","0.75",1,1145]
["賈勇華",5,0,5,3,1,1,5,0,0.8,0.8,1138,263033,264171,"1.25%","0.75",1,2466]
["郭力嘉",1,0,1,1,0,0,1,0,1,1,0,85506,85506,"2.5%","0.75",1,1603]
["鄭英彥",4,1,5,2,1,1,4,0,0.75,0.75,1398,198895,200293,"1%","0.75",1,1492]
["林謙慶",4,1,5,3,0,1,4,0,0.75,0.75,1019,209870,210889,"1%","0.75",1,1574]
["劉家任",4,0,4,3,0,0,3,0,0.75,0.75,0,238622,238622,"1%","0.75",1,1790]
["孫茂耀",3,0,3,3,0,0,3,0,1,1,0,188168,188168,"2.5%","0.75",1,3528]
["林芳明",null,null,0,null,null,null,0,null,"","",null,0,null,"0","0",1,0]
["李玄璸",1,0,1,1,0,0,1,0,1,1,0,114191,114191,"2.5%","0.75",1,2141]
[null,null,null,null,null,null,null,null,null,null,null,0,null,{"$f":"SUM(L47:M47)","v":0},null,null,null,0]
[null,null,null,null,null,null,null,null,null,null,null,0,null,0,null,null,null,0]
[null,null,null,null,null,null,null,null,null,null,null,0,null,0,null,null,null,0]
["營三課",{"$f":"SUM(B36:B49)","v":25},{"$f":"SUM(C36:C49)","v":4},{"$f":"SUM(D36:D49)","v":29},{"$f":"SUM(E36:E49)","v":19},{"$f":"SUM(F36:F49)","v":2},{"$f":"SUM(G36:G46)","v":3},{"$f":"SUM(H36:H49)","v":24},{"$f":"SUM(I36:I49)","v":0},{"$f":"IF(ISERROR(ROUND(($E50+$F50+$I50)/$B50,3)),\"\",ROUND(($E50+$F50+$I50)/$B50,3))","v":0.84},{"$f":"IF(ISERROR(ROUND(($E50+$F50)/($B50-$I50),3)),\"\",ROUND(($E50+$F50)/($B50-$I50),3))","v":0.84},{"$f":"SUM(L36:L46)","v":3555},{"$f":"SUM(M36:M46)","v":1451993},{"$f":"SUM(N36:N46)","v":1455548},null,null,null,{"$f":"SUM(R36:R46)","v":17476}]
["1+2+3課",{"$f":"B20+B35+B50","v":91},{"$f":"C20+C35+C50","v":9},{"$f":"D20+D35+D50","v":100},{"$f":"E20+E35+E50","v":62},{"$f":"F20+F35+F50","v":6},{"$f":"G20+G35+G50","v":13},81,8,{"$f":"IF(ISERROR(ROUND(($E51+$F51+$I51)/$B51,3)),\"\",ROUND(($E51+$F51+$I51)/$B51,3))","v":0.83499999999999996},{"$f":"IF(ISERROR(ROUND(($E51+$F51)/($B51-$I51),3)),\"\",ROUND(($E51+$F51)/($B51-$I51),3))","v":0.81899999999999995},{"$f":"L20+L35+L50","v":15500},{"$f":"M20+M35+M50","v":4509373},{"$f":"N20+N35+N50","v":4524873},{"$f":"O20+O35+O50","v":0},{"$f":"P20+P35+P50","v":0},{"$f":"Q20+Q35+Q50","v":0},{"$f":"R20+R35+R50","v":63816}]
["黃翠暖",null,null,{"$f":"SUM(B52:C52)","v":0},null,null,null,{"$f":"SUM(E52:G52)","v":0},null,{"$f":"IF(ISERROR(ROUND(($E52+$F52+$I52)/$B52,3)),\"\",ROUND(($E52+$F52+$I52)/$B52,3))","v":""},{"$f":"IF(ISERROR(ROUND(($E52+$F52)/($B52-$I52),3)),\"\",ROUND(($E52+$F52)/($B52-$I52),3))","v":""},null,{"$f":"N52-L52","v":0},null,{"$f":"IF($J52<70%,\"0\",IF($J52<75%,\"0.5%\",IF($J52<80%,\"1%\",IF($J52<85%,\"1.25%\",IF($J52<90%,\"1.5%\",IF($J52<95%,\"2%\",IF($J52<101%,\"2.5%\",\"0\")))))))","v":"0"},{"$f":"IF($M52=0,\"0\",IF($M52<300000,\"0.75\",IF($M52<500000,\"1\",IF($M52<750000,\"1.25\",IF($M52<1000000,\"1.5\",IF($M52>1000000,\"1.75\"))))))","v":"0"},1,{"$f":"ROUND($M52*$O52*$P52*$Q52,0)","v":0}]
["陳德益",{"$f":"VLOOKUP($A53,[1]工作表2!$A$5:$J$37,2,0)","v":5},0,{"$f":"SUM(B53:C53)","v":5},{"$f":"VLOOKUP($A53,[1]工作表2!$A$5:$J$37,5,0)","v":5},0,0,{"$f":"SUM(E53:G53)","v":5},0,1,1,0,{"$f":"N53-L53","v":298719},298719,null,null,null,{"$f":"ROUND($M53*$O53*$P53*$Q53,0)","v":0}]
["營業部",{"$f":"SUM(B52:B53)","v":5},0,5,5,0,0,5,0,1,1,{"$f":"SUM(L52:L53)","v":0},{"$f":"SUM(M52:M53)","v":298719},{"$f":"SUM(N52:N53)","v":298719},null,null,null,{"$f":"SUM(R52:R53)","v":0}]
["總     計",{"$f":"B20+B35+B50+B54","v":96},{"$f":"C20+C35+C50+C54","v":9},105,67,6,13,86,8,0.84399999999999997,0.83,{"$f":"L20+L35+L50+L54","v":15500},4808092,{"$f":"SUM(L55:M55)","v":4823592},null,null,null,{"$f":"ROUND($M55*$O55*$P55*$Q55,0)","v":0}]
["不含中央",{"$f":"B55-B54","v":91},{"$f":"C55-C54","v":9},100,62,6,13,81,8,{"$f":"ROUND(($E56+$F56+$I56)/$B56,3)","v":0.83499999999999996},{"$f":"ROUND(($E56+$F56)/($B56-$I56),3)","v":0.81899999999999995},{"$f":"L55-L54","v":15500},{"$f":"M55-M54","v":4509373},{"$f":"N55-N54","v":4524873},null,null,{"$f":"Q20+Q35+Q50","v":0},{"$f":"R20+R35+R50+R52","v":63816}]

{"sheet":"D.YD-業代續保承保月報表","index":5,"n_rows":66,"n_cols":15,"rows_kept":66,"cut":false,"hidden":false,"merged":[[29,0,29,1],[0,0,0,11],[3,10,3,13],[5,0,15,0],[16,0,16,1],[17,0,28,0],[55,0,63,0],[64,0,64,1],[65,0,65,1],[30,0,38,0],[39,0,39,1],[40,0,40,1],[42,0,42,1],[43,0,53,0],[54,0,54,1]]}
["2014/01月業代續保承保分析表"]
[]
[]
[null,null,null,null,null,null,null,null,null,null,"到期件數"]
["課別","業代","車體件數","其他件數","強制件數","總件數","單強制金額","總保費(含強制)","新續","原續","到期件數","單強制","車售","有效件數","續保承保率"]
["營一課","凌大偉",8,5,0,13,null,380282,0,{"$f":"(F6-I6)","v":13},15,1,0,{"$f":"(K6-L6-M6)","v":14},{"$f":"IF(AND(N6=0,(C6+D6)=0),0,((C6+D6)/N6))","v":0.9285714285714286}]
[null,"張哲彰",6,4,0,10,null,313356,0,10,10,0,0,10,1]
[null,"張健宏",4,1,0,5,null,280970,0,5,4,0,0,4,1.25]
[null,"梁大民",3,2,0,5,null,146215,0,5,5,0,0,5,1]
[null,"林柏霖",2,0,0,2,null,143522,0,2,5,2,0,3,0.66666666666666663]
[null,"盧培育",0,0,1,1,1148,1148,1,0,0,0,0,0,0]
[null,"王裕明",7,1,0,8,null,217198,0,8,6,0,0,6,1.3333333333333333]
[null,"蘇士文",0,2,0,2,null,10713,0,2,0,0,0,0,{"$error":"#DIV/0!"}]
[null,"郭天南",8,0,0,8,null,371938,0,8,9,0,1,8,1]
[null,"花志明",4,1,0,5,null,111656,1,4,7,1,0,6,0.83333333333333337]
[null,"陳龍雲",2,1,0,3,null,133766,1,2,3,0,0,3,1]
["營一課 合計",null,{"$f":"SUM(C6:C16)","v":44},17,1,62,1148,2110764,3,59,64,4,1,59,1.0338983050847457]
["營二課","張昇文",9,2,0,11,null,395956,1,{"$f":"(F18-I18)","v":10},15,0,0,{"$f":"(K18-L18-M18)","v":15},0.73333333333333328]
[null,"戴子貽",1,0,0,1,null,78230,0,1,1,0,0,1,1]
[null,"梁志龍",8,1,0,9,null,617038,3,6,10,1,1,8,1.125]
[null,"林宗慶",2,0,0,2,null,45370,2,0,0,0,0,0,{"$error":"#DIV/0!"}]
[null,"林政勳",3,0,1,4,1099,198144,0,4,4,0,0,4,0.75]
[null,"林陳郎",3,3,0,6,null,134511,0,6,7,1,0,6,1]
[null,"王冠賢",2,1,0,3,null,83420,0,3,5,2,0,3,1]
[null,"王慶儒",11,1,0,12,null,565225,1,11,13,1,0,12,1]
[null,"謝中堅",5,4,0,9,null,338497,0,9,11,0,0,11,0.81818181818181823]
[null,"陳一鋐",3,1,0,4,null,198881,0,4,7,0,0,7,0.5714285714285714]
[null,"陳維德",5,0,0,5,null,239828,0,5,9,1,1,7,0.7142857142857143]
[null,"莊朝清",3,0,0,3,null,181561,0,3,3,0,0,3,1]
["營二課 合計",null,{"$f":"SUM(C18:C29)","v":55},13,1,69,1099,3076661,7,62,85,6,2,77,0.88311688311688308]
["營三課","劉家任",3,0,0,3,null,131759,1,{"$f":"(F31-I31)","v":2},1,0,0,{"$f":"(K31-L31-M31)","v":1},3]
[null,"林謙慶",3,0,0,3,null,159913,0,3,3,0,0,3,1]
[null,"簡志勳",4,1,1,6,1099,330368,0,6,9,3,0,6,0.83333333333333337]
[null,"鄭英彥",1,0,0,1,null,81484,0,1,2,0,1,1,1]
[null,"黃盛緯",10,2,1,13,1019,471519,0,13,16,0,0,16,0.75]
[null,"蕭敏聰",3,0,0,3,null,217633,1,2,2,0,0,2,1.5]
[null,"賈勇華",4,1,1,6,1099,224942,0,6,7,0,0,7,0.7142857142857143]
[null,"郭力嘉",6,0,0,6,null,362481,0,6,7,1,0,6,1]
[null,"陳禮建",4,3,0,7,null,119855,0,7,7,0,0,7,1]
["營三課 合計",null,{"$f":"SUM(C31:C39)","v":38},7,3,48,3217,2099954,2,46,54,4,1,49,0.91836734693877553]
["行銷業務部 合計"]
["營業部","陳德益",1,0,0,1,null,47621,1,{"$f":"(F42-I42)","v":0},7,0,6,{"$f":"(K42-L42-M42)","v":1},{"$f":"IF(AND(N42=0,(C42+D42)=0),0,((C42+D42)/N42))","v":1}]
["營業部 合計",null,{"$f":"SUM(C42:C42)","v":1},0,0,1,0,47621,1,0,7,0,6,1,1]
["服務部","周益弘",1,0,0,1,null,34926,0,{"$f":"(F44-I44)","v":1},1,0,0,{"$f":"(K44-L44-M44)","v":1},1]
[null,"洪嘉榮",1,0,0,1,null,66186,0,1,0,0,0,0,{"$error":"#DIV/0!"}]
[null,"林至柔",1,0,0,1,null,64118,0,1,1,0,0,1,1]
[null,"李技霖",1,0,0,1,null,13657,0,1,2,1,0,1,1]
[null,"李百祥",2,0,1,3,1099,60445,1,2,2,0,0,2,1]
[null,"許慶麟",2,1,0,3,null,76038,1,2,2,0,1,1,3]
[null,"黃榮源",3,0,0,3,null,135148,0,3,4,0,1,3,1]
[null,"辜正武",1,0,0,1,null,24557,0,1,1,0,0,1,1]
[null,"陳俊田",1,2,0,3,null,18718,1,2,2,0,0,2,1.5]
[null,"陳勝雄",2,1,0,3,null,61156,0,3,4,0,0,4,0.75]
[null,"陳欽榮",1,0,0,1,null,17126,0,1,0,0,0,0,{"$error":"#DIV/0!"}]
["服務部 合計",null,{"$f":"SUM(C44:C54)","v":16},4,1,21,1099,572075,3,18,19,1,2,16,1.25]
["STF","張湘愉",1,0,0,1,null,42927,0,{"$f":"(F56-I56)","v":1},0,0,0,{"$f":"(K56-L56-M56)","v":0},{"$error":"#DIV/0!"}]
[null,"吳美玲",1,0,0,1,null,25604,1,0,0,0,0,0,{"$error":"#DIV/0!"}]
[null,"林信宗",2,0,0,2,null,100097,0,2,3,0,0,3,0.66666666666666663]
[null,"許嘉航",4,1,0,5,null,290287,0,5,18,2,1,15,0.33333333333333331]
[null,"蔡燕森",2,1,0,3,null,135407,0,3,3,0,0,3,1]
[null,"蔡青勳",1,0,0,1,null,60342,0,1,0,0,0,0,{"$error":"#DIV/0!"}]
[null,"謝宛倫",3,0,0,3,null,122129,0,3,0,0,0,0,{"$error":"#DIV/0!"}]
[null,"陳碧瀛",3,1,1,5,1099,105173,1,4,7,3,0,4,1]
[null,"陳美杏",0,0,1,1,1138,1138,0,1,1,1,0,0,0]
["STF 合計",null,{"$f":"SUM(C56:C64)","v":17},3,2,22,2237,883104,2,20,32,6,1,25,0.8]
["總計",null,{"$f":"SUM(C6:C65)/2","v":171},44,8,223,8800,8790179,18,205,261,21,13,227,{"$f":"((C66+D66)/N66)","v":0.94713656387665202}]

{"sheet":"E.Sheet1(檔名未更新)","index":6,"n_rows":80,"n_cols":15,"rows_kept":80,"cut":false,"hidden":false,"merged":[[2,11,2,12],[2,13,2,14],[18,0,19,0],[18,1,18,2],[18,3,18,4],[18,5,18,6],[18,7,18,8],[18,9,18,10],[18,11,18,12],[18,13,18,14],[2,0,3,0],[2,1,2,2],[2,3,2,4],[2,5,2,6],[2,7,2,8],[2,9,2,10],[34,11,34,12],[34,13,34,14],[50,0,51,0],[50,1,50,2],[50,3,50,4],[50,5,50,6],[50,7,50,8],[50,9,50,10],[50,11,50,12],[50,13,50,14],[34,0,35,0],[34,1,34,2],[34,3,34,4],[34,5,34,6],[34,7,34,8],[34,9,34,10],[66,11,66,12],[66,13,66,14],[66,0,67,0],[66,1,66,2],[66,3,66,4],[66,5,66,6],[66,7,66,8],[66,9,66,10]]}
["2014/01月保險承保同期比較分析表"]
[]
["台灣產物","2013/01",null,"2014/01",null,"成長%",null,"2013/(1-01)",null,"2014/(1-01)",null,"累積成長%",null,"2014各保險公司累積佔比"]
[null,"件數","金額","件數","金額","件數","金額","件數","金額","件數","金額","件數","金額","件數","金額"]
["車體",14,1029502,5,254299,{"$f":"(D5-B5)/B5","v":-0.6428571428571429},{"$f":"(E5-C5)/C5","v":-0.75298833805082455},14,1029502,5,254299,{"$f":"(J5-H5)/H5","v":-0.6428571428571429},{"$f":"(K5-I5)/I5","v":-0.75298833805082455}]
["其他",0,0,1,17093,null,null,0,0,1,17093]
["單強制",3,3336,0,0,null,null,3,3336,0,0]
["新保",{"$f":"SUM(B5:B7)","v":17},{"$f":"SUM(C5:C7)","v":1032838},{"$f":"SUM(D5:D7)","v":6},{"$f":"SUM(E5:E7)","v":271392},{"$f":"(D8-B8)/B8","v":-0.6470588235294118},{"$f":"(E8-C8)/C8","v":-0.73723662374931986},{"$f":"SUM(H5:H7)","v":17},{"$f":"SUM(I5:I7)","v":1032838},{"$f":"SUM(J5:J7)","v":6},{"$f":"SUM(K5:K7)","v":271392},{"$f":"(J8-H8)/H8","v":-0.6470588235294118},{"$f":"(K8-I8)/I8","v":-0.73723662374931986},{"$f":"(J8/J72)","v":6.9767441860465115E-2},{"$f":"(K8/K72)","v":5.6263465069184955E-2}]
["車體",21,1187103,24,1166980,{"$f":"(D9-B9)/B9","v":0.14285714285714285},{"$f":"(E9-C9)/C9","v":-1.6951351314923809E-2},21,1187103,24,1166980,{"$f":"(J9-H9)/H9","v":0.14285714285714285},{"$f":"(K9-I9)/I9","v":-1.6951351314923809E-2}]
["其他",5,46480,3,13045,null,null,5,46480,3,13045]
["單強制",0,0,0,0,null,null,0,0,0,0]
["續保",{"$f":"SUM(B9:B11)","v":26},{"$f":"SUM(C9:C11)","v":1233583},{"$f":"SUM(D9:D11)","v":27},{"$f":"SUM(E9:E11)","v":1180025},{"$f":"(D12-B12)/B12","v":3.8461538461538464E-2},{"$f":"(E12-C12)/C12","v":-4.3416616474124564E-2},{"$f":"SUM(H9:H11)","v":26},{"$f":"SUM(I9:I11)","v":1233583},{"$f":"SUM(J9:J11)","v":27},{"$f":"SUM(K9:K11)","v":1180025},{"$f":"(J12-H12)/H12","v":3.8461538461538464E-2},{"$f":"(K12-I12)/I12","v":-4.3416616474124564E-2},{"$f":"(J12/J76)","v":0.1210762331838565},{"$f":"(K12/K76)","v":0.13424356887385341}]
["車體",{"$f":"(B5+B9)","v":35},2216605,29,1421279,{"$f":"(D13-B13)/B13","v":-0.17142857142857143},{"$f":"(E13-C13)/C13","v":-0.3588036659666472},{"$f":"(H5+H9)","v":35},2216605,29,1421279,{"$f":"(J13-H13)/H13","v":-0.17142857142857143},{"$f":"(K13-I13)/I13","v":-0.3588036659666472}]
["其他",5,46480,4,30138,null,null,5,46480,4,30138]
["單強制",3,3336,0,0,null,null,3,3336,0,0]
["總計",{"$f":"SUM(B13:B15)","v":43},{"$f":"SUM(C13:C15)","v":2266421},{"$f":"SUM(D13:D15)","v":33},{"$f":"SUM(E13:E15)","v":1451417},{"$f":"(D16-B16)/B16","v":-0.23255813953488372},{"$f":"(E16-C16)/C16","v":-0.35959956248199254},{"$f":"SUM(H13:H15)","v":43},{"$f":"SUM(I13:I15)","v":2266421},{"$f":"SUM(J13:J15)","v":33},{"$f":"SUM(K13:K15)","v":1451417},{"$f":"(J16-H16)/H16","v":-0.23255813953488372},{"$f":"(K16-I16)/I16","v":-0.35959956248199254},{"$f":"(J16/J80)","v":0.10679611650485436},{"$f":"(K16/K80)","v":0.10661388383865132}]
[]
[]
["明台產物","2013/01",null,"2014/01",null,"成長%",null,"2013/(1-01)",null,"2014/(1-01)",null,"累積成長%",null,"2014各保險公司累積佔比"]
[null,"件數","金額","件數","金額","件數","金額","件數","金額","件數","金額","件數","金額","件數","金額"]
["車體",31,2571742,24,1704184,{"$f":"(D21-B21)/B21","v":-0.22580645161290322},{"$f":"(E21-C21)/C21","v":-0.33734254835827232},31,2571742,24,1704184,{"$f":"(J21-H21)/H21","v":-0.22580645161290322},{"$f":"(K21-I21)/I21","v":-0.33734254835827232}]
["其他",1,6380,3,39872,null,null,1,6380,3,39872]
["單強制",4,5002,4,5043,null,null,4,5002,4,5043]
["新保",{"$f":"SUM(B21:B23)","v":36},{"$f":"SUM(C21:C23)","v":2583124},{"$f":"SUM(D21:D23)","v":31},{"$f":"SUM(E21:E23)","v":1749099},{"$f":"(D24-B24)/B24","v":-0.1388888888888889},{"$f":"(E24-C24)/C24","v":-0.32287455035066065},{"$f":"SUM(H21:H23)","v":36},{"$f":"SUM(I21:I23)","v":2583124},{"$f":"SUM(J21:J23)","v":31},{"$f":"SUM(K21:K23)","v":1749099},{"$f":"(J24-H24)/H24","v":-0.1388888888888889},{"$f":"(K24-I24)/I24","v":-0.32287455035066065},{"$f":"(J24/J72)","v":0.36046511627906974},{"$f":"(K24/K72)","v":0.36261338023613937}]
["車體",62,3304563,71,3676986,{"$f":"(D25-B25)/B25","v":0.14516129032258066},{"$f":"(E25-C25)/C25","v":0.11269962170489714},62,3304563,71,3676986,{"$f":"(J25-H25)/H25","v":0.14516129032258066},{"$f":"(K25-I25)/I25","v":0.11269962170489714}]
["其他",22,228772,17,129535,null,null,22,228772,17,129535]
["單強制",6,6592,6,6602,null,null,6,6592,6,6602]
["續保",{"$f":"SUM(B25:B27)","v":90},{"$f":"SUM(C25:C27)","v":3539927},{"$f":"SUM(D25:D27)","v":94},{"$f":"SUM(E25:E27)","v":3813123},{"$f":"(D28-B28)/B28","v":4.4444444444444446E-2},{"$f":"(E28-C28)/C28","v":7.7175602773729521E-2},{"$f":"SUM(H25:H27)","v":90},{"$f":"SUM(I25:I27)","v":3539927},{"$f":"SUM(J25:J27)","v":94},{"$f":"SUM(K25:K27)","v":3813123},{"$f":"(J28-H28)/H28","v":4.4444444444444446E-2},{"$f":"(K28-I28)/I28","v":7.7175602773729521E-2},{"$f":"(J28/J76)","v":0.42152466367713004},{"$f":"(K28/K76)","v":0.43379355528482411}]
["車體",{"$f":"(B21+B25)","v":93},5876305,95,5381170,{"$f":"(D29-B29)/B29","v":2.1505376344086023E-2},{"$f":"(E29-C29)/C29","v":-8.4259581488707616E-2},{"$f":"(H21+H25)","v":93},5876305,95,5381170,{"$f":"(J29-H29)/H29","v":2.1505376344086023E-2},{"$f":"(K29-I29)/I29","v":-8.4259581488707616E-2}]
["其他",23,235152,20,169407,null,null,23,235152,20,169407]
["單強制",10,11594,10,11645,null,null,10,11594,10,11645]
["總計",{"$f":"SUM(B29:B31)","v":126},{"$f":"SUM(C29:C31)","v":6123051},{"$f":"SUM(D29:D31)","v":125},{"$f":"SUM(E29:E31)","v":5562222},{"$f":"(D32-B32)/B32","v":-7.9365079365079361E-3},{"$f":"(E32-C32)/C32","v":-9.1593063654050899E-2},{"$f":"SUM(H29:H31)","v":126},{"$f":"SUM(I29:I31)","v":6123051},{"$f":"SUM(J29:J31)","v":125},{"$f":"SUM(K29:K31)","v":5562222},{"$f":"(J32-H32)/H32","v":-7.9365079365079361E-3},{"$f":"(K32-I32)/I32","v":-9.1593063654050899E-2},{"$f":"(J32/J80)","v":0.4045307443365696},{"$f":"(K32/K80)","v":0.40857320135618558}]
[]
[]
["華南產物","2013/01",null,"2014/01",null,"成長%",null,"2013/(1-01)",null,"2014/(1-01)",null,"累積成長%",null,"2014各保險公司累積佔比"]
[null,"件數","金額","件數","金額","件數","金額","件數","金額","件數","金額","件數","金額","件數","金額"]
["車體",21,1451876,25,1836038,{"$f":"(D37-B37)/B37","v":0.19047619047619047},{"$f":"(E37-C37)/C37","v":0.26459697660130754},21,1451876,25,1836038,{"$f":"(J37-H37)/H37","v":0.19047619047619047},{"$f":"(K37-I37)/I37","v":0.26459697660130754}]
["其他",2,19383,2,37861,null,null,2,19383,2,37861]
["單強制",5,5474,6,6941,null,null,5,5474,6,6941]
["新保",{"$f":"SUM(B37:B39)","v":28},{"$f":"SUM(C37:C39)","v":1476733},{"$f":"SUM(D37:D39)","v":33},{"$f":"SUM(E37:E39)","v":1880840},{"$f":"(D40-B40)/B40","v":0.17857142857142858},{"$f":"(E40-C40)/C40","v":0.27364933268234676},{"$f":"SUM(H37:H39)","v":28},{"$f":"SUM(I37:I39)","v":1476733},{"$f":"SUM(J37:J39)","v":33},{"$f":"SUM(K37:K39)","v":1880840},{"$f":"(J40-H40)/H40","v":0.17857142857142858},{"$f":"(K40-I40)/I40","v":0.27364933268234676},{"$f":"(J40/J72)","v":0.38372093023255816},{"$f":"(K40/K72)","v":0.38992518438541235}]
["車體",44,2249228,59,2957392,{"$f":"(D41-B41)/B41","v":0.34090909090909088},{"$f":"(E41-C41)/C41","v":0.31484758325967843},44,2249228,59,2957392,{"$f":"(J41-H41)/H41","v":0.34090909090909088},{"$f":"(K41-I41)/I41","v":0.31484758325967843}]
["其他",24,134751,24,121812,null,null,24,134751,24,121812]
["單強制",3,3217,2,2198,null,null,3,3217,2,2198]
["續保",{"$f":"SUM(B41:B43)","v":71},{"$f":"SUM(C41:C43)","v":2387196},{"$f":"SUM(D41:D43)","v":85},{"$f":"SUM(E41:E43)","v":3081402},{"$f":"(D44-B44)/B44","v":0.19718309859154928},{"$f":"(E44-C44)/C44","v":0.29080393901464313},{"$f":"SUM(H41:H43)","v":71},{"$f":"SUM(I41:I43)","v":2387196},{"$f":"SUM(J41:J43)","v":85},{"$f":"SUM(K41:K43)","v":3081402},{"$f":"(J44-H44)/H44","v":0.19718309859154928},{"$f":"(K44-I44)/I44","v":0.29080393901464313},{"$f":"(J44/J76)","v":0.3811659192825112},{"$f":"(K44/K76)","v":0.35055054055213208}]
["車體",{"$f":"(B37+B41)","v":65},3701104,84,4793430,{"$f":"(D45-B45)/B45","v":0.29230769230769232},{"$f":"(E45-C45)/C45","v":0.29513518128644861},{"$f":"(H37+H41)","v":65},3701104,84,4793430,{"$f":"(J45-H45)/H45","v":0.29230769230769232},{"$f":"(K45-I45)/I45","v":0.29513518128644861}]
["其他",26,154134,26,159673,null,null,26,154134,26,159673]
["單強制",8,8691,8,9139,null,null,8,8691,8,9139]
["總計",{"$f":"SUM(B45:B47)","v":99},{"$f":"SUM(C45:C47)","v":3863929},{"$f":"SUM(D45:D47)","v":118},{"$f":"SUM(E45:E47)","v":4962242},{"$f":"(D48-B48)/B48","v":0.19191919191919191},{"$f":"(E48-C48)/C48","v":0.2842477178022681},{"$f":"SUM(H45:H47)","v":99},{"$f":"SUM(I45:I47)","v":3863929},{"$f":"SUM(J45:J47)","v":118},{"$f":"SUM(K45:K47)","v":4962242},{"$f":"(J48-H48)/H48","v":0.19191919191919191},{"$f":"(K48-I48)/I48","v":0.2842477178022681},{"$f":"(J48/J80)","v":0.3818770226537217},{"$f":"(K48/K80)","v":0.36450165057132222}]
[]
[]
["富邦產物","2013/01",null,"2014/01",null,"成長%",null,"2013/(1-01)",null,"2014/(1-01)",null,"累積成長%",null,"2014各保險公司累積佔比"]
[null,"件數","金額","件數","金額","件數","金額","件數","金額","件數","金額","件數","金額","件數","金額"]
["車體",10,787468,13,918745,{"$f":"(D53-B53)/B53","v":0.3},{"$f":"(E53-C53)/C53","v":0.1667077265361894},10,787468,13,918745,{"$f":"(J53-H53)/H53","v":0.3},{"$f":"(K53-I53)/I53","v":0.1667077265361894}]
["其他",0,0,0,0,null,null,0,0,0,0]
["單強制",1,1148,3,3516,null,null,1,1148,3,3516]
["新保",{"$f":"SUM(B53:B55)","v":11},{"$f":"SUM(C53:C55)","v":788616},{"$f":"SUM(D53:D55)","v":16},{"$f":"SUM(E53:E55)","v":922261},{"$f":"(D56-B56)/B56","v":0.45454545454545453},{"$f":"(E56-C56)/C56","v":0.16946777645901173},{"$f":"SUM(H53:H55)","v":11},{"$f":"SUM(I53:I55)","v":788616},{"$f":"SUM(J53:J55)","v":16},{"$f":"SUM(K53:K55)","v":922261},{"$f":"(J56-H56)/H56","v":0.45454545454545453},{"$f":"(K56-I56)/I56","v":0.16946777645901173},{"$f":"(J56/J72)","v":0.18604651162790697},{"$f":"(K56/K72)","v":0.1911979703092633}]
["車體",6,176509,17,715629,{"$f":"(D57-B57)/B57","v":1.8333333333333333},{"$f":"(E57-C57)/C57","v":3.0543485034757434},6,176509,17,715629,{"$f":"(J57-H57)/H57","v":1.8333333333333333},{"$f":"(K57-I57)/I57","v":3.0543485034757434}]
["其他",1,4373,0,0,null,null,1,4373,0,0]
["單強制",1,1099,0,0,null,null,1,1099,0,0]
["續保",{"$f":"SUM(B57:B59)","v":8},{"$f":"SUM(C57:C59)","v":181981},{"$f":"SUM(D57:D59)","v":17},{"$f":"SUM(E57:E59)","v":715629},{"$f":"(D60-B60)/B60","v":1.125},{"$f":"(E60-C60)/C60","v":2.9324380017694156},{"$f":"SUM(H57:H59)","v":8},{"$f":"SUM(I57:I59)","v":181981},{"$f":"SUM(J57:J59)","v":17},{"$f":"SUM(K57:K59)","v":715629},{"$f":"(J60-H60)/H60","v":1.125},{"$f":"(K60-I60)/I60","v":2.9324380017694156},{"$f":"(J60/J76)","v":7.623318385650224E-2},{"$f":"(K60/K76)","v":8.1412335289190355E-2}]
["車體",{"$f":"(B53+B57)","v":16},963977,30,1634374,{"$f":"(D61-B61)/B61","v":0.875},{"$f":"(E61-C61)/C61","v":0.69544916528091438},{"$f":"(H53+H57)","v":16},963977,30,1634374,{"$f":"(J61-H61)/H61","v":0.875},{"$f":"(K61-I61)/I61","v":0.69544916528091438}]
["其他",1,4373,0,0,null,null,1,4373,0,0]
["單強制",2,2247,3,3516,null,null,2,2247,3,3516]
["總計",{"$f":"SUM(B61:B63)","v":19},{"$f":"SUM(C61:C63)","v":970597},{"$f":"SUM(D61:D63)","v":33},{"$f":"SUM(E61:E63)","v":1637890},{"$f":"(D64-B64)/B64","v":0.73684210526315785},{"$f":"(E64-C64)/C64","v":0.68750779159630615},{"$f":"SUM(H61:H63)","v":19},{"$f":"SUM(I61:I63)","v":970597},{"$f":"SUM(J61:J63)","v":33},{"$f":"SUM(K61:K63)","v":1637890},{"$f":"(J64-H64)/H64","v":0.73684210526315785},{"$f":"(K64-I64)/I64","v":0.68750779159630615},{"$f":"(J64/J80)","v":0.10679611650485436},{"$f":"(K64/K80)","v":0.12031126423384086}]
[]
[]
["總計","2013/01",null,"2014/01",null,"成長%",null,"2013/(1-01)",null,"2014/(1-01)",null,"累積成長%",null,"2014各保險公司累積佔比"]
[null,"件數","金額","件數","金額","件數","金額","件數","金額","件數","金額","件數","金額","件數","金額"]
["車體",76,5840588,67,4713266,{"$f":"(D69-B69)/B69","v":-0.11842105263157894},{"$f":"(E69-C69)/C69","v":-0.19301515532340238},76,5840588,67,4713266,{"$f":"(J69-H69)/H69","v":-0.11842105263157894},{"$f":"(K69-I69)/I69","v":-0.19301515532340238}]
["其他",3,25763,6,94826,null,null,3,25763,6,94826]
["單強制",13,14960,13,15500,null,null,13,14960,13,15500]
["新保",{"$f":"SUM(B69:B71)","v":92},{"$f":"SUM(C69:C71)","v":5881311},{"$f":"SUM(D69:D71)","v":86},{"$f":"SUM(E69:E71)","v":4823592},{"$f":"(D72-B72)/B72","v":-6.5217391304347824E-2},{"$f":"(E72-C72)/C72","v":-0.17984408578291472},{"$f":"SUM(H69:H71)","v":92},{"$f":"SUM(I69:I71)","v":5881311},{"$f":"SUM(J69:J71)","v":86},{"$f":"SUM(K69:K71)","v":4823592},{"$f":"(J72-H72)/H72","v":-6.5217391304347824E-2},{"$f":"(K72-I72)/I72","v":-0.17984408578291472},{"$f":"(J72/J80)","v":0.27831715210355989},{"$f":"(K72/K80)","v":0.35431711022610857}]
["車體",133,6917403,171,8516987,{"$f":"(D73-B73)/B73","v":0.2857142857142857},{"$f":"(E73-C73)/C73","v":0.2312405392601819},133,6917403,171,8516987,{"$f":"(J73-H73)/H73","v":0.2857142857142857},{"$f":"(K73-I73)/I73","v":0.2312405392601819}]
["其他",52,414376,44,264392,null,null,52,414376,44,264392]
["單強制",10,10908,8,8800,null,null,10,10908,8,8800]
["續保",{"$f":"SUM(B73:B75)","v":195},{"$f":"SUM(C73:C75)","v":7342687},{"$f":"SUM(D73:D75)","v":223},{"$f":"SUM(E73:E75)","v":8790179},{"$f":"(D76-B76)/B76","v":0.14358974358974358},{"$f":"(E76-C76)/C76","v":0.19713382852898401},{"$f":"SUM(H73:H75)","v":195},{"$f":"SUM(I73:I75)","v":7342687},{"$f":"SUM(J73:J75)","v":223},{"$f":"SUM(K73:K75)","v":8790179},{"$f":"(J76-H76)/H76","v":0.14358974358974358},{"$f":"(K76-I76)/I76","v":0.19713382852898401},{"$f":"(J76/J80)","v":0.72168284789644011},{"$f":"(K76/K80)","v":0.64568288977389143}]
["車體",{"$f":"(B69+B73)","v":209},12757991,238,13230253,{"$f":"(D77-B77)/B77","v":0.13875598086124402},{"$f":"(E77-C77)/C77","v":3.7016956666609972E-2},{"$f":"(H69+H73)","v":209},12757991,238,13230253,{"$f":"(J77-H77)/H77","v":0.13875598086124402},{"$f":"(K77-I77)/I77","v":3.7016956666609972E-2}]
["其他",55,440139,50,359218,null,null,55,440139,50,359218]
["單強制",23,25868,21,24300,null,null,23,25868,21,24300]
["總計",{"$f":"SUM(B77:B79)","v":287},{"$f":"SUM(C77:C79)","v":13223998},{"$f":"SUM(D77:D79)","v":309},{"$f":"SUM(E77:E79)","v":13613771},{"$f":"(D80-B80)/B80","v":7.6655052264808357E-2},{"$f":"(E80-C80)/C80","v":2.9474671729381688E-2},{"$f":"SUM(H77:H79)","v":287},{"$f":"SUM(I77:I79)","v":13223998},{"$f":"SUM(J77:J79)","v":309},{"$f":"SUM(K77:K79)","v":13613771},{"$f":"(J80-H80)/H80","v":7.6655052264808357E-2},{"$f":"(K80-I80)/I80","v":2.9474671729381688E-2},{"$f":"(J80/J80)","v":1},{"$f":"(K80/K80)","v":1}]

{"sheet":"F.Sheet1(檔名未更新)","index":7,"n_rows":64,"n_cols":18,"rows_kept":64,"cut":false,"hidden":false,"merged":[[2,11,2,12],[0,0,0,3],[2,1,2,2],[2,3,2,4],[2,7,2,8],[2,9,2,10],[12,1,12,2],[12,3,12,4],[12,7,12,8],[12,9,12,10],[12,11,12,12],[9,1,9,2],[9,3,9,4],[9,7,9,8],[9,9,9,10],[9,11,9,12],[55,14,55,17],[22,1,22,2],[22,3,22,4],[22,7,22,8],[22,9,22,10],[22,11,22,12],[55,1,55,2],[55,3,55,6],[55,8,55,9],[55,10,55,13]]}
["2014/01月新車銷售台數及新續保承保狀態分析"]
[]
["新車銷售","2013/01",null,"2014/01",null,null,null,"2013/(1-01)",null,"2014/(1-01)",null,"累積成長%"]
["掛牌數","一般","租賃","一般","租賃",null,null,"一般","租賃","一般","租賃","一般","租賃"]
["一課",25,10,31,4,null,null,25,10,31,4,{"$f":"((J5-H5)/H5)","v":0.24},-0.6]
["二課",33,3,35,1,null,null,33,3,35,1,6.0606060606060608E-2,-0.66666666666666663]
["三課",17,4,25,4,null,null,17,4,25,4,0.47058823529411764,0]
["營中央/其他",2,0,5,0,null,null,2,0,5,0,1.5,{"$error":"#DIV/0!"}]
["小計",{"$f":"SUM(B5:B8)","v":77},{"$f":"SUM(C5:C8)","v":17},{"$f":"SUM(D5:D8)","v":96},{"$f":"SUM(E5:E8)","v":9},null,null,{"$f":"SUM(H5:H8)","v":77},{"$f":"SUM(I5:I8)","v":17},{"$f":"SUM(J5:J8)","v":96},{"$f":"SUM(K5:K8)","v":9},0.24675324675324675,-0.47058823529411764]
["合計",{"$f":"(B9+C9)","v":94},null,{"$f":"(D9+E9)","v":105},null,null,null,{"$f":"(H9+I9)","v":94},null,{"$f":"(J9+K9)","v":105},null,{"$f":"((J10-H10)/H10)","v":0.11702127659574468}]
[]
[]
["新保","2013/01",null,"2014/01",null,null,null,"2013/(1-01)",null,"2014/(1-01)",null,"累積成長%"]
[null,"件數","承保率","件數","承保率",null,null,"件數","承保率","件數","承保率","件數","承保率"]
["應保台數",{"$f":"(B10-C9)","v":77},null,{"$f":"(D10-E9)","v":96},null,null,null,{"$f":"(H10-I9)","v":77},null,{"$f":"(J10-K9)","v":96},null,{"$f":"(J15-H15)","v":19}]
["車體",76,{"$f":"(B16/B15)","v":0.98701298701298701},67,{"$f":"(D16/D15)","v":0.69791666666666663},null,null,76,{"$f":"(H16/H15)","v":0.98701298701298701},67,{"$f":"(J16/J15)","v":0.69791666666666663},{"$f":"(J16-H16)","v":-9},{"$f":"((J16-H16)/H16)","v":-0.11842105263157894}]
["其他",3,{"$f":"(B17/B15)","v":3.896103896103896E-2},6,{"$f":"(D17/D15)","v":6.25E-2},null,null,3,{"$f":"(H17/H15)","v":3.896103896103896E-2},6,{"$f":"(J17/J15)","v":6.25E-2},{"$f":"(J17-H17)","v":3},{"$f":"((J17-H17)/H17)","v":1}]
["單保強制",13,{"$f":"(B18/B15)","v":0.16883116883116883},13,{"$f":"(D18/D15)","v":0.13541666666666666},null,null,13,{"$f":"(H18/H15)","v":0.16883116883116883},13,{"$f":"(J18/J15)","v":0.13541666666666666},{"$f":"(J18-H18)","v":0},{"$f":"((J18-H18)/H18)","v":0}]
["車體+其他"]
["全部承保件",{"$f":"SUM(B16:B18)","v":92},{"$f":"(B20/B15)","v":1.1948051948051948},{"$f":"SUM(D16:D19)","v":86},{"$f":"(D20/D15)","v":0.89583333333333337},null,null,{"$f":"SUM(H16:H18)","v":92},{"$f":"(H20/H15)","v":1.1948051948051948},{"$f":"SUM(J16:J18)","v":86},{"$f":"(J20/J15)","v":0.89583333333333337},{"$f":"(J20-H20)","v":-6},{"$f":"((J20-H20)/H20)","v":-6.5217391304347824E-2}]
[]
[]
["續保","2013/01",null,"2014/01",null,null,null,"2013/(1-01)",null,"2014/(1-01)",null,"累積成長%"]
[null,"件數","承保率","件數","承保率",null,null,"件數","承保率","件數","承保率","件數","承保率"]
["原總續保單(不含單強)",204,null,269,null,null,null,204,null,269,null,{"$f":"(J25-H25)","v":65},{"$f":"((J25-H25)/H25)","v":0.31862745098039214}]
["總承保件數(不含新續件)",195,{"$f":"(B26/B25)","v":0.95588235294117652},205,{"$f":"(D26/D25)","v":0.76208178438661711},null,null,195,{"$f":"(H26/H25)","v":0.95588235294117652},205,{"$f":"(J26/J25)","v":0.76208178438661711},10,5.128205128205128E-2]
["原車體續保單",211,null,244,null,null,null,211,null,244,null,33,0.15639810426540285]
["原車體承保件",133,{"$f":"(B28/B27)","v":0.63033175355450233},171,{"$f":"(D28/D27)","v":0.70081967213114749},null,null,133,{"$f":"(H28/H27)","v":0.63033175355450233},171,{"$f":"(J28/J27)","v":0.70081967213114749},38,0.2857142857142857]
["車輛轉售",13,null,3,null,null,null,13,null,3,null,-10,-0.76923076923076927]
["不含車售續保率",{"$f":"(B25-B29)","v":191},{"$f":"(B26/B30)","v":1.0209424083769634},{"$f":"(D25-D29)","v":266},{"$f":"(D26/D30)","v":0.77067669172932329},null,null,{"$f":"(H25-H29)","v":191},{"$f":"(H26/H30)","v":1.0209424083769634},{"$f":"(J25-J29)","v":266},{"$f":"(J26/J30)","v":0.77067669172932329},75,0.39267015706806285]
["含新續件承保率",{"$f":"(B26+B32)","v":195},{"$f":"(B31/B25)","v":0.95588235294117652},{"$f":"(D26+D32)","v":223},{"$f":"(D31/D25)","v":0.82899628252788105},null,null,{"$f":"(H26+H32)","v":195},{"$f":"(H31/H25)","v":0.95588235294117652},{"$f":"(J26+J32)","v":223},{"$f":"(J31/J25)","v":0.82899628252788105},28,0.14358974358974358]
["新續件",0,null,18,null,null,null,0,null,18,null,18,{"$error":"#DIV/0!"}]
["(一般)",{"$f":"(B32-B34)","v":-1},null,{"$f":"(D32-D34)","v":16},null,null,null,{"$f":"(H32-H34)","v":-1},null,{"$f":"(J32-J34)","v":16},null,17,-17]
["(租賃到期)",1,null,2,null,null,null,1,null,2,null,1,1]
[]
[]
[]
[]
[]
[]
[]
[]
[]
["2014/1新車銷售台數及新續保承保狀況分析"]
[]
["新車銷售",null,"2013-01-01",null,null,"2014-01-01",null,null,null,"2013-01-01",null,null,"2014-01-01",null,null,"累積成長%"]
["掛牌數","一般","租賃","專案","一般","租賃","專案",null,"一般","租賃","專案","一般","租賃","專案","一般","租賃","專案"]
["一課",27,9,0,31,4,4,null,27,9,null,{"$f":"E48","v":31},{"$f":"F48","v":4},{"$f":"G48","v":4},{"$f":"(L48-I48)/I48","v":0.14814814814814814},{"$f":"(M48-J48)/J48","v":-0.55555555555555558},{"$f":"(N48-K48)/K48","v":{"$error":"#DIV/0!"}}]
["二課",33,2,0,35,1,4,null,33,2,null,{"$f":"E49","v":35},1,{"$f":"G49","v":4},{"$f":"(L49-I49)/I49","v":6.0606060606060608E-2},-0.5,{"$error":"#DIV/0!"}]
["三課",18,3,0,25,4,0,null,18,3,null,25,4,0,0.3888888888888889,0.33333333333333331,{"$error":"#DIV/0!"}]
["營中央/其他",2,0,0,5,null,0,null,2,0,null,5,0,{"$f":"F51","v":0},1.5,{"$error":"#DIV/0!"},{"$error":"#DIV/0!"}]
["小計",80,14,{"$f":"SUM(D48:D51)","v":0},{"$f":"SUM(E48:E51)","v":96},{"$f":"SUM(F48:F51)","v":9},{"$f":"SUM(G48:G51)","v":8},null,80,14,null,{"$f":"SUM(L48:L51)","v":96},{"$f":"SUM(M48:M51)","v":9},{"$f":"SUM(N48:N51)","v":8},0.2,-0.35714285714285715,{"$f":"(N52-K52)/K52","v":{"$error":"#DIV/0!"}}]
["合計",94,null,{"$f":"D52","v":0},{"$f":"E52+F52","v":105},null,{"$f":"G52","v":8},null,94,null,null,{"$f":"L52+M52","v":105},null,{"$f":"N52","v":8},{"$f":"(L53-I53)/I53","v":0.11702127659574468}]
[]
[]
["新保","2013-01-01",null,"2014-01-01",null,null,null,null,"2013-01-01",null,"2014-01-01",null,null,null,"累積成長%"]
[null,"件數","承保率","件數(不含專案)","承保率","件數(含專案)","承保率",null,"件數","承保率","件數(不含專案)","承保率","件數(含專案)","承保率","件數(不含)","承保率","件數(含)","承保率"]
["應保台數",80,null,{"$f":"E53-F52","v":96},null,{"$f":"D58","v":96},null,null,80,null,{"$f":"D58","v":96},null,{"$f":"F58","v":96},null,{"$f":"K58-I58","v":16},null,{"$f":"M58-I58","v":16}]
["車體",66,0.82499999999999996,{"$f":"D31","v":223},{"$f":"D59/D58","v":2.3229166666666665},{"$f":"D59+G53","v":231},null,null,66,0.82499999999999996,{"$f":"D59","v":223},{"$f":"K59/K58","v":2.3229166666666665},231,null,{"$f":"K59-I59","v":157},{"$f":"(K59-I59)/I59","v":2.3787878787878789},{"$f":"M59-I59","v":165},{"$f":"(M59-K59)/K59","v":3.5874439461883408E-2}]
["其他",1,1.2500000000000001E-2,{"$f":"D32","v":18},{"$f":"D60/D58","v":0.1875},{"$f":"D60+G54","v":18},null,null,1,1.2500000000000001E-2,{"$f":"D60","v":18},{"$f":"K60/K58","v":0.1875},18,null,{"$f":"K60-I60","v":17},{"$f":"(K60-I60)/I60","v":17},{"$f":"M60-I60","v":17},{"$f":"(M60-K60)/K60","v":0}]
["單保強制",12,0.15,{"$f":"D33","v":16},{"$f":"D61/D58","v":0.16666666666666666},{"$f":"D61+G55","v":16},null,null,12,0.15,{"$f":"J33","v":16},{"$f":"K61/K58","v":0.16666666666666666},16,null,{"$f":"K61-I61","v":4},{"$f":"(K61-I61)/I61","v":0.33333333333333331},{"$f":"M61-I61","v":4},{"$f":"(M61-K61)/K61","v":0}]
["車體+其他",{"$f":"B59+B60","v":67},{"$f":"B62/B58","v":0.83750000000000002},{"$f":"D59+D60","v":241},{"$f":"D62/(D58-G53)","v":2.7386363636363638},{"$f":"F59+F60","v":249},{"$f":"F62/F58","v":2.59375},null,null,null,{"$f":"D62","v":241},null,249,{"$f":"M62/M58","v":2.59375}]
["全部承保件",79,0.98750000000000004,{"$f":"D34","v":2},{"$f":"D63/D58","v":2.0833333333333332E-2},{"$f":"SUM(F59:F61)","v":265},null,null,79,0.98750000000000004,{"$f":"D63","v":2},{"$f":"K63/K58","v":2.0833333333333332E-2},265,null,{"$f":"K63-I63","v":-77},{"$f":"(K63-I63)/I63","v":-0.97468354430379744},{"$f":"M63-K63","v":263},{"$f":"(M63-K63)/K63","v":131.5}]
["     ◎應保台數 = 新車銷售台數 - 租賃車台數"]

{"sheet":"E&F.正確版","index":8,"n_rows":116,"n_cols":18,"rows_kept":116,"cut":false,"hidden":false,"merged":[[93,1,93,2],[93,3,93,6],[93,8,93,9],[93,10,93,13],[93,14,93,17]]}
["2014/1保險承保同期比較分析表",null,null,null,null,null," "]
[null,null,null,null,null,null,null,null,null,null,null,null,"2014-04-14"]
["台灣產物","2013-01-01",null,"2014-01-01",null,"成長%",null,"2013-01-01",null,"2014-01-01",null,"累積成長%",null,"2014各保險公司累積佔比"]
[null,"件數","金額","件數","金額","件數","金額","件數","金額","件數","金額","件數","金額","件數","金額"]
["車體",11,853857,5,254299,{"$f":"(D5-B5)/B5","v":-0.54545454545454541},{"$f":"(E5-C5)/C5","v":-0.7021761255104777},11,853857,{"$f":"D5","v":5},254299,{"$f":"(J5-H5)/H5","v":-0.54545454545454541},{"$f":"(K5-I5)/I5","v":-0.7021761255104777}]
["其他",null,null,1,17093,null,null,0,0,1,17093]
["單強制",1,1218,null,null,null,null,1,1218,0,0]
["新保",12,855075,{"$f":"SUM(D5:D7)","v":6},{"$f":"SUM(E5:E7)","v":271392},{"$f":"(D8-B8)/B8","v":-0.5},{"$f":"(E8-C8)/C8","v":-0.68261029734233836},12,855075,{"$f":"SUM(J5:J7)","v":6},{"$f":"SUM(K5:K7)","v":271392},{"$f":"(J8-H8)/H8","v":-0.5},{"$f":"(K8-I8)/I8","v":-0.68261029734233836},{"$f":"J8/$J$72","v":6.9767441860465115E-2},{"$f":"K8/$K$72","v":5.6263465069184955E-2}]
["車體",21,1187103,24,1166980,{"$f":"(D9-B9)/B9","v":0.14285714285714285},{"$f":"(E9-C9)/C9","v":-1.6951351314923809E-2},21,1187103,{"$f":"D9","v":24},1166980,{"$f":"(J9-H9)/H9","v":0.14285714285714285},{"$f":"(K9-I9)/I9","v":-1.6951351314923809E-2}]
["其他",5,46480,3,13045,null,null,5,46480,3,13045]
["單強制",null,null,null,null,null,null,0,0,0,0]
["續保",26,1233583,{"$f":"SUM(D9:D11)","v":27},{"$f":"SUM(E9:E11)","v":1180025},{"$f":"(D12-B12)/B12","v":3.8461538461538464E-2},{"$f":"(E12-C12)/C12","v":-4.3416616474124564E-2},26,1233583,{"$f":"SUM(J9:J11)","v":27},{"$f":"SUM(K9:K11)","v":1180025},{"$f":"(J12-H12)/H12","v":3.8461538461538464E-2},{"$f":"(K12-I12)/I12","v":-4.3416616474124564E-2},{"$f":"J12/$J$76","v":0.1210762331838565},{"$f":"K12/$K$76","v":0.13424356887385341}]
["車體",32,2040960,{"$f":"D5+D9","v":29},1421279,{"$f":"(D13-B13)/B13","v":-9.375E-2},{"$f":"(E13-C13)/C13","v":-0.30362231498902476},32,2040960,{"$f":"J9+J5","v":29},{"$f":"K9+K5","v":1421279},{"$f":"(J13-H13)/H13","v":-9.375E-2},{"$f":"(K13-I13)/I13","v":-0.30362231498902476}]
["其他",5,46480,4,30138,null,null,5,46480,{"$f":"J6+J10","v":4},30138]
["單強制",1,1218,0,0,null,null,1,1218,0,0]
["總計",38,2088658,33,1451417,{"$f":"(D16-B16)/B16","v":-0.13157894736842105},{"$f":"(E16-C16)/C16","v":-0.30509590368552442},38,2088658,33,1451417,{"$f":"(J16-H16)/H16","v":-0.13157894736842105},{"$f":"(K16-I16)/I16","v":-0.30509590368552442},{"$f":"J16/$J$80","v":0.10679611650485436},{"$f":"K16/$K$80","v":0.10661388383865132}]
[]
[]
["明台產物","2013-01-01",null,"2014-01-01",null,"成長%",null,"2013-01-01",null,"2014-01-01",null,"累積成長%"]
[null,"件數","金額","件數","金額","件數","金額","件數","金額","件數","金額","件數","金額"]
["車體",27,2196626,24,1704184,{"$f":"(D21-B21)/B21","v":-0.1111111111111111},{"$f":"(E21-C21)/C21","v":-0.22418108499125478},27,2196626,{"$f":"D21","v":24},1704184,{"$f":"(J21-H21)/H21","v":-0.1111111111111111},{"$f":"(K21-I21)/I21","v":-0.22418108499125478}]
["其他",null,null,3,39872,null,null,0,0,3,39872]
["單強制",6,7798,4,5043,null,null,6,7798,4,5043]
["新保",33,2204424,{"$f":"SUM(D21:D23)","v":31},{"$f":"SUM(E21:E23)","v":1749099},{"$f":"(D24-B24)/B24","v":-6.0606060606060608E-2},{"$f":"(E24-C24)/C24","v":-0.20655055470272507},33,2204424,{"$f":"SUM(J21:J23)","v":31},{"$f":"SUM(K21:K23)","v":1749099},{"$f":"(J24-H24)/H24","v":-6.0606060606060608E-2},{"$f":"(K24-I24)/I24","v":-0.20655055470272507},{"$f":"J24/$J$72","v":0.36046511627906974},{"$f":"K24/$K$72","v":0.36261338023613937}]
["車體",65,3436728,71,3676986,{"$f":"(D25-B25)/B25","v":9.2307692307692313E-2},{"$f":"(E25-C25)/C25","v":6.9908936639734076E-2},65,3436728,{"$f":"D25","v":71},3676986,{"$f":"(J25-H25)/H25","v":9.2307692307692313E-2},{"$f":"(K25-I25)/I25","v":6.9908936639734076E-2}]
["其他",22,224126,17,129535,null,null,22,224126,17,129535]
["單強制",6,6592,6,6602,null,null,6,6592,6,6602]
["續保",93,3667446,{"$f":"SUM(D25:D27)","v":94},{"$f":"SUM(E25:E27)","v":3813123},{"$f":"(D28-B28)/B28","v":1.0752688172043012E-2},{"$f":"(E28-C28)/C28","v":3.9721648253307616E-2},93,3667446,{"$f":"SUM(J25:J27)","v":94},{"$f":"SUM(K25:K27)","v":3813123},{"$f":"(J28-H28)/H28","v":1.0752688172043012E-2},{"$f":"(K28-I28)/I28","v":3.9721648253307616E-2},{"$f":"J28/$J$76","v":0.42152466367713004},{"$f":"K28/$K$76","v":0.43379355528482411}]
["車體",92,5633354,{"$f":"D21+D25","v":95},5381170,{"$f":"(D29-B29)/B29","v":3.2608695652173912E-2},{"$f":"(E29-C29)/C29","v":-4.4766226301418299E-2},92,5633354,{"$f":"J25+J21","v":95},{"$f":"K25+K21","v":5381170},{"$f":"(J29-H29)/H29","v":3.2608695652173912E-2},{"$f":"(K29-I29)/I29","v":-4.4766226301418299E-2}]
["其他",22,224126,20,169407,null,null,22,224126,{"$f":"J22+J26","v":20},169407]
["單強制",12,14390,10,11645,null,null,12,14390,10,11645]
["總計",126,5871870,125,5562222,{"$f":"(D32-B32)/B32","v":-7.9365079365079361E-3},{"$f":"(E32-C32)/C32","v":-5.2734137506450243E-2},126,5871870,125,5562222,{"$f":"(J32-H32)/H32","v":-7.9365079365079361E-3},{"$f":"(K32-I32)/I32","v":-5.2734137506450243E-2},{"$f":"J32/$J$80","v":0.4045307443365696},{"$f":"K32/$K$80","v":0.40857320135618558}]
[]
[]
["華南產物","2013-01-01",null,"2014-01-01",null,"成長%",null,"2013-01-01",null,"2014-01-01",null,"累積成長%"]
[null,"件數","金額","件數","金額","件數","金額","件數","金額","件數","金額","件數","金額"]
["車體",19,1387940,25,1836038,{"$f":"(D37-B37)/B37","v":0.31578947368421051},{"$f":"(E37-C37)/C37","v":0.3228511318933095},19,1387940,{"$f":"D37","v":25},1836038,{"$f":"(J37-H37)/H37","v":0.31578947368421051},{"$f":"(K37-I37)/I37","v":0.3228511318933095}]
["其他",1,13756,2,37861,null,null,1,13756,2,37861]
["單強制",4,4455,6,6941,null,null,4,4455,6,6941]
["新保",24,1406151,{"$f":"SUM(D37:D39)","v":33},{"$f":"SUM(E37:E39)","v":1880840},{"$f":"(D40-B40)/B40","v":0.375},{"$f":"(E40-C40)/C40","v":0.33758038788152911},24,1406151,{"$f":"SUM(J37:J39)","v":33},{"$f":"SUM(K37:K39)","v":1880840},{"$f":"(J40-H40)/H40","v":0.375},{"$f":"(K40-I40)/I40","v":0.33758038788152911},{"$f":"J40/$J$72","v":0.38372093023255816},{"$f":"K40/$K$72","v":0.38992518438541235}]
["車體",45,2235191,59,2957392,{"$f":"(D41-B41)/B41","v":0.31111111111111112},{"$f":"(E41-C41)/C41","v":0.3231048263884384},45,2235191,{"$f":"D41","v":59},2957392,{"$f":"(J41-H41)/H41","v":0.31111111111111112},{"$f":"(K41-I41)/I41","v":0.3231048263884384}]
["其他",24,134751,24,121812,null,null,24,134751,24,121812]
["單強制",3,3217,2,2198,null,null,3,3217,2,2198]
["續保",72,2373159,{"$f":"SUM(D41:D43)","v":85},{"$f":"SUM(E41:E43)","v":3081402},{"$f":"(D44-B44)/B44","v":0.18055555555555555},{"$f":"(E44-C44)/C44","v":0.29843891622938035},72,2373159,{"$f":"SUM(J41:J43)","v":85},{"$f":"SUM(K41:K43)","v":3081402},{"$f":"(J44-H44)/H44","v":0.18055555555555555},{"$f":"(K44-I44)/I44","v":0.29843891622938035},{"$f":"J44/$J$76","v":0.3811659192825112},{"$f":"K44/$K$76","v":0.35055054055213208}]
["車體",64,3623131,{"$f":"D37+D41","v":84},4793430,{"$f":"(D45-B45)/B45","v":0.3125},{"$f":"(E45-C45)/C45","v":0.32300764173307561},64,3623131,{"$f":"J41+J37","v":84},{"$f":"K41+K37","v":4793430},{"$f":"(J45-H45)/H45","v":0.3125},{"$f":"(K45-I45)/I45","v":0.32300764173307561}]
["其他",25,148507,26,159673,null,null,25,148507,{"$f":"J38+J42","v":26},159673]
["單強制",7,7672,8,9139,null,null,7,7672,8,9139]
["總計",96,3779310,118,4962242,{"$f":"(D48-B48)/B48","v":0.22916666666666666},{"$f":"(E48-C48)/C48","v":0.3130021088505574},96,3779310,118,4962242,{"$f":"(J48-H48)/H48","v":0.22916666666666666},{"$f":"(K48-I48)/I48","v":0.3130021088505574},{"$f":"J48/$J$80","v":0.3818770226537217},{"$f":"K48/$K$80","v":0.36450165057132222}]
[]
[]
["富邦產物","2013-01-01",null,"2014-01-01",null,"成長%",null,"2013-01-01",null,"2014-01-01",null,"累積成長%"]
[null,"件數","金額","件數","金額","件數","金額","件數","金額","件數","金額","件數","金額"]
["車體",9,732492,13,918745,{"$f":"(D53-B53)/B53","v":0.44444444444444442},{"$f":"(E53-C53)/C53","v":0.25427308421115863},9,732492,{"$f":"D53","v":13},918745,{"$f":"(J53-H53)/H53","v":0.44444444444444442},{"$f":"(K53-I53)/I53","v":0.25427308421115863}]
["其他",null,null,null,null,null,null,0,0,0,0]
["單強制",1,1148,3,3516,null,null,1,1148,3,3516]
["新保",10,733640,{"$f":"SUM(D53:D55)","v":16},{"$f":"SUM(E53:E55)","v":922261},{"$f":"(D56-B56)/B56","v":0.6},{"$f":"(E56-C56)/C56","v":0.25710293877105939},10,733640,{"$f":"SUM(J53:J55)","v":16},{"$f":"SUM(K53:K55)","v":922261},{"$f":"(J56-H56)/H56","v":0.6},{"$f":"(K56-I56)/I56","v":0.25710293877105939},{"$f":"J56/$J$72","v":0.18604651162790697},{"$f":"K56/$K$72","v":0.1911979703092633}]
["車體",7,192814,17,715629,{"$f":"(D57-B57)/B57","v":1.4285714285714286},{"$f":"(E57-C57)/C57","v":2.7114991649983922},7,192814,{"$f":"D57","v":17},715629,{"$f":"(J57-H57)/H57","v":1.4285714285714286},{"$f":"(K57-I57)/I57","v":2.7114991649983922}]
["其他",1,4373,null,null,null,null,1,4373,0,0]
["單強制",1,1099,null,null,null,null,1,1099,0,0]
["續保",9,198286,{"$f":"SUM(D57:D59)","v":17},{"$f":"SUM(E57:E59)","v":715629},{"$f":"(D60-B60)/B60","v":0.88888888888888884},{"$f":"(E60-C60)/C60","v":2.6090747707856328},9,198286,{"$f":"SUM(J57:J59)","v":17},{"$f":"SUM(K57:K59)","v":715629},{"$f":"(J60-H60)/H60","v":0.88888888888888884},{"$f":"(K60-I60)/I60","v":2.6090747707856328},{"$f":"J60/$J$76","v":7.623318385650224E-2},{"$f":"K60/$K$76","v":8.1412335289190355E-2}]
["車體",16,925306,{"$f":"D53+D57","v":30},1634374,{"$f":"(D61-B61)/B61","v":0.875},{"$f":"(E61-C61)/C61","v":0.76630649752622371},16,925306,{"$f":"J57+J53","v":30},{"$f":"K57+K53","v":1634374},{"$f":"(J61-H61)/H61","v":0.875},{"$f":"(K61-I61)/I61","v":0.76630649752622371}]
["其他",1,4373,0,0,null,null,1,4373,{"$f":"J54+J58","v":0},0]
["單強制",2,2247,3,3516,null,null,2,2247,3,3516]
["總計",19,931926,33,1637890,{"$f":"(D64-B64)/B64","v":0.73684210526315785},{"$f":"(E64-C64)/C64","v":0.75753225041473249},19,931926,33,1637890,{"$f":"(J64-H64)/H64","v":0.73684210526315785},{"$f":"(K64-I64)/I64","v":0.75753225041473249},{"$f":"J64/$J$80","v":0.10679611650485436},{"$f":"K64/$K$80","v":0.12031126423384086}]
[]
[]
["總計","2013-01-01",null,"2014-01-01",null,"成長%",null,"2013-01-01",null,"2014-01-01",null,"累積成長%"]
[null,"件數","金額","件數","金額","件數","金額","件數","金額","件數","金額","件數","金額"]
["車體",66,5170915,{"$f":"D5+D21+D37+D53","v":67},4713266,{"$f":"(D69-B69)/B69","v":1.5151515151515152E-2},{"$f":"(E69-C69)/C69","v":-8.8504452306796766E-2},66,5170915,{"$f":"J5+J21+J37+J53","v":67},4713266,{"$f":"(J69-H69)/H69","v":1.5151515151515152E-2},{"$f":"(K69-I69)/I69","v":-8.8504452306796766E-2}]
["其他",1,13756,6,94826,null,null,1,13756,6,94826]
["單強制",12,14619,13,15500,null,null,12,14619,13,15500]
["新保",79,5199290,86,4823592,{"$f":"(D72-B72)/B72","v":8.8607594936708861E-2},{"$f":"(E72-C72)/C72","v":-7.2259481583062307E-2},79,5199290,86,4823592,{"$f":"(J72-H72)/H72","v":8.8607594936708861E-2},{"$f":"(K72-I72)/I72","v":-7.2259481583062307E-2},{"$f":"J72/J80","v":0.27831715210355989},{"$f":"K72/K80","v":0.35431711022610857}]
["車體",138,7051836,171,8516987,{"$f":"(D73-B73)/B73","v":0.2391304347826087},{"$f":"(E73-C73)/C73","v":0.20776872859777226},138,7051836,171,8516987,{"$f":"(J73-H73)/H73","v":0.2391304347826087},{"$f":"(K73-I73)/I73","v":0.20776872859777226}]
["其他",52,409730,44,264392,null,null,52,409730,44,264392]
["單強制",10,10908,8,8800,null,null,10,10908,8,8800]
["續保",200,7472474,223,8790179,{"$f":"(D76-B76)/B76","v":0.115},{"$f":"(E76-C76)/C76","v":0.17634119570037982},200,7472474,223,8790179,{"$f":"(J76-H76)/H76","v":0.115},{"$f":"(K76-I76)/I76","v":0.17634119570037982},{"$f":"J76/J80","v":0.72168284789644011},{"$f":"K76/K80","v":0.64568288977389143}]
["車體",204,12222751,{"$f":"D69+D73","v":238},13230253,{"$f":"(D77-B77)/B77","v":0.16666666666666666},{"$f":"(E77-C77)/C77","v":8.2428415665180443E-2},204,12222751,{"$f":"J69+J73","v":238},13230253,{"$f":"(J77-H77)/H77","v":0.16666666666666666},{"$f":"(K77-I77)/I77","v":8.2428415665180443E-2}]
["其他",53,423486,50,359218,null,null,53,423486,50,359218]
["單強制",22,25527,21,24300,null,null,22,25527,21,24300]
["總計",279,12671764,309,13613771,{"$f":"(D80-B80)/B80","v":0.10752688172043011},{"$f":"(E80-C80)/C80","v":7.433905808220545E-2},279,12671764,309,13613771,{"$f":"(J80-H80)/H80","v":0.10752688172043011},{"$f":"(K80-I80)/I80","v":7.433905808220545E-2},{"$f":"N72+N76","v":1},{"$f":"O72+O76","v":1}]
[]
["2014/1新車銷售台數及新續保承保狀況分析"]
[]
["新車銷售",null,"2013-01-01",null,null,"2014-01-01",null,null,null,"2013-01-01",null,null,"2014-01-01",null,null,"累積成長%"]
["掛牌數","一般","租賃","專案","一般","租賃","專案",null,"一般","租賃","專案","一般","租賃","專案","一般","租賃","專案"]
["一課",27,9,0,31,4,4,null,27,9,null,{"$f":"E86","v":31},{"$f":"F86","v":4},{"$f":"G86","v":4},{"$f":"(L86-I86)/I86","v":0.14814814814814814},{"$f":"(M86-J86)/J86","v":-0.55555555555555558},{"$f":"(N86-K86)/K86","v":{"$error":"#DIV/0!"}}]
["二課",33,2,0,35,1,4,null,33,2,null,{"$f":"E87","v":35},1,4,{"$f":"(L87-I87)/I87","v":6.0606060606060608E-2},-0.5,{"$error":"#DIV/0!"}]
["三課",18,3,0,25,4,0,null,18,3,null,25,4,0,0.3888888888888889,0.33333333333333331,{"$error":"#DIV/0!"}]
["營中央/其他",2,0,0,5,null,0,null,2,0,null,5,0,{"$f":"F89","v":0},1.5,{"$error":"#DIV/0!"},{"$error":"#DIV/0!"}]
["小計",80,14,{"$f":"SUM(D86:D89)","v":0},{"$f":"SUM(E86:E89)","v":96},{"$f":"SUM(F86:F89)","v":9},{"$f":"SUM(G86:G89)","v":8},null,80,14,null,{"$f":"SUM(L86:L89)","v":96},{"$f":"SUM(M86:M89)","v":9},{"$f":"SUM(N86:N89)","v":8},0.2,-0.35714285714285715,{"$f":"(N90-K90)/K90","v":{"$error":"#DIV/0!"}}]
["合計",94,null,{"$f":"D90","v":0},{"$f":"E90+F90","v":105},null,{"$f":"G90","v":8},null,94,null,null,{"$f":"L90+M90","v":105},null,{"$f":"N90","v":8},{"$f":"(L91-I91)/I91","v":0.11702127659574468}]
[]
[]
["新保","2013-01-01",null,"2014-01-01",null,null,null,null,"2013-01-01",null,"2014-01-01",null,null,null,"累積成長%"]
[null,"件數","承保率","件數(不含專案)","承保率","件數(含專案)","承保率",null,"件數","承保率","件數(不含專案)","承保率","件數(含專案)","承保率","件數(不含)","承保率","件數(含)","承保率"]
["應保台數",80,null,{"$f":"E91-F90","v":96},null,{"$f":"D96","v":96},null,null,80,null,{"$f":"D96","v":96},null,{"$f":"F96","v":96},null,{"$f":"K96-I96","v":16},null,{"$f":"M96-I96","v":16}]
["車體",66,0.82499999999999996,{"$f":"D69","v":67},{"$f":"D97/D96","v":0.69791666666666663},{"$f":"D97+G91","v":75},null,null,66,0.82499999999999996,{"$f":"D97","v":67},{"$f":"K97/K96","v":0.69791666666666663},75,null,{"$f":"K97-I97","v":1},{"$f":"(K97-I97)/I97","v":1.5151515151515152E-2},{"$f":"M97-I97","v":9},{"$f":"(M97-K97)/K97","v":0.11940298507462686}]
["其他",1,1.2500000000000001E-2,{"$f":"D70","v":6},{"$f":"D98/D96","v":6.25E-2},{"$f":"D98+G92","v":6},null,null,1,1.2500000000000001E-2,{"$f":"D98","v":6},{"$f":"K98/K96","v":6.25E-2},6,null,{"$f":"K98-I98","v":5},{"$f":"(K98-I98)/I98","v":5},{"$f":"M98-I98","v":5},{"$f":"(M98-K98)/K98","v":0}]
["單保強制",12,0.15,{"$f":"D71","v":13},{"$f":"D99/D96","v":0.13541666666666666},13,null,null,12,0.15,{"$f":"J71","v":13},{"$f":"K99/K96","v":0.13541666666666666},13,null,{"$f":"K99-I99","v":1},{"$f":"(K99-I99)/I99","v":8.3333333333333329E-2},{"$f":"M99-I99","v":1},{"$f":"(M99-K99)/K99","v":0}]
["車體+其他",{"$f":"B97+B98","v":67},{"$f":"B100/B96","v":0.83750000000000002},{"$f":"D97+D98","v":73},{"$f":"D100/(D96-G91)","v":0.82954545454545459},{"$f":"F97+F98","v":81},{"$f":"F100/F96","v":0.84375},null,null,null,{"$f":"D100","v":73},null,81,{"$f":"M100/M96","v":0.84375}]
["全部承保件",79,0.98750000000000004,{"$f":"D72","v":86},{"$f":"D101/D96","v":0.89583333333333337},{"$f":"SUM(F97:F99)","v":94},null,null,79,0.98750000000000004,{"$f":"D101","v":86},{"$f":"K101/K96","v":0.89583333333333337},94,null,{"$f":"K101-I101","v":7},{"$f":"(K101-I101)/I101","v":8.8607594936708861E-2},{"$f":"M101-K101","v":8},{"$f":"(M101-K101)/K101","v":9.3023255813953487E-2}]
["     ◎應保台數 = 新車銷售台數 - 租賃車台數"]
[]
[]
["續保","2013-01-01",null,"2014-01-01",null,null,null,null,"2013-01-01",null,"2014-01-01",null,"累積成長%"]
[null,"件數","承保率","件數","承保率",null,null,null,"件數","承保率","件數","承保率","件數","承保率"]
["原總續保單(不含單強)",195,null,244,null,null,null,null,195,null,{"$f":"D107","v":244},null,{"$f":"K107-I107","v":49}]
["總承保件數(不含新續件)",174,0.89230769230769236,205,{"$f":"D108/D107","v":0.8401639344262295},null,null,null,174,0.89230769230769236,205,{"$f":"K108/K107","v":0.8401639344262295},{"$f":"K108-I108","v":31},{"$f":"(K108-I108)/I108","v":0.17816091954022989}]
["原車體續保單",149,null,189,null,null,null,null,149,null,189]
["原車體承保件",138,0.9261744966442953,{"$f":"D73","v":171},{"$f":"D110/D109","v":0.90476190476190477},null,null,null,138,0.9261744966442953,171,{"$f":"K110/K109","v":0.90476190476190477},{"$f":"K110-I110","v":33},{"$f":"(K110-I110)/I110","v":0.2391304347826087}]
["車輛轉售",4,null,9,null,null,null,null,4,null,9]
["不含車售續保率",191,0.91099476439790572,{"$f":"D107-D111","v":235},{"$f":"D108/D112","v":0.87234042553191493},null,null,null,191,0.91099476439790572,235,{"$f":"K108/K112","v":0.87234042553191493},{"$f":"K112-I112","v":44},{"$f":"(K112-I112)/I112","v":0.23036649214659685}]
["含新續件承保率",200,1.0256410256410255,242,{"$f":"D113/D107","v":0.99180327868852458},null,null,null,200,1.0256410256410255,242,{"$f":"K113/K107","v":0.99180327868852458},{"$f":"K113-I113","v":42},{"$f":"(K113-I113)/I113","v":0.21}]
["新續件",26,null,18,null,null,null,null,26,null,18]
["(一般)",24,null,16,null,null,null,null,24,null,16]
["(租賃到期)",2,null,2,null,null,null,null,2,null,2]

{"sheet":"G.YD-部門保險佔比分析表","index":9,"n_rows":45,"n_cols":10,"rows_kept":45,"cut":false,"hidden":false,"merged":[[0,0,0,9],[2,0,3,0],[2,1,2,3],[2,4,2,6],[2,7,2,9]]}
["2014/01月 各單位保險公司佔比分析表"]
[]
[null,"新保",null,null,"續保",null,null,"合計"]
[null,"件數","金額","%","件數","金額","%","件數","金額","%"]
["台產",2,58700,{"$f":"IF(C9=0,0,(C5/C9))","v":4.1245371313738857E-2},4,153417,{"$f":"IF(F9=0,0,(F5/F9))","v":7.2683161168183658E-2},{"$f":"(B5+E5)","v":6},212117,{"$f":"IF(I9=0,0,(I5/I9))","v":6.0022569620317635E-2}]
["富邦",6,262422,{"$f":"IF(C9=0,0,(C6/C9))","v":0.18438999711914783},7,281976,{"$f":"IF(F9=0,0,(F6/F9))","v":0.13358954388079389},13,544398,{"$f":"IF(I9=0,0,(I6/I9))","v":0.15404784555769543}]
["明台",11,501561,{"$f":"IF(C9=0,0,(C7/C9))","v":0.35242026714634028},22,700884,{"$f":"IF(F9=0,0,(F7/F9))","v":0.33205228059603065},33,1202445,{"$f":"IF(I9=0,0,(I7/I9))","v":0.34025485334557271}]
["華南",8,600507,{"$f":"IF(C9=0,0,(C8/C9))","v":0.42194436442077304},29,974487,{"$f":"IF(F9=0,0,(F8/F9))","v":0.46167501435499186},37,1574994,{"$f":"IF(I9=0,0,(I8/I9))","v":0.44567473147641423}]
["營一課",{"$f":"SUM(B5:B8)","v":27},{"$f":"SUM(C5:C8)","v":1423190},{"$f":"(C9/C34)","v":0.2950477569413002},{"$f":"SUM(E5:E8)","v":62},{"$f":"SUM(F5:F8)","v":2110764},{"$f":"(F9/F34)","v":0.28776605316973414},{"$f":"SUM(H5:H8)","v":89},{"$f":"SUM(I5:I8)","v":3533954},{"$f":"(I9/I34)","v":0.29065487187990191}]
["台產",1,62821,{"$f":"IF(C14=0,0,(C10/C14))","v":3.8162726629346923E-2},7,346313,{"$f":"IF(F14=0,0,(F10/F14))","v":0.11256131240978451},{"$f":"(B10+E10)","v":8},409134,{"$f":"IF(I14=0,0,(I10/I14))","v":8.6629615168641622E-2}]
["富邦",3,228219,{"$f":"IF(C14=0,0,(C11/C14))","v":0.13863929750597612},7,289241,{"$f":"IF(F14=0,0,(F11/F14))","v":9.4011332415238472E-2},10,517460,{"$f":"IF(I14=0,0,(I11/I14))","v":0.10956645173748771}]
["明台",8,473620,{"$f":"IF(C14=0,0,(C12/C14))","v":0.2877163780613376},33,1445200,{"$f":"IF(F14=0,0,(F12/F14))","v":0.46973000925353819},41,1918820,{"$f":"IF(I14=0,0,(I12/I14))","v":0.40628898643938888}]
["華南",18,881475,{"$f":"IF(C14=0,0,(C13/C14))","v":0.53548159780333937},22,995907,{"$f":"IF(F14=0,0,(F13/F14))","v":0.32369734592143884},40,1877382,{"$f":"IF(I14=0,0,(I13/I14))","v":0.39751494665448178}]
["營二課",{"$f":"SUM(B10:B13)","v":30},{"$f":"SUM(C10:C13)","v":1646135},{"$f":"(C14/C34)","v":0.34126746209049191},{"$f":"SUM(E10:E13)","v":69},{"$f":"SUM(F10:F13)","v":3076661},{"$f":"(F14/F34)","v":0.41944935241990455},{"$f":"SUM(H10:H13)","v":99},{"$f":"SUM(I10:I13)","v":4722796},{"$f":"(I14/I34)","v":0.38843280537746477}]
["台產",0,0,{"$f":"IF(C19=0,0,(C15/C19))","v":0},8,414603,{"$f":"IF(F19=0,0,(F15/F19))","v":0.19743432475187553},{"$f":"(B15+E15)","v":8},414603,{"$f":"IF(I19=0,0,(I15/I19))","v":0.1166088501708057}]
["富邦",7,431620,{"$f":"IF(C19=0,0,(C16/C19))","v":0.29653436368982677},1,76581,{"$f":"IF(F19=0,0,(F16/F19))","v":3.6467941678722485E-2},8,508201,{"$f":"IF(I19=0,0,(I16/I19))","v":0.1429336841886181}]
["明台",11,626468,{"$f":"IF(C19=0,0,(C17/C19))","v":0.43040009673332658},28,1284574,{"$f":"IF(F19=0,0,(F17/F19))","v":0.61171530423999765},39,1911042,{"$f":"IF(I19=0,0,(I17/I19))","v":0.53748865842291749}]
["華南",7,397460,{"$f":"IF(C19=0,0,(C18/C19))","v":0.27306553957684665},11,324196,{"$f":"IF(F19=0,0,(F18/F19))","v":0.15438242932940435},18,721656,{"$f":"IF(I19=0,0,(I18/I19))","v":0.20296880721765873}]
["營三課",{"$f":"SUM(B15:B18)","v":25},{"$f":"SUM(C15:C18)","v":1455548},{"$f":"(C19/C34)","v":0.30175603575095072},{"$f":"SUM(E15:E18)","v":48},{"$f":"SUM(F15:F18)","v":2099954},{"$f":"(F19/F34)","v":0.28629229720518062},{"$f":"SUM(H15:H18)","v":73},{"$f":"SUM(I15:I18)","v":3555502},{"$f":"(I19/I34)","v":0.29242711656086495}]
["台產",0,0,{"$f":"IF(C24=0,0,(C20/C24))","v":0},0,0,{"$f":"IF(F24=0,0,(F20/F24))","v":0},{"$f":"(B20+E20)","v":0},0,{"$f":"IF(I24=0,0,(I20/I24))","v":0}]
["富邦",0,0,{"$f":"IF(C24=0,0,(C21/C24))","v":0},0,0,{"$f":"IF(F24=0,0,(F21/F24))","v":0},0,0,{"$f":"IF(I24=0,0,(I21/I24))","v":0}]
["明台",0,0,{"$f":"IF(C24=0,0,(C22/C24))","v":0},0,0,{"$f":"IF(F24=0,0,(F22/F24))","v":0},0,0,{"$f":"IF(I24=0,0,(I22/I24))","v":0}]
["華南",0,0,{"$f":"IF(C24=0,0,(C23/C24))","v":0},0,0,{"$f":"IF(F24=0,0,(F23/F24))","v":0},0,0,{"$f":"IF(I24=0,0,(I23/I24))","v":0}]
["行銷業務部",{"$f":"SUM(B20:B23)","v":0},{"$f":"SUM(C20:C23)","v":0},{"$f":"(C24/C34)","v":0},{"$f":"SUM(E20:E23)","v":0},{"$f":"SUM(F20:F23)","v":0},{"$f":"(F24/F34)","v":0},{"$f":"SUM(H20:H23)","v":0},{"$f":"SUM(I20:I23)","v":0},{"$f":"(I24/I34)","v":0}]
["台產",3,147075,{"$f":"IF(C29=0,0,(C25/C29))","v":0.49235234451106225},0,0,{"$f":"IF(F29=0,0,(F25/F29))","v":0},{"$f":"(B25+E25)","v":3},147075,{"$f":"IF(I29=0,0,(I25/I29))","v":0.42465496333083097}]
["富邦",0,0,{"$f":"IF(C29=0,0,(C26/C29))","v":0},1,47621,{"$f":"IF(F29=0,0,(F26/F29))","v":1},1,47621,{"$f":"IF(I29=0,0,(I26/I29))","v":0.13749783449789224}]
["明台",4,151644,{"$f":"IF(C29=0,0,(C27/C29))","v":0.50764765548893775},0,0,{"$f":"IF(F29=0,0,(F27/F29))","v":0},4,151644,{"$f":"IF(I29=0,0,(I27/I29))","v":0.43784720217127676}]
["華南",0,0,{"$f":"IF(C29=0,0,(C28/C29))","v":0},0,0,{"$f":"IF(F29=0,0,(F28/F29))","v":0},0,0,{"$f":"IF(I29=0,0,(I28/I29))","v":0}]
["營業部",{"$f":"SUM(B25:B28)","v":7},{"$f":"SUM(C25:C28)","v":298719},{"$f":"(C29/C45)","v":6.1928745217257178E-2},{"$f":"SUM(E25:E28)","v":1},{"$f":"SUM(F25:F28)","v":47621},{"$f":"(F29/F45)","v":5.4175233519135387E-3},{"$f":"SUM(H25:H28)","v":8},{"$f":"SUM(I25:I28)","v":346340},{"$f":"(I29/I45)","v":2.5440416178588578E-2}]
["台產",6,268596,{"$f":"IF(C34=0,0,(C30/C34))","v":5.568381405392496E-2},19,914333,{"$f":"IF(F34=0,0,(F30/F34))","v":0.12465344239945467},{"$f":"(B30+E30)","v":25},1182929,{"$f":"IF(I34=0,0,(I30/I34))","v":9.729161073913821E-2}]
["富邦",16,922261,{"$f":"IF(C34=0,0,(C31/C34))","v":0.1911979703092633},16,695419,{"$f":"IF(F34=0,0,(F31/F34))","v":9.4808316291751876E-2},32,1617680,{"$f":"IF(I34=0,0,(I31/I34))","v":0.13304830032951184}]
["明台",34,1753293,{"$f":"IF(C34=0,0,(C32/C34))","v":0.36348285675902936},83,3430658,{"$f":"IF(F34=0,0,(F32/F34))","v":0.46771070211315607},117,5183951,{"$f":"IF(I34=0,0,(I32/I34))","v":0.42636112799903148}]
["華南",33,1879442,{"$f":"IF(C34=0,0,(C33/C34))","v":0.38963535887778239},62,2294590,{"$f":"IF(F34=0,0,(F33/F34))","v":0.31282753919563733},95,4174032,{"$f":"IF(I34=0,0,(I33/I34))","v":0.34329896093231849}]
["合計",{"$f":"SUM(B30:B33)","v":89},{"$f":"SUM(C30:C33)","v":4823592},{"$f":"(C34/C45)","v":1},{"$f":"SUM(E30:E33)","v":180},{"$f":"SUM(F30:F33)","v":7335000},{"$f":"(F34/F45)","v":0.83445399689812916},{"$f":"SUM(H30:H33)","v":269},{"$f":"SUM(I30:I33)","v":12158592},{"$f":"(I34/I45)","v":0.89310977832666638}]
["台產",0,0,{"$f":"IF(C39=0,0,(C35/C39))","v":0},5,97160,{"$f":"IF(F39=0,0,(F35/F39))","v":0.16983787090853472},{"$f":"(B35+E35)","v":5},97160,{"$f":"IF(I39=0,0,(I35/I39))","v":0.16983787090853472}]
["富邦",0,0,{"$f":"IF(C39=0,0,(C36/C39))","v":0},0,0,{"$f":"IF(F39=0,0,(F36/F39))","v":0},0,0,{"$f":"IF(I39=0,0,(I36/I39))","v":0}]
["明台",0,0,{"$f":"IF(C39=0,0,(C37/C39))","v":0},6,252705,{"$f":"IF(F39=0,0,(F37/F39))","v":0.44173403836909497},6,252705,{"$f":"IF(I39=0,0,(I37/I39))","v":0.44173403836909497}]
["華南",0,0,{"$f":"IF(C39=0,0,(C38/C39))","v":0},10,222210,{"$f":"IF(F39=0,0,(F38/F39))","v":0.38842809072237033},10,222210,{"$f":"IF(I39=0,0,(I38/I39))","v":0.38842809072237033}]
["服務部",{"$f":"SUM(B35:B38)","v":0},{"$f":"SUM(C35:C38)","v":0},{"$f":"(C39/C45)","v":0},{"$f":"SUM(E35:E38)","v":21},{"$f":"SUM(F35:F38)","v":572075},{"$f":"(F39/F45)","v":6.5081154775118916E-2},{"$f":"SUM(H35:H38)","v":21},{"$f":"SUM(I35:I38)","v":572075},{"$f":"(I39/I45)","v":4.2021788085020675E-2}]
["台產",0,0,{"$f":"IF(C44=0,0,(C40/C44))","v":0},3,168532,{"$f":"IF(F44=0,0,(F40/F44))","v":0.19084048990832336},{"$f":"(B40+E40)","v":3},168532,{"$f":"IF(I44=0,0,(I40/I44))","v":0.19084048990832336}]
["富邦",0,0,{"$f":"IF(C44=0,0,(C41/C44))","v":0},1,20210,{"$f":"IF(F44=0,0,(F41/F44))","v":2.2885186795666194E-2},1,20210,{"$f":"IF(I44=0,0,(I41/I44))","v":2.2885186795666194E-2}]
["明台",0,0,{"$f":"IF(C44=0,0,(C42/C44))","v":0},5,129760,{"$f":"IF(F44=0,0,(F42/F44))","v":0.14693626118781028},5,129760,{"$f":"IF(I44=0,0,(I42/I44))","v":0.14693626118781028}]
["華南",0,0,{"$f":"IF(C44=0,0,(C43/C44))","v":0},13,564602,{"$f":"IF(F44=0,0,(F43/F44))","v":0.63933806210820021},13,564602,{"$f":"IF(I44=0,0,(I43/I44))","v":0.63933806210820021}]
["STF",{"$f":"SUM(B40:B43)","v":0},{"$f":"SUM(C40:C43)","v":0},{"$f":"(C44/C45)","v":0},{"$f":"SUM(E40:E43)","v":22},{"$f":"SUM(F40:F43)","v":883104},{"$f":"(F44/F45)","v":0.10046484832675194},{"$f":"SUM(H40:H43)","v":22},{"$f":"SUM(I40:I43)","v":883104},{"$f":"(I44/I45)","v":6.4868433588312888E-2}]
["總計",{"$f":"(B34+B39+B44)","v":89},4823592,1,223,8790179,1,312,13613771,0.99999999999999989]

{"sheet":"H.YD-部門保險佔比分析表","index":10,"n_rows":45,"n_cols":10,"rows_kept":45,"cut":false,"hidden":false,"merged":[[0,0,0,9],[2,0,3,0],[2,1,2,3],[2,4,2,6],[2,7,2,9]]}
["2014/01月 各單位保險公司佔比分析表"]
[]
[null,"新保",null,null,"續保",null,null,"合計"]
[null,"件數","金額","%","件數","金額","%","件數","金額","%"]
["台產",2,58700,{"$f":"IF(C9=0,0,(C5/C9))","v":4.1245371313738857E-2},4,153417,{"$f":"IF(F9=0,0,(F5/F9))","v":7.2683161168183658E-2},{"$f":"(B5+E5)","v":6},212117,{"$f":"IF(I9=0,0,(I5/I9))","v":6.0022569620317635E-2}]
["富邦",6,262422,{"$f":"IF(C9=0,0,(C6/C9))","v":0.18438999711914783},7,281976,{"$f":"IF(F9=0,0,(F6/F9))","v":0.13358954388079389},13,544398,{"$f":"IF(I9=0,0,(I6/I9))","v":0.15404784555769543}]
["明台",11,501561,{"$f":"IF(C9=0,0,(C7/C9))","v":0.35242026714634028},22,700884,{"$f":"IF(F9=0,0,(F7/F9))","v":0.33205228059603065},33,1202445,{"$f":"IF(I9=0,0,(I7/I9))","v":0.34025485334557271}]
["華南",8,600507,{"$f":"IF(C9=0,0,(C8/C9))","v":0.42194436442077304},29,974487,{"$f":"IF(F9=0,0,(F8/F9))","v":0.46167501435499186},37,1574994,{"$f":"IF(I9=0,0,(I8/I9))","v":0.44567473147641423}]
["營一課",{"$f":"SUM(B5:B8)","v":27},{"$f":"SUM(C5:C8)","v":1423190},{"$f":"(C9/C34)","v":0.2950477569413002},{"$f":"SUM(E5:E8)","v":62},{"$f":"SUM(F5:F8)","v":2110764},{"$f":"(F9/F34)","v":0.28776605316973414},{"$f":"SUM(H5:H8)","v":89},{"$f":"SUM(I5:I8)","v":3533954},{"$f":"(I9/I34)","v":0.29065487187990191}]
["台產",1,62821,{"$f":"IF(C14=0,0,(C10/C14))","v":3.8162726629346923E-2},7,346313,{"$f":"IF(F14=0,0,(F10/F14))","v":0.11256131240978451},{"$f":"(B10+E10)","v":8},409134,{"$f":"IF(I14=0,0,(I10/I14))","v":8.6629615168641622E-2}]
["富邦",3,228219,{"$f":"IF(C14=0,0,(C11/C14))","v":0.13863929750597612},7,289241,{"$f":"IF(F14=0,0,(F11/F14))","v":9.4011332415238472E-2},10,517460,{"$f":"IF(I14=0,0,(I11/I14))","v":0.10956645173748771}]
["明台",8,473620,{"$f":"IF(C14=0,0,(C12/C14))","v":0.2877163780613376},33,1445200,{"$f":"IF(F14=0,0,(F12/F14))","v":0.46973000925353819},41,1918820,{"$f":"IF(I14=0,0,(I12/I14))","v":0.40628898643938888}]
["華南",18,881475,{"$f":"IF(C14=0,0,(C13/C14))","v":0.53548159780333937},22,995907,{"$f":"IF(F14=0,0,(F13/F14))","v":0.32369734592143884},40,1877382,{"$f":"IF(I14=0,0,(I13/I14))","v":0.39751494665448178}]
["營二課",{"$f":"SUM(B10:B13)","v":30},{"$f":"SUM(C10:C13)","v":1646135},{"$f":"(C14/C34)","v":0.34126746209049191},{"$f":"SUM(E10:E13)","v":69},{"$f":"SUM(F10:F13)","v":3076661},{"$f":"(F14/F34)","v":0.41944935241990455},{"$f":"SUM(H10:H13)","v":99},{"$f":"SUM(I10:I13)","v":4722796},{"$f":"(I14/I34)","v":0.38843280537746477}]
["台產",0,0,{"$f":"IF(C19=0,0,(C15/C19))","v":0},8,414603,{"$f":"IF(F19=0,0,(F15/F19))","v":0.19743432475187553},{"$f":"(B15+E15)","v":8},414603,{"$f":"IF(I19=0,0,(I15/I19))","v":0.1166088501708057}]
["富邦",7,431620,{"$f":"IF(C19=0,0,(C16/C19))","v":0.29653436368982677},1,76581,{"$f":"IF(F19=0,0,(F16/F19))","v":3.6467941678722485E-2},8,508201,{"$f":"IF(I19=0,0,(I16/I19))","v":0.1429336841886181}]
["明台",11,626468,{"$f":"IF(C19=0,0,(C17/C19))","v":0.43040009673332658},28,1284574,{"$f":"IF(F19=0,0,(F17/F19))","v":0.61171530423999765},39,1911042,{"$f":"IF(I19=0,0,(I17/I19))","v":0.53748865842291749}]
["華南",7,397460,{"$f":"IF(C19=0,0,(C18/C19))","v":0.27306553957684665},11,324196,{"$f":"IF(F19=0,0,(F18/F19))","v":0.15438242932940435},18,721656,{"$f":"IF(I19=0,0,(I18/I19))","v":0.20296880721765873}]
["營三課",{"$f":"SUM(B15:B18)","v":25},{"$f":"SUM(C15:C18)","v":1455548},{"$f":"(C19/C34)","v":0.30175603575095072},{"$f":"SUM(E15:E18)","v":48},{"$f":"SUM(F15:F18)","v":2099954},{"$f":"(F19/F34)","v":0.28629229720518062},{"$f":"SUM(H15:H18)","v":73},{"$f":"SUM(I15:I18)","v":3555502},{"$f":"(I19/I34)","v":0.29242711656086495}]
["台產",0,0,{"$f":"IF(C24=0,0,(C20/C24))","v":0},0,0,{"$f":"IF(F24=0,0,(F20/F24))","v":0},{"$f":"(B20+E20)","v":0},0,{"$f":"IF(I24=0,0,(I20/I24))","v":0}]
["富邦",0,0,{"$f":"IF(C24=0,0,(C21/C24))","v":0},0,0,{"$f":"IF(F24=0,0,(F21/F24))","v":0},0,0,{"$f":"IF(I24=0,0,(I21/I24))","v":0}]
["明台",0,0,{"$f":"IF(C24=0,0,(C22/C24))","v":0},0,0,{"$f":"IF(F24=0,0,(F22/F24))","v":0},0,0,{"$f":"IF(I24=0,0,(I22/I24))","v":0}]
["華南",0,0,{"$f":"IF(C24=0,0,(C23/C24))","v":0},0,0,{"$f":"IF(F24=0,0,(F23/F24))","v":0},0,0,{"$f":"IF(I24=0,0,(I23/I24))","v":0}]
["行銷業務部",{"$f":"SUM(B20:B23)","v":0},{"$f":"SUM(C20:C23)","v":0},{"$f":"(C24/C34)","v":0},{"$f":"SUM(E20:E23)","v":0},{"$f":"SUM(F20:F23)","v":0},{"$f":"(F24/F34)","v":0},{"$f":"SUM(H20:H23)","v":0},{"$f":"SUM(I20:I23)","v":0},{"$f":"(I24/I34)","v":0}]
["台產",3,147075,{"$f":"IF(C29=0,0,(C25/C29))","v":0.49235234451106225},0,0,{"$f":"IF(F29=0,0,(F25/F29))","v":0},{"$f":"(B25+E25)","v":3},147075,{"$f":"IF(I29=0,0,(I25/I29))","v":0.42465496333083097}]
["富邦",0,0,{"$f":"IF(C29=0,0,(C26/C29))","v":0},1,47621,{"$f":"IF(F29=0,0,(F26/F29))","v":1},1,47621,{"$f":"IF(I29=0,0,(I26/I29))","v":0.13749783449789224}]
["明台",4,151644,{"$f":"IF(C29=0,0,(C27/C29))","v":0.50764765548893775},0,0,{"$f":"IF(F29=0,0,(F27/F29))","v":0},4,151644,{"$f":"IF(I29=0,0,(I27/I29))","v":0.43784720217127676}]
["華南",0,0,{"$f":"IF(C29=0,0,(C28/C29))","v":0},0,0,{"$f":"IF(F29=0,0,(F28/F29))","v":0},0,0,{"$f":"IF(I29=0,0,(I28/I29))","v":0}]
["營業部",{"$f":"SUM(B25:B28)","v":7},{"$f":"SUM(C25:C28)","v":298719},{"$f":"(C29/C45)","v":6.1928745217257178E-2},{"$f":"SUM(E25:E28)","v":1},{"$f":"SUM(F25:F28)","v":47621},{"$f":"(F29/F45)","v":5.4175233519135387E-3},{"$f":"SUM(H25:H28)","v":8},{"$f":"SUM(I25:I28)","v":346340},{"$f":"(I29/I45)","v":2.5440416178588578E-2}]
["台產",6,268596,{"$f":"IF(C34=0,0,(C30/C34))","v":5.568381405392496E-2},19,914333,{"$f":"IF(F34=0,0,(F30/F34))","v":0.12465344239945467},{"$f":"(B30+E30)","v":25},1182929,{"$f":"IF(I34=0,0,(I30/I34))","v":9.729161073913821E-2}]
["富邦",16,922261,{"$f":"IF(C34=0,0,(C31/C34))","v":0.1911979703092633},16,695419,{"$f":"IF(F34=0,0,(F31/F34))","v":9.4808316291751876E-2},32,1617680,{"$f":"IF(I34=0,0,(I31/I34))","v":0.13304830032951184}]
["明台",34,1753293,{"$f":"IF(C34=0,0,(C32/C34))","v":0.36348285675902936},83,3430658,{"$f":"IF(F34=0,0,(F32/F34))","v":0.46771070211315607},117,5183951,{"$f":"IF(I34=0,0,(I32/I34))","v":0.42636112799903148}]
["華南",33,1879442,{"$f":"IF(C34=0,0,(C33/C34))","v":0.38963535887778239},62,2294590,{"$f":"IF(F34=0,0,(F33/F34))","v":0.31282753919563733},95,4174032,{"$f":"IF(I34=0,0,(I33/I34))","v":0.34329896093231849}]
["合計",{"$f":"SUM(B30:B33)","v":89},{"$f":"SUM(C30:C33)","v":4823592},{"$f":"(C34/C45)","v":1},{"$f":"SUM(E30:E33)","v":180},{"$f":"SUM(F30:F33)","v":7335000},{"$f":"(F34/F45)","v":0.83445399689812916},{"$f":"SUM(H30:H33)","v":269},{"$f":"SUM(I30:I33)","v":12158592},{"$f":"(I34/I45)","v":0.89310977832666638}]
["台產",0,0,{"$f":"IF(C39=0,0,(C35/C39))","v":0},5,97160,{"$f":"IF(F39=0,0,(F35/F39))","v":0.16983787090853472},{"$f":"(B35+E35)","v":5},97160,{"$f":"IF(I39=0,0,(I35/I39))","v":0.16983787090853472}]
["富邦",0,0,{"$f":"IF(C39=0,0,(C36/C39))","v":0},0,0,{"$f":"IF(F39=0,0,(F36/F39))","v":0},0,0,{"$f":"IF(I39=0,0,(I36/I39))","v":0}]
["明台",0,0,{"$f":"IF(C39=0,0,(C37/C39))","v":0},6,252705,{"$f":"IF(F39=0,0,(F37/F39))","v":0.44173403836909497},6,252705,{"$f":"IF(I39=0,0,(I37/I39))","v":0.44173403836909497}]
["華南",0,0,{"$f":"IF(C39=0,0,(C38/C39))","v":0},10,222210,{"$f":"IF(F39=0,0,(F38/F39))","v":0.38842809072237033},10,222210,{"$f":"IF(I39=0,0,(I38/I39))","v":0.38842809072237033}]
["服務部",{"$f":"SUM(B35:B38)","v":0},{"$f":"SUM(C35:C38)","v":0},{"$f":"(C39/C45)","v":0},{"$f":"SUM(E35:E38)","v":21},{"$f":"SUM(F35:F38)","v":572075},{"$f":"(F39/F45)","v":6.5081154775118916E-2},{"$f":"SUM(H35:H38)","v":21},{"$f":"SUM(I35:I38)","v":572075},{"$f":"(I39/I45)","v":4.2021788085020675E-2}]
["台產",0,0,{"$f":"IF(C44=0,0,(C40/C44))","v":0},3,168532,{"$f":"IF(F44=0,0,(F40/F44))","v":0.19084048990832336},{"$f":"(B40+E40)","v":3},168532,{"$f":"IF(I44=0,0,(I40/I44))","v":0.19084048990832336}]
["富邦",0,0,{"$f":"IF(C44=0,0,(C41/C44))","v":0},1,20210,{"$f":"IF(F44=0,0,(F41/F44))","v":2.2885186795666194E-2},1,20210,{"$f":"IF(I44=0,0,(I41/I44))","v":2.2885186795666194E-2}]
["明台",0,0,{"$f":"IF(C44=0,0,(C42/C44))","v":0},5,129760,{"$f":"IF(F44=0,0,(F42/F44))","v":0.14693626118781028},5,129760,{"$f":"IF(I44=0,0,(I42/I44))","v":0.14693626118781028}]
["華南",0,0,{"$f":"IF(C44=0,0,(C43/C44))","v":0},13,564602,{"$f":"IF(F44=0,0,(F43/F44))","v":0.63933806210820021},13,564602,{"$f":"IF(I44=0,0,(I43/I44))","v":0.63933806210820021}]
["STF",{"$f":"SUM(B40:B43)","v":0},{"$f":"SUM(C40:C43)","v":0},{"$f":"(C44/C45)","v":0},{"$f":"SUM(E40:E43)","v":22},{"$f":"SUM(F40:F43)","v":883104},{"$f":"(F44/F45)","v":0.10046484832675194},{"$f":"SUM(H40:H43)","v":22},{"$f":"SUM(I40:I43)","v":883104},{"$f":"(I44/I45)","v":6.4868433588312888E-2}]
["總計",{"$f":"(B34+B39+B44)","v":89},4823592,1,223,8790179,1,312,13613771,0.99999999999999989]

{"sheet":"J.YD-業代新保獎勵統計表","index":11,"n_rows":46,"n_cols":16,"rows_kept":46,"cut":false,"hidden":false,"merged":[[1,4,1,10],[4,0,5,0],[4,1,4,2]]}
[]
[null,null,null,null,"2014年第1季業代新車保險獎勵統計"]
[]
["紅色部份不相符，欄位位置須調整"]
["業務代業","銷售台數",null,null,null,null,null,null,null,"承保金額"]
[null,"一般","租賃","車體件數","其他件數","單強制件數","新車承保率(含專案)","單強制金額","總金額(含強制)","意外險以上","提撥率","加權提撥率","未達60%,八折","業代獎金","專案件數","新車承保率(不含專案)"]
["凌大偉",13,0,4,2,3,{"$f":"((D7+E7+O7)/B7)","v":0.76923076923076927},3895,226289,{"$f":"(I7-H7)","v":222394},{"$f":"IF(G7<0.7,\"0\",IF(G7<0.75,\"0.5%\",IF(G7<0.8,\"1%\",IF(G7<0.85,\"1.25%\",IF(G7<0.9,\"1.5%\",IF(G7<0.95,\"2%\",IF(G7<1.01,\"2.5%\",\"0\")))))))","v":"1%"},{"$f":"IF(J7=0,\"0\",IF(J7<300000,\"0.75\",IF(J7<500000,\"1\",IF(J7<750000,\"1.25\",IF(J7<1000000,\"1.5\",IF(J7>1000000,\"1.75\"))))))","v":"0.75"},1,{"$f":"ROUND(J7*K7*L7*M7,0)","v":1668},4,{"$f":"((D7+E7)/(B7-O7))","v":0.66666666666666663}]
["張健宏",11,0,7,1,0,1,0,567670,567670,"2.5%","1.25",1,17740,3,1]
["梁大民",2,0,0,0,1,0.5,1398,1398,0,"0","0",1,0,1,0]
["林柏霖",3,0,2,0,0,1,0,165719,165719,"2.5%","0.75",1,3107,1,1]
["李昀融",5,1,3,0,2,0.6,2037,187318,185281,"0","0.75",1,0,0,0.6]
["王裕明",4,0,3,1,0,1,null,227518,227518,"2.5%","0.75",1,4266,0,1]
["蘇士文",8,2,4,1,1,0.75,1099,201079,199980,"1%","0.75",1,1500,1,0.7142857142857143]
["郭天南",7,0,5,0,1,0.8571428571428571,1398,386791,385393,"1.5%","1",1,5781,1,0.83333333333333337]
["花志明",3,3,2,0,0,0.66666666666666663,null,94233,94233,"0","0.75",1,0,0,0.66666666666666663]
["陳龍雲",10,2,10,0,0,1,null,642829,642829,"2.5%","1.25",1,20088,0,1]
["營一課合計",{"$f":"SUM(B7:B16)","v":66},{"$f":"SUM(C7:C16)","v":8},{"$f":"SUM(D7:D16)","v":40},{"$f":"SUM(E7:E16)","v":5},{"$f":"SUM(F7:F16)","v":8},0.84848484848484851,{"$f":"SUM(H7:H16)","v":9827},{"$f":"SUM(I7:I16)","v":2700844},{"$f":"SUM(J7:J16)","v":2691017},null,null,null,{"$f":"SUM(N7:N16)","v":54150},{"$f":"SUM(O7:O16)","v":11},0.81818181818181823]
["張昇文",1,1,1,0,0,1,null,34125,{"$f":"(I18-H18)","v":34125},{"$f":"IF(G18<0.7,\"0\",IF(G18<0.75,\"0.5%\",IF(G18<0.8,\"1%\",IF(G18<0.85,\"1.25%\",IF(G18<0.9,\"1.5%\",IF(G18<0.95,\"2%\",IF(G18<1.01,\"2.5%\",\"0\")))))))","v":"2.5%"},{"$f":"IF(J18=0,\"0\",IF(J18<300000,\"0.75\",IF(J18<500000,\"1\",IF(J18<750000,\"1.25\",IF(J18<1000000,\"1.5\",IF(J18>1000000,\"1.75\"))))))","v":"0.75"},1,{"$f":"ROUND(J18*K18*L18*M18,0)","v":640},0,1]
["戴子貽",5,1,3,0,0,1,0,228167,228167,"2.5%","0.75",1,4278,2,1]
["林宗慶",4,0,3,0,0,1,0,186787,186787,"2.5%","0.75",1,3502,1,1]
["林政勳",8,1,6,0,2,0.75,2796,457391,454595,"1%","1",1,4546,0,0.75]
["林陳郎",6,0,5,0,1,0.83333333333333337,889,364029,363140,"1.25%","1",1,4539,0,0.83333333333333337]
["王冠賢",6,1,4,0,0,1,0,214493,214493,"2.5%","0.75",1,4022,2,1]
["王慶儒",7,1,6,0,0,1,0,433436,433436,"2.5%","1",1,10836,1,1]
["謝中堅",8,1,6,0,1,0.75,1099,389872,388773,"1%","1",1,3888,0,0.75]
["陳一鋐",8,1,6,0,2,0.75,2118,500203,498085,"1%","1",1,4981,0,0.75]
["陳維德",5,1,2,0,1,0.6,1099,111268,110169,"0","0.75",1,0,1,0.5]
["莊朝清",8,0,3,1,3,0.625,3685,212436,208751,"0","0.75",1,0,1,0.5714285714285714]
["營二課合計",{"$f":"SUM(B18:B28)","v":66},{"$f":"SUM(C18:C28)","v":8},{"$f":"SUM(D18:D28)","v":45},{"$f":"SUM(E18:E28)","v":1},{"$f":"SUM(F18:F28)","v":10},0.81818181818181823,{"$f":"SUM(H18:H28)","v":11686},{"$f":"SUM(I18:I28)","v":3132207},{"$f":"SUM(J18:J28)","v":3120521},null,null,null,{"$f":"SUM(N18:N28)","v":41232},{"$f":"SUM(O18:O28)","v":8},0.7931034482758621]
["孫茂耀",3,1,3,0,0,1,null,188168,{"$f":"(I30-H30)","v":188168},{"$f":"IF(G30<0.7,\"0\",IF(G30<0.75,\"0.5%\",IF(G30<0.8,\"1%\",IF(G30<0.85,\"1.25%\",IF(G30<0.9,\"1.5%\",IF(G30<0.95,\"2%\",IF(G30<1.01,\"2.5%\",\"0\")))))))","v":"2.5%"},{"$f":"IF(J30=0,\"0\",IF(J30<300000,\"0.75\",IF(J30<500000,\"1\",IF(J30<750000,\"1.25\",IF(J30<1000000,\"1.5\",IF(J30>1000000,\"1.75\"))))))","v":"0.75"},1,{"$f":"ROUND(J30*K30*L30*M30,0)","v":3528},0,1]
["劉家任",6,0,4,0,0,0.83333333333333337,0,256174,256174,"1.25%","0.75",1,2402,1,0.8]
["林謙慶",7,1,5,0,1,0.8571428571428571,1019,318131,317112,"1.5%","1",1,4757,1,0.83333333333333337]
["林芳明",7,1,6,0,1,0.8571428571428571,1099,395695,394596,"1.5%","1",1,5919,0,0.8571428571428571]
["李玄璸",3,0,1,0,1,0.66666666666666663,1148,115339,114191,"0","0.75",1,0,1,0.5]
["簡志勳",12,1,10,0,1,0.91666666666666663,1457,695157,693700,"2%","1.25",1,17343,1,0.90909090909090906]
["鄭英彥",5,1,3,1,1,0.8,1398,244004,242606,"1.25%","0.75",1,2274,0,0.8]
["黃盛緯",3,5,2,0,0,1,0,137596,137596,"2.5%","0.75",1,2580,1,1]
["賈勇華",8,0,6,1,1,0.875,1138,593702,592564,"1.5%","1.25",1,11111,0,0.875]
["郭力嘉",2,0,2,0,0,1,null,133123,133123,"2.5%","0.75",1,2496,0,1]
["陳禮建",4,0,4,0,0,1,null,259105,259105,"2.5%","0.75",1,4858,0,1]
["營三課合計",{"$f":"SUM(B30:B40)","v":60},{"$f":"SUM(C30:C40)","v":10},{"$f":"SUM(D30:D40)","v":46},{"$f":"SUM(E30:E40)","v":2},{"$f":"SUM(F30:F40)","v":6},0.8833333333333333,{"$f":"SUM(H30:H40)","v":7259},{"$f":"SUM(I30:I40)","v":3336194},{"$f":"SUM(J30:J40)","v":3328935},null,null,null,{"$f":"SUM(N30:N40)","v":57268},{"$f":"SUM(O30:O40)","v":5},0.87272727272727268]
["行銷業務部合計"]
["陳德益",25,0,8,0,18,{"$f":"((D43+E43+O43)/B43)","v":0.32},25164,475755,{"$f":"(I43-H43)","v":450591},{"$f":"IF(G43<0.7,\"0\",IF(G43<0.75,\"0.5%\",IF(G43<0.8,\"1%\",IF(G43<0.85,\"1.25%\",IF(G43<0.9,\"1.5%\",IF(G43<0.95,\"2%\",IF(G43<1.01,\"2.5%\",\"0\")))))))","v":"0"},{"$f":"IF(J43=0,\"0\",IF(J43<300000,\"0.75\",IF(J43<500000,\"1\",IF(J43<750000,\"1.25\",IF(J43<1000000,\"1.5\",IF(J43>1000000,\"1.75\"))))))","v":"1"},1,{"$f":"ROUND(J43*K43*L43*M43,0)","v":0},0,{"$f":"((D43+E43)/(B43-O43))","v":0.32}]
["營業部合計",{"$f":"SUM(B43:B43)","v":25},{"$f":"SUM(C43:C43)","v":0},{"$f":"SUM(D43:D43)","v":8},{"$f":"SUM(E43:E43)","v":0},{"$f":"SUM(F43:F43)","v":18},{"$f":"((D44+E44+O44)/B44)","v":0.32},{"$f":"SUM(H43:H43)","v":25164},{"$f":"SUM(I43:I43)","v":475755},{"$f":"SUM(J43:J43)","v":450591},null,null,null,{"$f":"SUM(N43:N43)","v":0},{"$f":"SUM(O43:O43)","v":0},{"$f":"((D44+E44)/(B44-O44))","v":0.32}]
["總計",{"$f":"SUM(B7:B44)/2","v":217},{"$f":"SUM(C7:C44)/2","v":26},{"$f":"SUM(D7:D44)/2","v":139},{"$f":"SUM(E7:E44)/2","v":8},{"$f":"SUM(F7:F44)/2","v":42},{"$f":"((D45+E45)/B45)","v":0.67741935483870963},{"$f":"SUM(H7:H44)/2","v":53936},{"$f":"SUM(I7:I44)/2","v":9645000},{"$f":"SUM(J7:J44)/2","v":9591064},null,null,null,{"$f":"SUM(N7:N44)/2","v":152650},{"$f":"((C45+D45)/(A45-N45))","v":{"$error":"#VALUE!"}}]
["總計(不含營業部)",{"$f":"(B45-B44)","v":192},{"$f":"(C45-C44)","v":26},{"$f":"(D45-D44)","v":131},{"$f":"(E45-E44)","v":8},{"$f":"(F45-F44)","v":24},{"$f":"((D46+E46)/B46)","v":0.72395833333333337},{"$f":"(H45-H44)","v":28772},{"$f":"(I45-I44)","v":9169245},{"$f":"(J45-J44)","v":9140473},null,null,null,{"$f":"(N45-N44)","v":152650},{"$f":"((C46+D46)/(A46-N46))","v":{"$error":"#VALUE!"}}]

{"sheet":"J.獎勵金(正確版)","index":12,"n_rows":56,"n_cols":22,"rows_kept":56,"cut":false,"hidden":false,"merged":[[0,0,0,2],[1,0,1,17],[3,0,4,0],[3,14,4,14],[3,15,4,15],[3,16,4,16],[3,17,4,17]]}
["內部文件嚴禁外流"]
["2014年第一季業代新車承保獎勵統計表（依德）"]
[null,null,null,null,null,null,null,null,null,"投保率<70%",null,null,null,null,null,null,null,"2014-04-02"]
["業務代業",null,"鋿售台數",null,"車體","其他","強制","合計","專案","新車承保率","新車承保率",null,"承保金額",null,"提撥率","加權\n提撥率","2013年\n第四季\n承保率未達\n60%,八折計","業代獎金",null,null,null,"程式保護"]
[null,"一般(A)","租賃(B)","合計(C)","D","E","F","G","H","含專案((D+E+H)/A)","不含專案((D+E)/(A-H))","單強制","(車體+其他)","總金額",null,null,null,null,null,null,1,"上季達標準值"]
["梁大民",2,0,2,0,0,1,1,1,{"$f":"IF(ISERROR(ROUND(($E6+$F6+$I6)/$B6,3)),\"\",ROUND(($E6+$F6+$I6)/$B6,3))","v":0.5},{"$f":"IF(ISERROR(ROUND(($E6+$F6)/($B6-$I6),3)),\"\",ROUND(($E6+$F6)/($B6-$I6),3))","v":0},1398,0,1398,{"$f":"IF($J6<70%,\"0\",IF($J6<75%,\"0.5%\",IF($J6<80%,\"1%\",IF($J6<85%,\"1.25%\",IF($J6<90%,\"1.5%\",IF($J6<95%,\"2%\",IF($J6<101%,\"2.5%\",\"0\")))))))","v":"0"},{"$f":"IF($M6=0,\"0\",IF($M6<300000,\"0.75\",IF($M6<500000,\"1\",IF($M6<750000,\"1.25\",IF($M6<1000000,\"1.5\",IF($M6>1000000,\"1.75\"))))))","v":"0"},{"$f":"$U$5","v":1},{"$f":"ROUND($M6*$O6*$P6*$Q6,0)","v":0}]
["凌大偉",13,0,13,4,2,3,9,4,{"$f":"IF(ISERROR(ROUND(($E7+$F7+$I7)/$B7,3)),\"\",ROUND(($E7+$F7+$I7)/$B7,3))","v":0.76900000000000002},{"$f":"IF(ISERROR(ROUND(($E7+$F7)/($B7-$I7),3)),\"\",ROUND(($E7+$F7)/($B7-$I7),3))","v":0.66700000000000004},3895,222394,226289,{"$f":"IF($J7<70%,\"0\",IF($J7<75%,\"0.5%\",IF($J7<80%,\"1%\",IF($J7<85%,\"1.25%\",IF($J7<90%,\"1.5%\",IF($J7<95%,\"2%\",IF($J7<101%,\"2.5%\",\"0\")))))))","v":"1%"},{"$f":"IF($M7=0,\"0\",IF($M7<300000,\"0.75\",IF($M7<500000,\"1\",IF($M7<750000,\"1.25\",IF($M7<1000000,\"1.5\",IF($M7>1000000,\"1.75\"))))))","v":"0.75"},{"$f":"$U$5","v":1},{"$f":"ROUND($M7*$O7*$P7*$Q7,0)","v":1668}]
["花志明",3,3,6,2,0,0,2,0,0.66700000000000004,0.66700000000000004,0,94233,94233,"0","0.75",1,0]
["林柏霖",3,0,3,2,0,0,2,1,1,1,0,165719,165719,"2.5%","0.75",1,3107]
["郭天南",7,0,7,5,0,1,6,1,0.85699999999999998,0.83299999999999996,1398,385393,386791,"1.5%","1",1,5781]
["陳龍雲",10,2,12,10,0,0,10,0,1,1,0,642829,642829,"2.5%","1.25",1,20088]
["張健宏",11,0,11,7,1,0,8,3,1,1,0,567670,567670,"2.5%","1.25",1,17740]
["王裕明",4,0,4,3,1,0,4,0,1,1,0,227518,227518,"2.5%","0.75",1,4266]
["蘇士文",8,2,10,4,1,1,6,1,0.75,0.71399999999999997,1099,199980,201079,"1%","0.75",1,1500]
["李昀融",5,1,6,3,0,2,5,0,0.6,0.6,2037,186679,188716,"0","0.75",1,0]
["盧培育",0,0,0,0,0,0,0,0,"","",0,0,0,"0","0",1,0]
[null,null,null,0,null,null,null,0,null,null,null,0,null,{"$error":"#N/A"},null,null,null,0]
[null,null,null,0,null,null,null,0,null,null,null,0,null,{"$error":"#N/A"},null,null,null,0]
[null,null,null,0,null,null,null,0,null,null,null,0,null,{"$error":"#N/A"},null,null,null,0]
["營一課",66,8,74,40,5,8,53,11,{"$f":"IF(ISERROR(ROUND(($E20+$F20+$I20)/$B20,3)),\"\",ROUND(($E20+$F20+$I20)/$B20,3))","v":0.84799999999999998},{"$f":"IF(ISERROR(ROUND(($E20+$F20)/($B20-$I20),3)),\"\",ROUND(($E20+$F20)/($B20-$I20),3))","v":0.81799999999999995},9827,2692415,2702242,null,null,null,{"$f":"SUM(R6:R15)","v":54150}]
["莊朝清",8,0,8,3,1,3,7,1,{"$f":"IF(ISERROR(ROUND(($E21+$F21+$I21)/$B21,3)),\"\",ROUND(($E21+$F21+$I21)/$B21,3))","v":0.625},{"$f":"IF(ISERROR(ROUND(($E21+$F21)/($B21-$I21),3)),\"\",ROUND(($E21+$F21)/($B21-$I21),3))","v":0.57099999999999995},3685,208751,212436,{"$f":"IF($J21<70%,\"0\",IF($J21<75%,\"0.5%\",IF($J21<80%,\"1%\",IF($J21<85%,\"1.25%\",IF($J21<90%,\"1.5%\",IF($J21<95%,\"2%\",IF($J21<101%,\"2.5%\",\"0\")))))))","v":"0"},{"$f":"IF($M21=0,\"0\",IF($M21<300000,\"0.75\",IF($M21<500000,\"1\",IF($M21<750000,\"1.25\",IF($M21<1000000,\"1.5\",IF($M21>1000000,\"1.75\"))))))","v":"0.75"},{"$f":"$U$5","v":1},{"$f":"ROUND($M21*$O21*$P21*$Q21,0)","v":0}]
["林陳郎",6,0,6,5,0,1,6,0,{"$f":"IF(ISERROR(ROUND(($E22+$F22+$I22)/$B22,3)),\"\",ROUND(($E22+$F22+$I22)/$B22,3))","v":0.83299999999999996},{"$f":"IF(ISERROR(ROUND(($E22+$F22)/($B22-$I22),3)),\"\",ROUND(($E22+$F22)/($B22-$I22),3))","v":0.83299999999999996},889,363140,364029,{"$f":"IF($J22<70%,\"0\",IF($J22<75%,\"0.5%\",IF($J22<80%,\"1%\",IF($J22<85%,\"1.25%\",IF($J22<90%,\"1.5%\",IF($J22<95%,\"2%\",IF($J22<101%,\"2.5%\",\"0\")))))))","v":"1.25%"},{"$f":"IF($M22=0,\"0\",IF($M22<300000,\"0.75\",IF($M22<500000,\"1\",IF($M22<750000,\"1.25\",IF($M22<1000000,\"1.5\",IF($M22>1000000,\"1.75\"))))))","v":"1"},{"$f":"$U$5","v":1},{"$f":"ROUND($M22*$O22*$P22*$Q22,0)","v":4539}]
["謝中堅",8,0,8,6,0,1,7,0,0.75,0.75,1099,388773,389872,"1%","1",1,3888]
["王慶儒",7,1,8,6,0,0,6,1,1,1,0,433436,433436,"2.5%","1",1,10836]
["張昇文",1,1,2,1,0,0,1,0,1,1,0,34125,34125,"2.5%","0.75",1,640]
["林政勳",8,1,9,6,0,2,8,0,0.75,0.75,2796,454595,457391,"1%","1",1,4546]
["陳維德",5,1,6,2,0,1,3,1,0.6,0.5,1099,110169,111268,"0","0.75",1,0]
["王冠賢",6,1,7,4,0,0,4,2,1,1,0,214493,214493,"2.5%","0.75",1,4022]
["陳一鋐",8,1,9,6,0,2,8,0,0.75,0.75,2118,498085,500203,"1%","1",1,4981]
["戴子貽",5,1,6,3,0,0,3,2,1,1,0,228167,228167,"2.5%","0.75",1,4278]
["林宗慶",4,0,4,3,0,0,3,1,1,1,0,186787,186787,"2.5%","0.75",1,3502]
[null,null,null,null,null,null,null,null,null,null,null,0,null,0,null,null,null,0]
[null,null,null,null,null,null,null,null,null,null,null,0,null,0,null,null,null,0]
[null,null,null,null,null,null,null,null,null,null,null,0,null,0,null,null,null,0]
["營二課",66,7,73,45,1,10,56,8,{"$f":"IF(ISERROR(ROUND(($E35+$F35+$I35)/$B35,3)),\"\",ROUND(($E35+$F35+$I35)/$B35,3))","v":0.81799999999999995},{"$f":"IF(ISERROR(ROUND(($E35+$F35)/($B35-$I35),3)),\"\",ROUND(($E35+$F35)/($B35-$I35),3))","v":0.79300000000000004},11686,3120521,3132207,null,null,null,{"$f":"SUM(R21:R31)","v":41232}]
["陳禮建",4,0,4,4,0,0,4,0,{"$f":"IF(ISERROR(ROUND(($E36+$F36+$I36)/$B36,3)),\"\",ROUND(($E36+$F36+$I36)/$B36,3))","v":1},{"$f":"IF(ISERROR(ROUND(($E36+$F36)/($B36-$I36),3)),\"\",ROUND(($E36+$F36)/($B36-$I36),3))","v":1},0,259105,259105,{"$f":"IF($J36<70%,\"0\",IF($J36<75%,\"0.5%\",IF($J36<80%,\"1%\",IF($J36<85%,\"1.25%\",IF($J36<90%,\"1.5%\",IF($J36<95%,\"2%\",IF($J36<101%,\"2.5%\",\"0\")))))))","v":"2.5%"},{"$f":"IF($M36=0,\"0\",IF($M36<300000,\"0.75\",IF($M36<500000,\"1\",IF($M36<750000,\"1.25\",IF($M36<1000000,\"1.5\",IF($M36>1000000,\"1.75\"))))))","v":"0.75"},{"$f":"$U$5","v":1},{"$f":"ROUND($M36*$O36*$P36*$Q36,0)","v":4858}]
["黃盛緯",3,5,8,2,0,0,2,1,{"$f":"IF(ISERROR(ROUND(($E37+$F37+$I37)/$B37,3)),\"\",ROUND(($E37+$F37+$I37)/$B37,3))","v":1},{"$f":"IF(ISERROR(ROUND(($E37+$F37)/($B37-$I37),3)),\"\",ROUND(($E37+$F37)/($B37-$I37),3))","v":1},0,137596,137596,{"$f":"IF($J37<70%,\"0\",IF($J37<75%,\"0.5%\",IF($J37<80%,\"1%\",IF($J37<85%,\"1.25%\",IF($J37<90%,\"1.5%\",IF($J37<95%,\"2%\",IF($J37<101%,\"2.5%\",\"0\")))))))","v":"2.5%"},{"$f":"IF($M37=0,\"0\",IF($M37<300000,\"0.75\",IF($M37<500000,\"1\",IF($M37<750000,\"1.25\",IF($M37<1000000,\"1.5\",IF($M37>1000000,\"1.75\"))))))","v":"0.75"},{"$f":"$U$5","v":1},{"$f":"ROUND($M37*$O37*$P37*$Q37,0)","v":2580}]
["簡志勳",12,1,13,10,0,1,11,1,0.91700000000000004,0.90900000000000003,1457,693700,695157,"2%","1.25",1,17343]
["賈勇華",8,0,8,6,1,1,8,0,0.875,0.875,1138,592564,593702,"1.5%","1.25",1,11111]
["郭力嘉",2,0,2,2,0,0,2,0,1,1,0,133123,133123,"2.5%","0.75",1,2496]
["鄭英彥",5,1,6,3,1,1,5,0,0.8,0.8,1398,242606,244004,"1.25%","0.75",1,2274]
["林謙慶",7,1,8,5,0,1,6,1,0.85699999999999998,0.83299999999999996,1019,317112,318131,"1.5%","1",1,4757]
["劉家任",6,0,6,4,0,0,4,1,0.83299999999999996,0.8,0,256174,256174,"1.25%","0.75",1,2402]
["孫茂耀",3,1,4,3,0,0,3,0,1,1,0,188168,188168,"2.5%","0.75",1,3528]
["林芳明",7,1,8,6,0,1,7,0,0.85699999999999998,0.85699999999999998,1099,394596,395695,"1.5%","1",1,5919]
["李玄璸",3,0,3,1,0,1,2,1,0.66700000000000004,0.5,1148,114191,115339,"0","0.75",1,0]
[null,null,null,null,null,null,null,null,null,null,null,0,null,0,null,null,null,0]
[null,null,null,null,null,null,null,null,null,null,null,0,null,0,null,null,null,0]
[null,null,null,null,null,null,null,null,null,null,null,0,null,0,null,null,null,0]
["營三課",60,10,70,46,2,6,54,5,{"$f":"IF(ISERROR(ROUND(($E50+$F50+$I50)/$B50,3)),\"\",ROUND(($E50+$F50+$I50)/$B50,3))","v":0.88300000000000001},{"$f":"IF(ISERROR(ROUND(($E50+$F50)/($B50-$I50),3)),\"\",ROUND(($E50+$F50)/($B50-$I50),3))","v":0.873},7259,3328935,3336194,null,null,null,{"$f":"SUM(R36:R46)","v":57268}]
["1+2+3課",192,25,217,131,8,24,163,24,{"$f":"IF(ISERROR(ROUND(($E51+$F51+$I51)/$B51,3)),\"\",ROUND(($E51+$F51+$I51)/$B51,3))","v":0.84899999999999998},{"$f":"IF(ISERROR(ROUND(($E51+$F51)/($B51-$I51),3)),\"\",ROUND(($E51+$F51)/($B51-$I51),3))","v":0.82699999999999996},28772,9141871,9170643,{"$f":"O20+O35+O50","v":0},{"$f":"P20+P35+P50","v":0},{"$f":"Q20+Q35+Q50","v":0},{"$f":"R20+R35+R50","v":152650}]
["黃翠暖",0,0,0,0,0,0,0,0,{"$f":"IF(ISERROR(ROUND(($E52+$F52+$I52)/$B52,3)),\"\",ROUND(($E52+$F52+$I52)/$B52,3))","v":""},{"$f":"IF(ISERROR(ROUND(($E52+$F52)/($B52-$I52),3)),\"\",ROUND(($E52+$F52)/($B52-$I52),3))","v":""},0,0,0,{"$f":"IF($J52<70%,\"0\",IF($J52<75%,\"0.5%\",IF($J52<80%,\"1%\",IF($J52<85%,\"1.25%\",IF($J52<90%,\"1.5%\",IF($J52<95%,\"2%\",IF($J52<101%,\"2.5%\",\"0\")))))))","v":"0"},{"$f":"IF($M52=0,\"0\",IF($M52<300000,\"0.75\",IF($M52<500000,\"1\",IF($M52<750000,\"1.25\",IF($M52<1000000,\"1.5\",IF($M52>1000000,\"1.75\"))))))","v":"0"},1,{"$f":"ROUND($M52*$O52*$P52*$Q52,0)","v":0}]
["陳德益",26,0,26,5,0,21,26,0,0.192,0.192,29358,298719,328077,null,null,null,{"$f":"ROUND($M53*$O53*$P53*$Q53,0)","v":0}]
["營業部",26,0,26,5,0,21,26,0,0.192,0.192,29358,298719,328077,null,null,null,{"$f":"SUM(R52:R53)","v":0}]
["總     計",218,25,243,136,8,45,189,24,0.77100000000000002,0.74199999999999999,58130,9440590,9498720,null,null,null,{"$f":"ROUND($M55*$O55*$P55*$Q55,0)","v":0}]
["不含中央",192,25,217,131,8,24,163,24,{"$f":"ROUND(($E56+$F56+$I56)/$B56,3)","v":0.84899999999999998},{"$f":"ROUND(($E56+$F56)/($B56-$I56),3)","v":0.82699999999999996},28772,9141871,9170643,null,null,{"$f":"Q20+Q35+Q50","v":0},{"$f":"R20+R35+R50+R52","v":152650}]

{"sheet":"K.YD-業代續保獎勵統計表","index":13,"n_rows":72,"n_cols":19,"rows_kept":72,"cut":false,"hidden":false,"merged":[[1,4,1,10],[3,0,4,0],[3,1,3,4]]}
[]
[null,null,null,null,"2014年第1季業代續保保險獎勵統計"]
[]
["業代","承保件數",null,null,null,null,null,"承保金額"]
[null,"車體","其他","單強制","合計","單強制金額","總保費(含強制)","意外險以上","新續件","原續件","到期件數","單強制","車售","有效件數","續保承保率","提撥率","加權提撥率","未達70%,八折","業代獎金"]
["凌大偉",17,6,0,23,null,778070,{"$f":"(G6-F6)","v":778070},1,{"$f":"(E6-I6)","v":22},26,1,0,{"$f":"(K6-L6-M6)","v":25},{"$f":"((B6+C6)/N6)","v":0.92},{"$f":"IF(O6<0.8,\"0\",IF(O6<0.85,\"0.5%\",IF(O6<0.9,\"0.75%\",IF(O6<0.95,\"1%\",IF(O6<1,\"1.25%\",IF(O6<1.1,\"1.5%\",IF(O6<1.2,\"1.75%\",IF(O6>1.2,\"2%\",\"0\"))))))))","v":"1%"},{"$f":"IF(H6=0,\"0\",IF(H6<300000,\"0.75\",IF(H6<500000,\"1\",IF(H6<750000,\"1.25\",IF(H6<1000000,\"1.5\",IF(H6>1000000,\"1.75\"))))))","v":"1.5"},null,{"$f":"ROUND(H6*P6*Q6,0)","v":11671}]
["張哲彰",20,7,1,28,1099,1139881,1138782,2,26,26,0,0,26,1.0384615384615385,"1.5%","1.75",null,29893]
["張健宏",10,1,0,11,null,551220,551220,1,10,9,1,0,8,1.375,"2%","1.25",null,13781]
["梁大民",11,5,1,17,1099,549144,548045,0,17,22,1,0,21,0.76190476190476186,"0","1.25",null,0]
["林柏霖",3,1,0,4,null,195213,195213,0,4,12,3,1,8,0.5,"0","0.75",null,0]
["盧培育",6,1,1,8,1148,192079,190931,7,1,0,0,0,0,{"$error":"#DIV/0!"},{"$error":"#DIV/0!"},"0.75",null,{"$error":"#DIV/0!"}]
["王裕明",9,2,0,11,null,297965,297965,0,11,11,2,0,9,1.2222222222222223,"2%","0.75",null,4469]
["蘇士文",4,3,0,7,null,233554,233554,2,5,0,0,0,0,{"$error":"#DIV/0!"},{"$error":"#DIV/0!"},"0.75",null,{"$error":"#DIV/0!"}]
["郭天南",18,2,0,20,null,879555,879555,1,19,20,0,1,19,1.0526315789473684,"1.5%","1.5",null,19790]
["花志明",10,4,1,15,1019,545973,544954,5,10,16,2,0,14,1,"1.5%","1.25",null,10218]
["陳龍雲",5,2,0,7,null,302276,302276,1,6,9,1,1,7,1,"1.5%","1",null,4534]
["營一課 合計",{"$f":"SUM(B6:B16)","v":113},34,4,151,4365,5664930,5660565,20,131,151,11,3,137,1.0729927007299269,null,null,null,{"$f":"SUM(S6:S16)","v":{"$error":"#DIV/0!"}}]
["張昇文",22,4,0,26,null,907159,{"$f":"(G18-F18)","v":907159},2,{"$f":"(E18-I18)","v":24},33,3,1,{"$f":"(K18-L18-M18)","v":29},0.89655172413793105,{"$f":"IF(O18<0.8,\"0\",IF(O18<0.85,\"0.5%\",IF(O18<0.9,\"0.75%\",IF(O18<0.95,\"1%\",IF(O18<1,\"1.25%\",IF(O18<1.1,\"1.5%\",IF(O18<1.2,\"1.75%\",IF(O18>1.2,\"2%\",\"0\"))))))))","v":"0.75%"},{"$f":"IF(H18=0,\"0\",IF(H18<300000,\"0.75\",IF(H18<500000,\"1\",IF(H18<750000,\"1.25\",IF(H18<1000000,\"1.5\",IF(H18>1000000,\"1.75\"))))))","v":"1.5"},null,{"$f":"ROUND(H18*P18*Q18,0)","v":10206}]
["戴子貽",2,0,0,2,null,151609,151609,0,2,2,0,0,2,1,"1.5%","0.75",null,1706]
["梁志龍",11,3,0,14,null,784939,784939,3,11,15,1,1,13,1.0769230769230769,"1.5%","1.5",null,17661]
["林宗慶",4,2,1,7,1019,134851,133832,7,0,0,0,0,0,{"$error":"#DIV/0!"},{"$error":"#DIV/0!"},"0.75",null,{"$error":"#DIV/0!"}]
["林政勳",13,1,1,15,1099,669641,668542,0,15,12,0,0,12,1.1666666666666667,"1.75%","1.25",null,14624]
["林陳郎",13,5,0,18,null,688448,688448,2,16,17,1,0,16,1.125,"1.75%","1.25",null,15060]
["王冠賢",6,5,1,12,1138,268388,267250,3,9,14,6,0,8,1.375,"2%","0.75",null,4009]
["王慶儒",22,6,1,29,1138,1112621,1111483,2,27,37,4,1,32,0.875,"0.75%","1.75",null,14588]
["謝中堅",20,6,0,26,null,939998,939998,2,24,32,0,0,32,0.8125,"0.5%","1.5",null,7050]
["陳一鋐",3,1,0,4,null,198881,198881,0,4,8,0,0,8,0.5,"0","0.75",null,0]
["陳維德",9,1,0,10,null,437788,437788,1,9,12,1,1,10,1,"1.5%","1",null,6567]
["莊朝清",10,4,0,14,null,681915,681915,0,14,14,0,0,14,1,"1.5%","1.25",null,12786]
["營二課 合計",{"$f":"SUM(B18:B29)","v":135},38,4,177,4394,6976238,6971844,22,155,196,16,4,176,0.98295454545454541,null,null,null,{"$f":"SUM(S18:S29)","v":{"$error":"#DIV/0!"}}]
["孫茂耀",0,1,0,1,null,3939,{"$f":"(G31-F31)","v":3939},1,{"$f":"(E31-I31)","v":0},0,0,0,{"$f":"(K31-L31-M31)","v":0},{"$error":"#DIV/0!"},{"$f":"IF(O31<0.8,\"0\",IF(O31<0.85,\"0.5%\",IF(O31<0.9,\"0.75%\",IF(O31<0.95,\"1%\",IF(O31<1,\"1.25%\",IF(O31<1.1,\"1.5%\",IF(O31<1.2,\"1.75%\",IF(O31>1.2,\"2%\",\"0\"))))))))","v":{"$error":"#DIV/0!"}},{"$f":"IF(H31=0,\"0\",IF(H31<300000,\"0.75\",IF(H31<500000,\"1\",IF(H31<750000,\"1.25\",IF(H31<1000000,\"1.5\",IF(H31>1000000,\"1.75\"))))))","v":"0.75"},null,{"$f":"ROUND(H31*P31*Q31,0)","v":{"$error":"#DIV/0!"}}]
["劉家任",3,0,0,3,null,131759,131759,1,2,2,0,0,2,1.5,"2%","0.75",null,1976]
["林謙慶",3,0,2,5,2237,162150,159913,1,4,4,0,0,4,0.75,"0","0.75",null,0]
["林芳明",0,1,0,1,null,5558,5558,0,1,0,0,0,0,{"$error":"#DIV/0!"},{"$error":"#DIV/0!"},"0.75",null,{"$error":"#DIV/0!"}]
["簡志勳",10,6,1,17,1099,710642,709543,1,16,22,3,0,19,0.84210526315789469,"0.5%","1.25",null,4435]
["鄭英彥",1,0,0,1,null,81484,81484,0,1,5,0,1,4,0.25,"0","0.75",null,0]
["黃盛緯",27,5,1,33,1019,1300735,1299716,1,32,42,2,1,39,0.82051282051282048,"0.5%","1.75",null,11373]
["蕭敏聰",9,5,0,14,null,707576,707576,1,13,13,0,0,13,1.0769230769230769,"1.5%","1.25",null,13267]
["賈勇華",11,2,2,15,2198,652222,650024,0,15,17,1,0,16,0.8125,"0.5%","1.25",null,4063]
["郭力嘉",14,2,1,17,1099,789102,788003,1,16,18,1,0,17,0.94117647058823528,"1%","1.5",null,11820]
["陳禮建",11,4,0,15,null,443132,443132,1,14,16,1,0,15,1,"1.5%","1",null,6647]
["營三課 合計",{"$f":"SUM(B31:B41)","v":89},26,7,122,7652,4988299,4980647,8,114,139,8,2,129,0.89147286821705429,null,null,null,{"$f":"SUM(S31:S41)","v":{"$error":"#DIV/0!"}}]
["黃翠暖",6,0,0,6,null,281326,{"$f":"(G43-F43)","v":281326},1,{"$f":"(E43-I43)","v":5},6,1,0,{"$f":"(K43-L43-M43)","v":5},1.2,{"$f":"IF(O43<0.8,\"0\",IF(O43<0.85,\"0.5%\",IF(O43<0.9,\"0.75%\",IF(O43<0.95,\"1%\",IF(O43<1,\"1.25%\",IF(O43<1.1,\"1.5%\",IF(O43<1.2,\"1.75%\",IF(O43>1.2,\"2%\",\"0\"))))))))","v":"0"},{"$f":"IF(H43=0,\"0\",IF(H43<300000,\"0.75\",IF(H43<500000,\"1\",IF(H43<750000,\"1.25\",IF(H43<1000000,\"1.5\",IF(H43>1000000,\"1.75\"))))))","v":"0.75"},null,{"$f":"ROUND(H43*P43*Q43,0)","v":0}]
["陳德益",1,0,0,1,null,47621,{"$f":"(G44-F44)","v":47621},1,{"$f":"(E44-I44)","v":0},8,0,7,{"$f":"(K44-L44-M44)","v":1},1,{"$f":"IF(O44<0.8,\"0\",IF(O44<0.85,\"0.5%\",IF(O44<0.9,\"0.75%\",IF(O44<0.95,\"1%\",IF(O44<1,\"1.25%\",IF(O44<1.1,\"1.5%\",IF(O44<1.2,\"1.75%\",IF(O44>1.2,\"2%\",\"0\"))))))))","v":"1.5%"},{"$f":"IF(H44=0,\"0\",IF(H44<300000,\"0.75\",IF(H44<500000,\"1\",IF(H44<750000,\"1.25\",IF(H44<1000000,\"1.5\",IF(H44>1000000,\"1.75\"))))))","v":"0.75"},null,{"$f":"ROUND(H44*P44*Q44,0)","v":536}]
["營業部 合計",{"$f":"SUM(B43:B44)","v":7},0,0,7,0,328947,328947,2,5,14,1,7,6,1.1666666666666667,null,null,null,{"$f":"SUM(S43:S44)","v":536}]
["周益弘",2,0,0,2,null,139941,{"$f":"(G46-F46)","v":139941},0,{"$f":"(E46-I46)","v":2},2,0,0,{"$f":"(K46-L46-M46)","v":2},1,{"$f":"IF(O46<0.8,\"0\",IF(O46<0.85,\"0.5%\",IF(O46<0.9,\"0.75%\",IF(O46<0.95,\"1%\",IF(O46<1,\"1.25%\",IF(O46<1.1,\"1.5%\",IF(O46<1.2,\"1.75%\",IF(O46>1.2,\"2%\",\"0\"))))))))","v":"1.5%"},{"$f":"IF(H46=0,\"0\",IF(H46<300000,\"0.75\",IF(H46<500000,\"1\",IF(H46<750000,\"1.25\",IF(H46<1000000,\"1.5\",IF(H46>1000000,\"1.75\"))))))","v":"0.75"},null,{"$f":"ROUND(H46*P46*Q46,0)","v":1574}]
["洪嘉榮",1,0,0,1,null,66186,66186,0,1,0,0,0,0,{"$error":"#DIV/0!"},{"$error":"#DIV/0!"},"0.75",null,{"$error":"#DIV/0!"}]
["林至柔",1,0,0,1,null,64118,64118,0,1,1,0,0,1,1,"1.5%","0.75",null,721]
["李旭騰",1,0,0,1,null,65476,65476,0,1,1,0,0,1,1,"1.5%","0.75",null,737]
["李技霖",2,0,0,2,null,52064,52064,0,2,3,1,0,2,1,"1.5%","0.75",null,586]
["李百祥",11,1,1,13,1099,539037,537938,2,11,13,0,0,13,0.92307692307692313,"1%","1.25",null,6724]
["許慶麟",4,1,0,5,null,187278,187278,1,4,5,0,2,3,1.6666666666666667,"2%","0.75",null,2809]
["黃榮源",8,1,0,9,null,399194,399194,1,8,9,0,1,8,1.125,"1.75%","1",null,6986]
["趙令凱",0,1,0,1,null,5105,5105,0,1,1,0,0,1,1,"1.5%","0.75",null,57]
["賴來成",0,0,1,1,1099,1099,0,1,0,1,1,0,0,{"$error":"#DIV/0!"},{"$error":"#DIV/0!"},"0",null,{"$error":"#DIV/0!"}]
["賴育佐",0,1,0,1,null,5881,5881,0,1,1,0,0,1,1,"1.5%","0.75",null,66]
["辜正武",1,0,0,1,null,24557,24557,0,1,1,0,0,1,1,"1.5%","0.75",null,276]
["陳俊田",1,5,0,6,null,38900,38900,2,4,4,0,0,4,1.5,"2%","0.75",null,584]
["陳勝雄",7,2,1,10,1099,217359,216260,1,9,10,1,0,9,1,"1.5%","0.75",null,2433]
["陳欽榮",3,0,0,3,null,116952,116952,0,3,2,0,0,2,1.5,"2%","0.75",null,1754]
["服務部 合計",{"$f":"SUM(B46:B60)","v":42},12,3,57,3297,1923147,1919850,8,49,54,3,3,48,1.125,null,null,null,{"$f":"SUM(S46:S60)","v":{"$error":"#DIV/0!"}}]
["張湘愉",1,0,0,1,null,42927,{"$f":"(G62-F62)","v":42927},0,{"$f":"(E62-I62)","v":1},0,0,0,{"$f":"(K62-L62-M62)","v":0},{"$error":"#DIV/0!"},{"$f":"IF(O62<0.8,\"0\",IF(O62<0.85,\"0.5%\",IF(O62<0.9,\"0.75%\",IF(O62<0.95,\"1%\",IF(O62<1,\"1.25%\",IF(O62<1.1,\"1.5%\",IF(O62<1.2,\"1.75%\",IF(O62>1.2,\"2%\",\"0\"))))))))","v":{"$error":"#DIV/0!"}},{"$f":"IF(H62=0,\"0\",IF(H62<300000,\"0.75\",IF(H62<500000,\"1\",IF(H62<750000,\"1.25\",IF(H62<1000000,\"1.5\",IF(H62>1000000,\"1.75\"))))))","v":"0.75"},null,{"$f":"ROUND(H62*P62*Q62,0)","v":{"$error":"#DIV/0!"}}]
["吳美玲",1,0,0,1,null,25604,25604,1,0,1,0,0,1,1,"1.5%","0.75",null,288]
["林信宗",4,1,0,5,null,192182,192182,0,5,8,1,0,7,0.7142857142857143,"0","0.75",null,0]
["許嘉航",9,3,0,12,null,533578,533578,0,12,35,3,1,31,0.38709677419354838,"0","1.25",null,0]
["蔡燕森",3,1,0,4,null,214826,214826,0,4,4,0,0,4,1,"1.5%","0.75",null,2417]
["蔡青勳",1,0,0,1,null,60342,60342,0,1,0,0,0,0,{"$error":"#DIV/0!"},{"$error":"#DIV/0!"},"0.75",null,{"$error":"#DIV/0!"}]
["謝宛倫",3,1,0,4,null,127292,127292,0,4,0,0,0,0,{"$error":"#DIV/0!"},{"$error":"#DIV/0!"},"0.75",null,{"$error":"#DIV/0!"}]
["陳碧瀛",10,4,1,15,1099,371190,370091,1,14,16,4,2,10,1.4,"2%","1",null,7402]
["陳美杏",1,0,1,2,1138,23983,22845,0,2,3,2,0,1,{"$f":"((B70+C70)/N70)","v":1},"1.5%","0.75",null,257]
["STF 合計",{"$f":"SUM(B62:B70)","v":33},10,2,45,2237,1591924,1589687,2,43,67,10,3,54,0.79629629629629628,null,null,null,{"$f":"SUM(S62:S70)","v":{"$error":"#DIV/0!"}}]
["總計",{"$f":"SUM(B6:B71)/2","v":419},120,20,559,21945,21473485,21451540,62,497,621,49,22,550,0.98,null,null,null,{"$f":"SUM(S6:S71)/2","v":{"$error":"#DIV/0!"}}]

{"sheet":"L.Sheet1(檔名未更新)","index":14,"n_rows":28,"n_cols":15,"rows_kept":28,"cut":false,"hidden":false,"merged":[[0,0,0,3],[1,0,1,1],[1,2,1,3],[16,0,16,13],[18,0,19,0],[18,1,19,1],[18,2,19,2],[18,3,19,3],[18,4,19,4],[18,5,19,5],[18,12,19,12],[18,14,19,14],[18,6,19,6],[18,7,19,7],[18,8,19,8],[18,9,19,9],[18,10,19,10],[18,11,19,11]]}
["2014/01月新保承保率分析總表"]
["未保",null,"投保",null,"$佔比率","單強險"]
["租賃",9,"TW",6,5.6263465069184955E-2,0]
["一般",2,"MT",31,0.36261338023613937,4]
[null,null,"SC",33,0.38992518438541235,6]
[null,null,"FB",16,0.1911979703092633,3]
["合計",{"$f":"(B3+B4)","v":11},"合計",{"$f":"SUM(D3:D6)","v":86},{"$f":"SUM(E3:E6)","v":1},{"$f":"SUM(F3:F6)","v":13},"掛牌數",{"$f":"(B7+D7+B8+B9)","v":105}]
["專案保險",8,"(一般)"]
[null,0,"(租賃)"]
[null,{"$f":"(B8+B9)","v":8},"(小計)"]
[]
[]
[]
[]
[]
[]
["2014年新車每月銷售台數（依德）"]
[null,null,null,null,null,null,null,null,null,null,null,null,null,null,"2014-04-01"]
["月份","Jan","Feb","Mar","Apr","May","Jun","Jul","Aug","Sep","Oct","Nov","Dec","總計","%"]
[null,null,null,null,null,null,null,null,null,null,null,null,null,"Total"]
["銷售台數",105,29,109,0,0,0,0,0,0,0,0,0,243]
["一般",96,26,96,0,0,0,0,0,0,0,0,0,218]
["租賃",9,3,13,null,null,null,null,null,null,null,null,null,25,0.10290000000000001]
["不含單強制",73,10,61,null,null,null,null,null,null,null,null,null,144,0.66059999999999997]
["單強制",13,9,23,null,null,null,null,null,null,null,null,null,45,0.2064]
["已投保",86,19,84,0,0,0,0,0,0,0,0,0,189,0.86699999999999999]
["未保",2,3,0,0,0,0,0,0,0,0,0,0,5,2.29E-2]
["專案件（不含租賃）",8,4,12,null,null,null,null,null,null,null,null,null,24,0.1101]

{"sheet":"M.2014-01-YD-新保承保明細表","index":15,"n_rows":99,"n_cols":22,"rows_kept":99,"cut":false,"hidden":false,"merged":[]}
["客戶名稱","租賃公司","領牌日","部門","現金","租賃","保險","保險卡號","車號","業務代表","車體","其他","強制險","總計","單強制","車體數","其他數","強制數","專案","合約備註","保險備註","新保"]
["依德(股)公司",null,"103.01.07","營業部","現金",null,"明台","080P18747445","AGD-9387","陳德益",45824,27202,1398,74424,{"$f":"IF(AND($K2=0,$L2=0),$M2,\"\")","v":""},{"$f":"IF($K2>0,1,\"\")","v":1},{"$f":"IF(AND($K2=0,$L2>0),1,\"\")","v":""},{"$f":"IF(AND($K2=0,$L2=0,$M2>0),1,\"\")","v":""},null,null,"退佣5842  欽榮協理座車(公司付全額)","新保"]
["依德(股)公司",null,"103.01.15","營業部","現金",null,"明台","080P18747452","AFJ-7217","陳德益",45824,27202,1398,74424,"",1,"","",null,null,"退佣5842 陳副總座車(公司付全額)","新保"]
["徐嘉鎂",null,"103.01.20","營三課","現金",null,"富邦","05GEA01320","AAU-8168","劉家任",43480,30547,1059,75086,"",1,"","",null,null,"優惠 約2","新保"]
["劉照妏",null,"103.01.20","營二課","現金",null,"台產","011F2B0002238","AGU-1888","陳維德",30561,31122,1138,62821,"",1,"","",null,null,"優惠","新保"]
["正隆(股)公司",null,"103.01.28","營一課","現金",null,"富邦","05GEA01327","AAR-9788","梁大民",0,0,1398,1398,1398,"","",1,null,null,"任意待議","新保"]
["王雨涵",null,"103.01.15","營一課","現金",null,"華南","03AG604634","AGE-6189","郭天南",52718,29445,1457,83620,"",1,"","",null,null,"優惠","新保"]
["許爾佳",null,"103.01.17","營二課","現金",null,"富邦","05GEA01318","AGU-1698","林宗慶",15618,32379,1059,49056,"",1,"","",null,null,"優惠 郵寄","新保"]
["湯秉康",null,"103.01.17","營二課","現金",null,"華南","03AG604640","AGU-0788","林政勳",51569,34271,1398,87238,"",1,"","",null,null,"優惠","新保"]
["柯瑞月",null,"103.01.23","營一課","現金",null,"台產","011F2B0002241","AGU-3339","蘇士文",0,16074,1019,17093,"","",1,"",null,null,null,"新保"]
["依德(股)公司",null,"103.01.07","營業部","現金",null,"台產","011F2B0002237","AFJ-5661","陳德益",20877,27741,1398,50016,"",1,"","",null,null,"退佣3889  林柏霖獎勵車  (公司付五萬)","新保"]
["依德(股)公司",null,"103.01.08","營業部","現金",null,"台產","+080P18747444","AFJ-5697","陳德益",20580,28071,1398,50049,"",1,"","",null,null,"退佣3892 強制明台1/7  王慶儒獎勵車(公司付五萬)","新保"]
["依德(股)公司",null,"103.01.08","營業部","現金",null,"明台","080P18747444","AFJ-5697","陳德益",0,0,1398,1398,1398,"","",1,null,null,"任意台產1/16 慶儒獎勵車  (公司付五萬)","新保"]
["依德(股)公司",null,"103.01.07","營業部","現金",null,"台產","+080P18747446","AFJ-5727","陳德益",20877,27531,1398,49806,"",1,"","",null,null,"退佣3873  強制明台1/7  花志明獎勵車(公司付五萬)","新保"]
["依德(股)公司",null,"103.01.07","營業部","現金",null,"明台","080P18747446","AFJ-5727","陳德益",0,0,1398,1398,1398,"","",1,null,null,"任意台產1/9　花志明獎勵車 (公司付五萬)","新保"]
["長霖寰宇企業有限公司",null,"103.01.21","營二課","現金",null,"華南","03AG604650","AGU-2377","莊朝清",0,0,0,0,0,"","","","汎德專案","汎德贈乙式全險","汎德專案","新保"]
["陳柏年",null,"103.01.28","營一課","現金",null,"富邦","05DEA00720","AGU-5358","凌大偉",0,0,0,0,0,"","","","汎德專案","汎德贈乙式全險","汎德專案  2/6郵寄","新保"]
["施惠文",null,"103.01.21","營一課","現金",null,"明台","080P18747462","AGE-6822","張健宏",0,0,0,0,0,"","","","汎德專案","汎德贈乙式全險","汎德專案","新保"]
["李仁傑",null,"103.01.20","營二課","現金",null,"華南","03AG604646","AGU-0629","陳維德",0,0,1099,1099,1099,"","",1,null,null,"單強制","新保"]
["蔡曜懌",null,"103.01.23","營二課","現金",null,"明台","080P18747469","AGU-0118","王慶儒",14332,24592,1138,40062,"",1,"","",null,null,"優惠","新保"]
["萬事達嘉友旅店有限公司",null,"103.01.28","營二課","現金",null,"華南","03AG619330","AGU-5567","謝中堅",13682,31904,1398,46984,"",1,"","",null,null,"優惠","新保"]
["張玉蓮",null,"103.01.27","營一課","現金",null,"華南","03AG619325","1620-AC","張健宏",0,6248,889,7137,"","",1,"",null,null,null,"新保"]
["葉長青",null,"103.01.10","營三課","現金",null,"明台","080P18747450","AGD-9683","陳禮建",14853,27204,1398,43455,"",1,"","",null,null,"優惠","新保"]
["邵惠美",null,"103.01.17","營一課","現金",null,"明台","080P18747456","AGU-0188","蘇士文",39782,19064,1019,59865,"",1,"","",null,null,"優惠","新保"]
["蘇宗焜",null,"103.01.07","營三課","現金",null,"華南","03AG604628","AFJ-9189","賈勇華",0,0,1138,1138,1138,"","",1,null,null,"單強制","新保"]
["莊琪如",null,"103.01.16","營二課","現金",null,"富邦","05GEA01315","AGE-6626","謝中堅",52282,40350,1019,93651,"",1,"","",null,null,"優惠","新保"]
["黃耀興",null,"103.01.13","營二課","現金",null,"華南","03AG604635","AFJ-7618","戴子貽",46660,29087,1099,76846,"",1,"","",null,null,"優惠","新保"]
["吳美容",null,"103.01.13","營二課","現金",null,"華南","03AG604632","AGE-2323","林陳郎",0,0,889,889,889,"","",1,null,null,"任意待議","新保"]
["黃治喬",null,"103.01.13","營一課","現金",null,"華南","03AG604630","AHA-2756","陳龍雲",43383,22343,1099,66825,"",1,"","",null,null,"優惠","新保"]
["陳淑貞",null,"103.01.21","營二課","現金",null,"明台","080P18747461","AGU-2159","林政勳",47924,25706,1188,74818,"",1,"","",null,null,"優惠","新保"]
["津禾教育科技有限公司",null,"103.01.28","營二課","現金",null,"華南","03AG619327","AGU-2121","莊朝清",45019,25361,1398,71778,"",1,"","",null,null,"優惠","新保"]
["林維楨",null,"103.01.29","營三課","現金",null,"富邦","05GEA01330","AGE-8933","孫茂耀",36112,26273,1318,63703,"",1,"","",null,null,"強制1/29  優惠約4","新保"]
["林春英",null,"103.01.28","營二課","現金",null,"明台","080P18747861","AHA-1068","王冠賢",0,0,0,0,0,"","","","汎德專案","汎德贈乙式全險","汎德專案","新保"]
["方文",null,"103.01.28","營三課","現金",null,"明台","080P18747857","AGU-1035","林謙慶",40080,24415,1398,65893,"",1,"","",null,null,"優惠","新保"]
["陳沛宜",null,"103.01.24","營二課","現金",null,"明台","080P18747854","AGU-3698","林陳郎",30943,24764,1019,56726,"",1,"","",null,null,null,"新保"]
["張玉芊",null,"103.01.24","營三課","現金",null,"富邦","05GEA01322","AGU-3658","林謙慶",0,0,1019,1019,1019,"","",1,null,null,"1/27任意註銷","新保"]
["蕭思慈",null,"103.01.24","營一課","現金",null,"台產","011F2B0002240","AGF-5758","蘇士文",20145,20443,1019,41607,"",1,"","",null,null,"優惠","新保"]
["程凱得",null,"103.01.09","營二課","現金",null,"明台","080P18747447","AGE-0678","莊朝清",0,3971,1138,5109,"","",1,"",null,null,null,"新保"]
["莊睿文",null,"103.01.29","營一課","現金",null,"明台","080P18747863","AGU-6008","凌大偉",0,0,1099,1099,1099,"","",1,null,null,"單強制","新保"]
["常榮通信有限公司",null,"103.01.02","營一課","現金",null,"明台","080P18737497","AFJ-8528","陳龍雲",16418,32176,1398,49992,"",1,"","",null,null,"優惠","新保"]
["賴玉美",null,"103.01.17","營一課","現金",null,"華南","03AG604642","AGU-1366","郭天南",44938,30904,1019,76861,"",1,"","",null,null,"優惠","新保"]
["黃世光",null,"103.01.23","營二課","現金",null,"華南","03AG619324","AGD-5899","陳一鋐",50315,26136,1099,77550,"",1,"","",null,null,"優惠7","新保"]
["王國樑",null,"103.01.29","營三課","現金",null,"明台","080P18747864","AGF-2399","鄭英彥",0,0,1398,1398,1398,"","",1,null,null,"單強制","新保"]
["林逸豪",null,"103.01.03","營一課","現金",null,"明台","080P18747443","AFJ-3937","王裕明",0,3971,1099,5070,"","",1,"",null,null,null,"新保"]
["呂學俊",null,"103.01.10","營一課","現金",null,"明台","080P18747449","AGE-0311","王裕明",55455,39469,1099,96023,"",1,"","",null,null,"優惠","新保"]
["林燕玲",null,"103.01.28","營一課","現金",null,"明台","080P18747862","AGU-5708","蘇士文",0,0,0,0,0,"","","","汎德專案","汎德贈乙式全險","汎德專案","新保"]
["李佳麗",null,"103.01.27","營一課","現金",null,"明台","080P18747856","AGU-5369","凌大偉",14776,31113,1318,47207,"",1,"","",null,null,"優惠","新保"]
["陳碧珠",null,"103.01.02","營三課","現金",null,"華南","03AG604623","AFJ-7358","賈勇華",46413,30365,1019,77797,"",1,"","",null,null,"優惠    1/7 郵寄","新保"]
["廖哲賢",null,"103.01.28","營一課","現金",null,"華南","03AG619329","AGF-8666","張健宏",84034,34465,2694,121193,"",1,"","",null,null,"優惠","新保"]
["倪至寬",null,"103.01.22","營一課","現金",null,"華南","03AG619322","AGE-3305","王裕明",49073,26630,1148,76851,"",1,"","",null,null,"優惠","新保"]
["陳志松",null,"103.01.02","營三課","現金",null,"富邦","05GEA01312","AFJ-7887","林謙慶",20299,35663,1099,57061,"",1,"","",null,null,"1/3註銷重出","新保"]
["邱創立",null,"103.01.13","營一課","現金",null,"明台","080P18747451","AGE-8889","凌大偉",0,0,1398,1398,1398,"","",1,null,null,"任意待議","新保"]
["黃石彥",null,"103.01.20","營三課","現金",null,"明台","080P18747460","AGU-0106","鄭英彥",0,28594,1099,29693,"","",1,"",null,null,null,"新保"]
["海寶實業有限公司",null,"103.01.21","營一課","現金",null,"華南","03AG604648","AFJ-9110","郭天南",48190,34874,1398,84462,"",1,"","",null,null,"優惠","新保"]
["劉聯璋",null,"103.01.21","營三課","現金",null,"明台","080P18747463","AGU-1798","鄭英彥",50004,32461,1398,83863,"",1,"","",null,null,"優惠","新保"]
["劉昇昌",null,"103.01.16","營二課","現金",null,"明台","080P18747454","AFJ-8078","林陳郎",51579,35349,1099,88027,"",1,"","",null,null,"優惠","新保"]
["百慶纖維股份有限公司",null,"103.01.28","營三課","現金",null,"富邦","05GEA01328","AGU-5585","劉家任",17353,42439,1398,61190,"",1,"","",null,null,"優惠 約2","新保"]
["林妙玲",null,"103.01.22","營二課","現金",null,"華南","03AG619323","AGU-3198","林陳郎",39048,29705,1019,69772,"",1,"","",null,null,"優惠","新保"]
["楊金福",null,"103.01.16","營一課","現金",null,"富邦","05GEA01314","AFJ-9718","林柏霖",35602,39541,1099,76242,"",1,"","",null,null,"優惠  1/22郵寄","新保"]
["林淑惠",null,"103.01.13","營二課","現金",null,"華南","03AG604631","AFJ-6691","王冠賢",10938,31362,1318,43618,"",1,"","",null,null,"優惠7","新保"]
["蘇雪麗",null,"103.01.16","營三課","現金",null,"華南","03AG604633","AGU-1129","賈勇華",0,29705,1019,30724,"","",1,"",null,null,"1/29郵寄","新保"]
["王美華",null,"103.01.17","營二課","現金",null,"華南","03AG604639","AGU-0868","林陳郎",39048,30783,1019,70850,"",1,"","",null,null,"優惠65","新保"]
["昌漢開發工程有限公司",null,"103.01.21","營二課","現金",null,"華南","03AG604647","AGC-3155","林政勳",0,0,1398,1398,1398,"","",1,null,null,"單強制","新保"]
["陳榮美",null,"103.01.16","營三課","現金",null,"富邦","05GEA01316","AHA-5818","劉家任",52632,48396,1318,102346,"",1,"","",null,null,"優惠 約2","新保"]
["吳世榮",null,"103.01.15","營三課","現金",null,"明台","080P18747455","AGE-1176","李玄璸",74911,38181,1099,114191,"",1,"","",null,null,null,"新保"]
["高子琄",null,"103.01.28","營三課","現金",null,"富邦","05GEA01325","AGF-0515","孫茂耀",21888,48308,1019,71215,{"$f":"IF(AND($K66=0,$L66=0),$M66,\"\")","v":""},{"$f":"IF($K66>0,1,\"\")","v":1},{"$f":"IF(AND($K66=0,$L66>0),1,\"\")","v":""},{"$f":"IF(AND($K66=0,$L66=0,$M66>0),1,\"\")","v":""},null,null,null,"新保"]
["名軒開發股份有限公司",null,"103.01.03","營二課","現金",null,"華南","03AG604625","AGD-7986","陳一鋐",51249,36443,1398,89090,"",1,"","",null,null,"優惠7","新保"]
["梁瓊文",null,"103.01.27","營二課","現金",null,"華南","03AG619326","AGE-6281","張昇文",11720,21087,1318,34125,"",1,"","",null,null,"優惠","新保"]
["威技電器股份有限公司",null,"103.01.17","營三課","現金",null,"華南","03AG604636","AGU-1088","郭力嘉",51569,32539,1398,85506,"",1,"","",null,null,"優惠","新保"]
["張鳳英",null,"103.01.21","營三課","現金",null,"華南","03AG604649","AGU-2668","賈勇華",44938,28638,1019,74595,"",1,"","",null,"大宗客戶-葡眾","優惠","新保"]
["黃光武",null,"103.01.20","營二課","現金",null,"富邦","05GEA01319","AGX-3699","謝中堅",51140,33224,1148,85512,"",1,"","",null,null,null,"新保"]
["劉慧萍",null,"103.01.17","營二課","現金",null,"明台","080P18747457","AGE-2335","謝中堅",12430,23301,1318,37049,"",1,"","",null,null,"優惠","新保"]
["梁忠賢",null,"103.01.29","營一課","現金",null,"富邦","05GEA01329","AGF-1066","蘇士文",0,0,1099,1099,1099,"","",1,null,null,"任意待議","新保"]
["許進平",null,"103.01.17","營一課","現金",null,"富邦","05GEA01317","AGU-5138","花志明",15799,31379,1099,48277,"",1,"","",null,null,"優惠約2","新保"]
["張瓊方",null,"103.01.20","營二課","現金",null,"華南","03AG604641","AGU-0522","陳一鋐",0,0,1019,1019,1019,"","",1,null,null," 單強制","新保"]
["周展旭",null,"103.01.20","營二課","現金",null,"華南","03AG604644","AGU-0585","謝中堅",46659,30682,1398,78739,"",1,"","",null,null,"優惠7","新保"]
["陳泳雯",null,"103.01.22","營三課","現金",null,"明台","080P18747468","AGE-3955","孫茂耀",24651,27540,1059,53250,"",1,"","",null,"1311大宗客戶-宏達電","優惠","新保"]
["李秀玫",null,"103.01.23","營一課","現金",null,"明台","080P18747470","AGU-3268","李昀融",49734,26942,1019,77695,"",1,"","",null,null,"優惠  郵寄","新保"]
["華增活業有限公司",null,"103.01.28","營一課","現金",null,"明台","080P18747858","AHF-5158","陳龍雲",59168,27553,1398,88119,"",1,"","",null,null,"優惠  1/27註銷重出","新保"]
["鄭朝強",null,"103.01.28","營一課","現金",null,"富邦","05GEA01326","AGU-9693","林柏霖",53398,34980,1099,89477,"",1,"","",null,null,"優惠 約2  2/12 郵寄","新保"]
["曹桂榮",null,"103.01.16","營一課","現金",null,"華南","03AG604638","AGX-5858","郭天南",51569,30890,1099,83558,"",1,"","",null,null,"優惠","新保"]
["珀榮貿易股份有限公司",null,"103.01.15","營三課","現金",null,"明台","080P18747453","AFJ-9936","陳禮建",0,0,1398,1398,1398,"","",1,null,"1311","任意華南","新保"]
["珀榮貿易股份有限公司",null,"103.01.15","營三課","現金",null,"華南","+080P18747453","AFJ-9936","陳禮建",13597,34186,1398,49181,"",1,"","",null,"1311","優惠","新保"]
["呂依琪",null,"103.01.21","營三課","現金",null,"明台","080P18747464","AGU-2678","鄭英彥",48947,35074,1318,85339,"",1,"","",null,null,"優惠","新保"]
["王水珍",null,"103.01.24","營一課","現金",null,"明台","080P18747852","AGU-6588","凌大偉",42932,30124,889,73945,"",1,"","",null,null,"優惠","新保"]
["李莎莉",null,"103.01.17","營二課","現金",null,"明台","080P18747458","AGU-0599","王慶儒",51673,27398,1019,80090,"",1,"","",null,null,"優惠","新保"]
["博創印藝文化事業有限公司",null,"103.01.27","營二課","現金",null,"華南","03AG619328","AGU-0810","林政勳",0,0,1398,1398,1398,"","",1,null,null,"單強制","新保"]
["威盾實業(股)公司",null,"103.01.20","營三課","現金",null,"華南","03AG604645","AGU-2188","賈勇華",46660,31859,1398,79917,"",1,"","",null,null,"優惠7","新保"]
["世輔冷凍空調有限公司",null,"103.01.23","營一課","現金",null,"華南","03AG619332","AGF-5198","凌大偉",0,0,0,0,0,"","","","汎德專案","汎德贈乙式全險","汎德專案  1/28改華南(原1/23明台)","新保"]
["呂坤木",null,"103.01.17","營一課","現金",null,"明台","080P18747459","AGU-0268","李昀融",0,0,1148,1148,1148,"","",1,null,null,"任意待議","新保"]
["陳詩萍",null,"103.01.08","營二課","現金",null,"華南","03AG604629","AFJ-6835","陳維德",19236,27093,1019,47348,"",1,"","",null,null,null,"新保"]
["郭國勝",null,"103.01.24","營二課","現金",null,"明台","080P18747853","AGU-3298","陳一鋐",54836,35804,1099,91739,"",1,"","",null,null,"優惠","新保"]
["莊樹銘",null,"103.01.15","營二課","現金",null,"華南","03AG604637","AFJ-7572","陳一鋐",49932,30703,1099,81734,"",1,"","",null,null,"優惠","新保"]
["阮秀美",null,"103.01.20","營二課","現金",null,"富邦","05DEA00719","AFJ-8893","林宗慶",0,0,0,0,0,"","","","汎德專案","汎德贈乙式全險","汎德專案","新保"]
["楊淑娟",null,"103.01.20","營二課","現金",null,"華南","03AG604643","AGE-3161","陳維德",0,0,0,0,0,"","","","汎德專案","汎德贈乙式全險","汎德專案","新保"]
["呂淑梅",null,"103.01.28","營三課","現金",null,"明台","080P18747859","AGE-7169","簡志勳",37030,22724,1318,61072,"",1,"","",null,null,"優惠","新保"]
["賴玉珍",null,"103.01.28","營一課","現金",null,"富邦","05GEA01324","AGU-1102","蘇士文",17968,26942,1019,45929,"",1,"","",null,null,null,"新保"]
["宏合建設開發股份有限公司",null,"103.01.21","營三課","現金",null,"明台","080P18747465","AGU-0958","林謙慶",52334,33184,1398,86916,"",1,"","",null,null,"優惠","新保"]
["總計",null,null,null,null,null,null,null,null,null,{"$f":"SUM(K2:K98)","v":2575208},2144189,108389,4827786,19694,67,6,16,{"$f":"COUNTA(S2:S98)","v":8}]

{"sheet":"N.2014-01(檔名未更新)","index":16,"n_rows":293,"n_cols":15,"rows_kept":293,"cut":false,"hidden":false,"merged":[]}
["起保日","車號","車主名稱","車身號碼","業代","課別","公司","強制險","任意險","總保費","出卡日","自保","車售","其他","備註"]
["103.06.30","6895-YK","新光鋼鐵(股)公司","NN44473","吳侑親","營三課","富邦",null,null,null,null,null,null,null,"強制102.07.10~103.07.10  任意短期"]
["103.01.02","5589J6","林世協","L817667","林信宗","營三課","明台"]
["103.01.02","7966L9","陳中春","Y462960","陳一鋐","營二課","華南"]
["103.01.02","8989P9","來譽企業有限公司","C616333","黃盛緯","營二課","台產"]
["103.01.02","7K3357","黃振傑","ND31510","蔡燕森","營一課","華南"]
["103.01.02","8858-V8","陳清芳","L930345","王冠賢","營二課","台產"]
["103.01.02","AAT1637","王淑娟","J153333","葉子政","營一課","華南",null,null,null,null,null,null,null,"強制12/26"]
["103.01.02","AAT-6369","黃笠凱","DW87091","張昇文","營二課","明台"]
["103.01.02","AAT-6565","周志遠","DW40223","梁志龍","營二課","明台"]
["103.01.02","AAT2961","陳鳳梅","J173484","林柏霖","營一課","華南"]
["103.01.02","1319L2","余政達","C859555","凌大偉","營一課","明台"]
["103.01.02","AAB-1589","林麗雲","DY48524","許嘉航","營一課","華南"]
["103.01.02","AAT-3336","賴春美","DY83522","梁大民","營一課","華南"]
["103.01.02","8288TJ","許進東","LZ85050","張昇文","營二課","明台"]
["103.01.03","8F1557","陳膺中","GL08381","許嘉航","營一課","華南"]
["103.01.03","8998R3","皓協有限公司","C859545","郭力嘉","營三課","明台"]
["103.01.03","3699Q9","楊昆發","L514901","梁志龍","營二課","台產"]
["103.01.03","5957QX","林哲龍","ND07444","王慶儒","營二課","明台"]
["103.01.03","8229A7","沈夢雄","C620883","吳侑親","營三課","明台"]
["103.01.03","5708QX","林燕玲","ND07515","張哲彰","營一課","明台"]
["103.01.03","RAA-1503","財盟小客車租賃股份有限公司","DD85071","陳德益","營業部","台產"]
["103.01.03","5008QX","張佩宜","LZ84798","黃盛緯","營二課","明台"]
["103.01.03","3268YN","蔡巧玲","L255179","黃英杰","營三課","明台"]
["103.01.03","1980J6","何柏凱","E927673","陳維德","營二課","台產"]
["103.01.04","AK8685","利峻企業(有)","DD55527","黃榮源","服務部","明台",null,null,null,null,null,null,null,"3/28退"]
["103.01.04","5500L2","許高榮","C591624","梁志龍","營二課","明台"]
["103.01.04","3369J6","頂準投資有限公司","C905039","謝中堅","營二課","華南"]
["103.01.04","AAT-2282","依德股份有限公司","J191537","陳德益","營業部","台產",null,null,null,null,null,null,null,"8/1退"]
["103.01.04","9655A6","天驪企業有限公司","L432158","郭力嘉","營三課","明台"]
["103.01.04","RAA0078","財盟小客車租賃股份有限公司","DW42053","陳德益","營業部","明台"]
["103.01.04","RAA0079","財盟小客車租賃股份有限公司","L928972","陳德益","營業部","明台"]
["103.01.04","AAA-8363","依德股份有限公司","DY50880","陳德益","營業部","明台",null,null,null,null,null,null,null,"哲彰經理座車8/1退16514"]
["103.01.04","8898A7","永紘投資股份有限公司","L434942","花志明","營一課","台產"]
["103.01.04","AAT6821","陳穎聰","NN94328","張健宏","營一課","華南"]
["103.01.05","5855L2","昶誼工程有限公司","DU21846","郭天南","營一課","台產"]
["103.01.05","6077L2","張榮城","C616487","凌大偉","營一課","明台"]
["103.01.05","9119YA","趙凌仙","PW96999","張哲彰","營一課","華南"]
["103.01.05","AAA-6922","劉家笙","C999050","郭天南","營一課","華南"]
["103.01.05","7918H6","劉紋妃","DU24156","張昇文","營二課","華南"]
["103.01.05","1995J6","簡梅蘭","NN45232","陳維德","營二課","台產"]
["103.01.06","5957DS","城林都市更新股份有限公司","0123287","陳美杏","管理部","明台"]
["103.01.06","JD4322","黃福財","FE67464","蔡燕森","營一課","華南"]
["103.01.06","5957L2","洪定","DW36870","謝中堅","營二課","華南"]
["103.01.06","3399N3","潘秀蓮","L587672","王慶儒","營二課","明台"]
["103.01.06","0725DP","薛林金雀","A053596","張昇文","營二課","富邦"]
["103.01.06","1299M8","哈伯實業有限公司","C859547","郭天南","營一課","華南"]
["103.01.06","6899M8","楊元銑","L852908","陳德益","營業部","明台"]
["103.01.06","0307YB","賴淑貞","L346251","許嘉航","營一課","華南"]
["103.01.07","0839A7","陳儷珠","X057185","陳一鋐","營二課","華南"]
["103.01.07","3210K8","王芬鐘","GL08155","王慶儒","營二課","華南"]
["103.01.07","8389ZS","劉天龍","NL99382","凌大偉","營一課","明台"]
["103.01.07","3258VM","眾圓科技有限公司","L152596","許嘉航","營一課","華南"]
["103.01.07","0508A7","吳偉鈴","E582819","簡志勳","營一課","明台"]
["103.01.08","8718HJ","陳曉萍","3160253","黃盛緯","營二課","台產"]
["103.01.08","AAT7566","呂威穎","0A65326","花志明","營一課","明台"]
["103.01.08","AAT7789","王建林","VS28323","田錦興","營三課","富邦"]
["103.01.08","5588YB","奕達運通有限公司","L148908","程柏盛","STF","明台"]
["103.01.08","AAY5670","邱政瑋","WD90151","陳碧瀛","STF","台產"]
["103.01.08","AAT3693","許淑真","DY52225","郭天南","營一課","台產"]
["103.01.08","AAB3328","葉佳莉","NN75256","吳豐譽","營三課","華南"]
["103.01.08","2738VM","蔡乙誠-台新銀行","DU05249","張昇文","營二課","明台"]
["103.01.09","3268RJ","田君華","LT65942","周益弘","服務部","明台"]
["103.01.09","1111QX","謝元","PW96170","陳碧瀛","STF","明台"]
["103.01.09","0918A7","蕭惠文","T018838","李技霖","服務部","台產"]
["103.01.09","AAB0399","曾超琦","DY66153","王慶儒","營二課","明台"]
["103.01.09","AAQ0228","黃筠茜","F298818","林柏霖","營一課","富邦"]
["103.01.09","AAB0667","陳威達","DY50781","林謙慶","營三課","明台"]
["103.01.10","5056L2","黃玉玲","E891323","林信宗","營三課","華南"]
["103.01.10","6818L2","王秀萍","C591501","林政勳","營二課","明台"]
["103.01.10","6878ER","許新章","DF60505","辜正武","服務部","華南"]
["103.01.10","5729MR","張秀綺","411037D","陳一鋐","營二課","明台"]
["103.01.10","5123J6","禾翔興業有限公司","NN45234","黃英杰","營三課","明台"]
["103.01.10","7068L2","吳德權","DU26147","張哲彰","營一課","台產"]
["103.01.10","9999RJ","林順雄","B958289","張哲彰","營一課","明台"]
["103.01.10","1926J6","黃婷芳","C591500","張昇文","營二課","華南"]
["103.01.10","AAT8080","李淑芬","DW42598","林柏霖","營一課","華南"]
["103.01.10","AAT7966","碾鑫股份有限公司","DW41067","王慶儒","營二課","明台"]
["103.01.10","AAA-8107","依德股份有限公司","NN94298","陳德益","營業部","台產"]
["103.01.10","9958A6","達立科技股份有限公司","PA63918","陳維德","營二課","明台"]
["103.01.10","AAT7258","陳慧玉","DY23981","梁志龍","營二課","富邦"]
["103.01.11","0388TK","馬玉娟","P166870","黃榮源","服務部","台產"]
["103.01.11","1689RJ","羅麗玉","B958290","黃榮源","服務部","明台"]
["103.01.11","9869QT","鄭俊明","2040894","王裕明","營一課","富邦"]
["103.01.11","6600YN","許文襦","C420628","梁志龍","營二課","明台"]
["103.01.11","0007TK","張清木","WF57154","凌大偉","營一課","華南"]
["103.01.11","2772RJ","林憲璋","B956352","賈勇華","營三課","明台"]
["103.01.11","0319ZS","張韻華","L502399","郭力嘉","營三課","明台"]
["103.01.11","AAT7667","財團法人羅許基金會羅東博愛醫院","l906587","簡志勳","營一課","富邦"]
["103.01.11","6518YN","張志鵬","E353976","花志明","營一課","華南"]
["103.01.11","AAT5181","華創車電技術中心股份有限公司","NR22115","黃盛緯","營二課","台產"]
["103.01.11","1318VE","鄭小豫","CW41257","許慶麟","服務部","華南",null,null,null,null,null,null,null,"6/29退"]
["103.01.11","AAT6018","林倩如","VW96928","張健宏","營一課","明台"]
["103.01.12","3996RJ","千凡實業有限公司","CX25436","許嘉航","營一課","明台"]
["103.01.12","7K3768","吳珠速","DN21023","吳侑親","營三課","明台"]
["103.01.12","5601MR","林玉霞","A125360","陳一鋐","營二課","明台"]
["103.01.12","DG5577","洪孟涵","EF95630","郭力嘉","營三課","明台"]
["103.01.12","6688A7","甯珍珠","L392503","許嘉航","營一課","華南"]
["103.01.12","6728L2","陳烱明","NN45236","許嘉航","營一課","華南"]
["103.01.12","2255A7","榮大貿易股份有限公司","C336489","梁大民","營一課","明台"]
["103.01.12","3993A7","簡銘賜地政士事務所","E518134","花志明","營一課","明台"]
["103.01.12","3688DP","林子傑","B159790","陳碧瀛","STF","華南"]
["103.01.12","7367L2","吳仁豪","VS07514","林陳郎","營二課","華南"]
["103.01.12","1288TK","俞國昌","DM62383","簡志勳","營一課","明台"]
["103.01.13","3358F9","趙璽","E629578","黃盛緯","營二課","明台"]
["103.01.13","5668M9","祁亞文","DU43575","吳侑親","營三課","明台"]
["103.01.13","7667L2","黃庚佳","L819720","許嘉航","營一課","華南"]
["103.01.13","7397L2","黃明蘭","L819342","許嘉航","營一課","華南"]
["103.01.13","8399F9","徐瑞菁","A908511","黃盛緯","營二課","台產"]
["103.01.13","0596ZS","陳建民","L431390","黃盛緯","營二課","華南"]
["103.01.14","1971VM","秦誼縈","TT76017","陳碧瀛","STF","華南"]
["103.01.14","5838YJ","江之馼","L561761","陳禮建","營三課","明台"]
["103.01.14","HE5769","陳劉淑娟","GJ80368","張哲彰","營一課","明台"]
["103.01.14","AAT5263","蔡秀梅","NN94217","陳一鋐","營二課","華南"]
["103.01.14","AAB5877","廖雨珍","DY84003","陳禮建","營三課","明台"]
["103.01.14","9688F5","林建宇","1080C30","張昇文","營二課","明台"]
["103.01.14","6316YK","顏秋玲","C399989","張哲彰","營一課","華南"]
["103.01.14","AAB5979","陳曉華","D124592","林謙慶","營三課","明台"]
["103.01.14","ABV5556","沈綺紅","J674121","王冠賢","營二課","富邦"]
["103.01.15","8889YX","聚興科技股份有限公司","L322528","黃英杰","營三課","華南"]
["103.01.15","3331QG","郭昆昌","2618058","鄭英彥","營三課","富邦",null,null,null,null,null,null,null,"11/11退"]
["103.01.15","7887YN","台灣偉登精密工業(股)公司","L346153","簡志勳","營一課","明台"]
["103.01.15","AAT-2733","依德股份有限公司","F391500","許嘉航","營一課","華南",null,null,null,null,null,null,null,"7/8退"]
["103.01.15","7N9631","陳靜儀","PK91455","張昇文","營二課","明台"]
["103.01.15","5128YB","呂玉美","L346318","田錦興","營三課","明台"]
["103.01.15","AAT5781","嚴文遠","DX72397","鄭英彥","營三課","明台"]
["103.01.15","AAP8877","林陳雯","0A62426","陳一鋐","營二課","華南"]
["103.01.15","AAT9158","吳美專","NR09740","陳一鋐","營二課","明台"]
["103.01.15","6817L2","楊秋鈴","DW29304","謝中堅","營二課","華南"]
["103.01.16","6288XR","陳碧華","PW97122","黃榮源","服務部","明台"]
["103.01.16","5209L2","蕭漢武","L775361","黃英杰","營三課","華南"]
["103.01.16","2835ES","利明週邊有限公司","LT61248","王慶儒","營二課","明台"]
["103.01.16","AAB6998","畢家綠","DY54594","陳維德","營二課","華南"]
["103.01.16","3158MS","陳奇正","B044145","陳碧瀛","STF","明台"]
["103.01.16","7718J6","陳湘茵","C906777","張昇文","營二課","明台"]
["103.01.16","5388VF","顏錫亮","DU04881","張昇文","營二課","明台"]
["103.01.16","8333R3","賴怡倩","DU44798","王慶儒","營二課","明台"]
["103.01.17","7999J6","富思特開發股份有限公司","L817749","張健宏","營一課","明台"]
["103.01.17","8006L2","李澄池","L879432","王冠賢","營二課","台產"]
["103.01.17","2979MS","吳宙耕","B975432","凌大偉","營一課","明台"]
["103.01.17","6539YJ","鄧三貴","C258070","簡志勳","營一課","華南"]
["103.01.17","1919UZ","上官鈺","L155144","謝中堅","營二課","華南"]
["103.01.17","P77868","王財旺","BH64389","賈勇華","營三課","華南"]
["103.01.17","3700ES","呂文琴","B951099","陳勝雄","服務部","華南"]
["103.01.17","7658L2","賴玉玲","F041252","郭天南","營一課","台產"]
["103.01.17","1958L8","吳枷妮","DU46155","王裕明","營一課","華南"]
["103.01.17","AAP7756","詹益乾","E896567","許嘉航","營一課","華南"]
["103.01.17","AAQ-9988","吳宛明","DY84228","林政勳","營二課","華南"]
["103.01.17","AAT9366","鄧皓晏","NR09933","林陳郎","營二課","華南"]
["103.01.17","3098RJ","羅雅惠","B562997","程柏盛","STF","明台"]
["103.01.17","AAQ-6168","張朝旺","L841812","林政勳","營二課","明台"]
["103.01.17","3138R8","凌大偉","U780299","凌大偉","營一課","明台"]
["103.01.17","3300YK","杜政宏","NM08039","陳維德","營二課","明台"]
["103.01.17","AAT9139","葡瑛企業社","VT46425","賈勇華","營三課","華南"]
["103.01.17","AAQ1989","林淑慧","VT77069","梁志龍","營二課","華南"]
["103.01.17","AAB2830","林國森","NN94349","劉家任","營三課","富邦"]
["103.01.17","AAQ-0589","張晉豪","DY47195","陳金昇","營業部","明台"]
["103.01.18","6018YJ","黃弟實","C304252","凌大偉","營一課","華南"]
["103.01.18","5325ER","施淑滿","ND05667","陳勝雄","服務部","華南"]
["103.01.18","4455L2","張瓊蓉","NN45239","謝中堅","營二課","華南"]
["103.01.18","AAT7756","黃秀娟","NN94320","許嘉航","營一課","華南"]
["103.01.18","5338A7","華登建設有限公司","C336679","林陳郎","營二課","明台"]
["103.01.18","4726-T3","依德股份有限公司","F389889","陳龍雲","營一課","明台"]
["103.01.18","8378J6","林威志","DU05463","郭天南","營一課","台產"]
["103.01.18","AAT-9585","曾淑華","DY66109","戴子貽","營一課","華南"]
["103.01.18","8238L2","祐丞營造有限公司","NL99618","張昇文","營二課","華南"]
["103.01.18","AAT9868","蔡雪","NN94346","張昇文","營二課","華南"]
["103.01.19","3000UZ","台灣斯巴克環保工程有限公司","DT48279","李百祥","服務部","台產"]
["103.01.19","8099UX","朱誠中","DU16440","吳豐譽","營三課","華南"]
["103.01.19","8999L8","黃煥燿","L515936","許嘉航","營一課","華南"]
["103.01.19","0430M8","張春隆","L888351","梁志龍","營二課","華南",null,null,null,null,null,null,null,"7/11退"]
["103.01.19","6996ZT","青峰裝璜工程有限公司","A908507","王慶儒","營二課","明台"]
["103.01.19","7K7588","林淑媛","NC81124","陳俊田","服務部","華南"]
["103.01.19","6958YN","潘芳中","C342345","蕭敏聰","營三課","台產"]
["103.01.19","8955J6","黃秀蘭","DU24150","郭力嘉","營三課","華南"]
["103.01.19","2089QM","張珠宜","LT66264","王慶儒","營二課","明台"]
["103.01.19","0689ZT","林文章","L454211","陳碧瀛","STF","台產"]
["103.01.19","DH9900","梁妙金","BT55134","簡志勳","營一課","華南"]
["103.01.19","0199ZT","陳衍樺","E582846","李技霖","服務部","明台"]
["103.01.19","8055L8","鐳瑪科技有限公司","DU42509","蕭敏聰","營三課","明台"]
["103.01.20","5879VM","憬德營造有限公司","DF62294","林信宗","營三課","華南"]
["103.01.20","6598KD","良盟塑膠股份有限公司","CM61647","許嘉航","營一課","華南"]
["103.01.20","7888MS","楊裕全","CM03682","黃英杰","營三課","明台"]
["103.01.20","9799J6","蕭彩鳳","DU26933","李百祥","服務部","台產"]
["103.01.20","0253L3","世隆興業有限公司","LZ44359","張昇文","營二課","華南"]
["103.01.20","0653L2","呂緯盛","VS63509","黃盛緯","營二課","華南"]
["103.01.20","6257A7","陳秀蓮","C621147","吳侑親","營三課","華南"]
["103.01.20","8F7686","陳君寧","GM13753","林陳郎","營二課","華南"]
["103.01.21","5922VM","劉壽懷","C170514","陳禮建","營三課","明台"]
["103.01.21","7079YN","精信精密工業(股)公司","C386323","凌大偉","營一課","明台"]
["103.01.21","P79558","儒林印刷品(有)","AS93753","謝中堅","營二課","華南"]
["103.01.21","8268VR","陶汶","1U12020","王裕明","營一課","明台"]
["103.01.21","7727QX","劉有福","NE70273","王慶儒","營二課","明台"]
["103.01.21","5189QY","萬成紙品有限公司","CW41086","凌大偉","營一課","華南"]
["103.01.21","0696ZT","李香雲","VN85131","梁志龍","營二課","華南"]
["103.01.21","AAT-5118","范綉清","0A65305","陳龍雲","營一課","華南"]
["103.01.21","AAY2588","林美家","VU18542","林陳郎","營二課","明台"]
["103.01.21","AAT7153","張月香","DY49086","賈勇華","營三課","華南"]
["103.01.21","8899D8","毛喬德","C336097","黃盛緯","營二課","明台"]
["103.01.22","7066YN","林育秀","C240694","凌大偉","營一課","華南"]
["103.01.22","AAT8527","馮錦輝","J153331","黃盛緯","營二課","台產"]
["103.01.22","AAY1727","洪森強","DY54597","張昇文","營二課","明台"]
["103.01.23","6306VM","鄭冬生","NF19683","賈勇華","營三課","明台"]
["103.01.23","1099QH","漢利企業有限公司","DU10216","陳禮建","營三課","華南"]
["103.01.23","9576QY","呂賴素英","CW33423","謝中堅","營二課","華南"]
["103.01.23","AAY-0606","陳豐源","DY83536","陳維德","營二課","台產"]
["103.01.23","AAQ5898","曾淑惠","L930582","林柏霖","營一課","明台"]
["103.01.23","AAQ1312","梁仲賢","E596400","黃英杰","營三課","明台"]
["103.01.24","3799TK","林黃美英","DT95247","許嘉航","營一課","華南"]
["103.01.24","5608RJ","梁玉賢","LT66268","張哲彰","營一課","明台"]
["103.01.24","1628ZT","黃秋梓","2517221","王裕明","營一課","富邦"]
["103.01.24","AAY-1313","蔡東翰","DY84224","王慶儒","營二課","明台"]
["103.01.24","AAQ-0888","凰吉企業有限公司","D124599","王慶儒","營二課","明台"]
["103.01.24","9998ZT","林佩璇","E585652","陳維德","營二課","明台"]
["103.01.24","AAY1699","李素麗","0A04425","郭天南","營一課","富邦"]
["103.01.25","6666QY","泉洪企業有限公司","L102164","黃盛緯","營二課","華南"]
["103.01.25","5833ZT","王淑麗","NL99332","蔡燕森","STF","華南"]
["103.01.25","6036MS","陳文軺","CM02692","林陳郎","營二課","明台"]
["103.01.25","1659T3","吳岳憲","NN75145","梁志龍","營二課","富邦"]
["103.01.25","AAL-1177","梁家蓁","DY54678","黃盛緯","營二課","台產"]
["103.01.25","AAY2535","陳家慧","VS29930","梁大民","營一課","華南"]
["103.01.25","AAY-3788","鄭建大","DY54679","林陳郎","營二課","明台"]
["103.01.25","3888VR","黃雅貞","TU86241","許慶麟","服務部","華南"]
["103.01.25","AAL-8868","吳永裕","DY83537","花志明","營一課","華南"]
["103.01.25","AAD2260","方欽永","DY83543","王慶儒","營二課","華南"]
["103.01.25","AAY-0925","林味鈴","L956489","簡志勳","營一課","明台"]
["103.01.26","7218MS","何星潔","ND05713","陳禮建","營三課","明台"]
["103.01.26","5387KD","一廷企業有限公司","LD76570","梁大民","營一課","華南"]
["103.01.27","7K2788","鑫宏益塑膠有限公司","GM15890","陳俊田","服務部","台產"]
["103.01.27","3399F9","徐采廷","A908510","黃盛緯","營二課","台產"]
["103.01.27","7678MS","林嘉玲","PY44428","黃盛緯","營二課","明台"]
["103.01.27","8122DA","游仁德","B951103","梁大民","營一課","明台"]
["103.01.27","5168ZT","陳建發","C725868","凌大偉","營一課","台產",null,null,null,null,null,null,null,"9/3郵寄"]
["103.01.27","8F8370","廖利利","GL09000","凌大偉","營一課","明台"]
["103.01.27","6030A7","陳瑩芝","A908638","張哲彰","營一課","華南"]
["103.01.27","8588ZV","蔡嘉汝","VP96016","黃盛緯","營二課","明台"]
["103.01.28","5519EF","李曉雯","NA25674","陳禮建","營三課","明台"]
["103.01.28","3258ZT","龔淑梅","E518226","簡志勳","營一課","華南"]
["103.01.28","7389QX","金徵股份有限公司","CW41085","林至柔","服務部","明台"]
["103.01.28","AAY-3328","葉千綺","F234221","郭力嘉","營三課","富邦"]
["103.01.28","AAD5621","戎錫芬","DW42599","黃英杰","營三課","台產"]
["103.01.28","AAD-2802","中鼎機械有限公司","C421939","賈勇華","營三課","台產",null,null,null,null,null,null,null,"租賃到期12%"]
["103.01.28","AAD5515","韓若璽","L957004","陳龍雲","營一課","華南"]
["103.01.28","AAY5155","高珮珊","NN94302","凌大偉","營一課","明台"]
["103.01.28","ABK-5555","林明宗","DW41060","王冠賢","營二課","富邦"]
["103.01.28","0019ZT","余承義","A908681","陳禮建","營三課","華南"]
["103.01.29","3328YS","周伯勳","L322441","黃英杰","營三課","明台"]
["103.01.29","2139VR","永量工業有限公司","TU86320","黃英杰","營三課","明台"]
["103.01.29","8398YN","陳玉雪","CT29913","許嘉航","營一課","明台"]
["103.02.25","2111YS","李德勇","A056797","郭麗文","營一課","富邦"]
["103.01.29","AAY-5299","松銘營造股份有限公司","DW87037","凌大偉","營一課","明台"]
["103.01.29","AAQ-2288","高維謙","VT29327","凌大偉","營一課","明台"]
["103.01.29","AAQ-1388","劉霖芳","VT77551","謝中堅","營二課","明台"]
["103.01.30","6566RJ","林秀鑾","WD72911","謝中堅","營二課","明台"]
["103.01.30","0588QY","啟運興業(股)公司","CU44298","許嘉航","營一課","華南"]
["103.01.30","7029QX","邁拓企業股份有限公司","2196629","王裕明","營一課","富邦"]
["103.01.30","5450QX","湯秋香","NA25591","張昇文","營二課","明台"]
["103.01.30","2781WW","陳瑞瑩","C240886","陳勝雄","服務部","台產",null,null,null,null,null,null,null,"租賃到期12%"]
["103.01.30","AAY2199","獵傑管理顧問有限公司","L929475","吳豐譽","營三課","富邦"]
["103.01.30","RAA3726","鎔德-財盟租賃股份有限公司","DY66771","劉恆升","營業部","富邦"]
["103.01.30","RAA3731","鎔德-財盟小客車租賃股份有限公司","DZ52263","劉恆升","營業部","台產"]
["103.01.30","RAA3732"," 鎔德-財盟小客車租賃股份有限公司","DW42037","劉恆升","營業部","台產"]
["103.01.30","AAY2369","喬貿投資股份有限公司","L958695","林柏霖","營一課","明台"]
["103.01.30","6259K9","吳清貞","DU43013","黃盛緯","營二課","明台"]
["103.01.30","AAD-7677","蔡佩玲","NN72553","陳維德","營二課","富邦",null,null,null,null,null,null,null,"任意10/8退保  強制過戶張聲華"]
["103.01.31","K68626","陳阮玲","BH54335","陳碧瀛","STF","華南"]
["103.01.31","8977L2","黃勝志","E454525","許嘉航","營一課","華南"]
["103.01.31","8085YS","臺璟國際企業有限公司","C240745","謝中堅","營二課","明台"]
["103.01.31","9555L7","杜易龍","E928935","林政勳","營二課","明台"]
["103.01.31","5D6756","劉興聖","GZ07784","程柏盛","營一課","華南"]
["103.01.31","5839TK","宇田控制科技股份有限公司","L104803","程柏盛","STF","明台"]
["103.01.31","5025QG","許志宏","NC38411","張哲彰","營一課","明台"]
["103.01.31","3687EB","哲鼎股份有限公司","B916911","陳勝雄","服務部","明台"]
["103.01.31","AAY-2658","鍾素媛","DY83568","莊朝清","營二課","明台"]
["103.01.31","AAY-5887","陳淑美","DY54685","莊朝清","營二課","明台"]
["103.01.31","AAY-3139","郭力菲","NN94206","郭力嘉","營三課","台產"]
["103.01.31","AAY1832","高幼華","E896612","林謙慶","營三課","明台"]
["103.01.31","AAY-3189","陳美玲","NN94303","賈勇華","營三課","華南"]
["103.01.31","AAY2191","汪維瓏","NN94306","簡志勳","營一課","明台"]
["103.01.31","AAY5757","曾三原","NN72648","花志明","營一課","明台"]
["103.01.31","AAY2866","李佳真","DY84001","郭天南","營一課","台產"]
["103.01.31","AAY5958","惠而邦衡器控制有限公司","DY54683","王冠賢","營二課","華南"]
["103.01.31","AAA9968","方睿杰","NN72618","黃翠暖","行銷業務部","台產"]
["103.01.31","AAY2198","張天相","DY53297","莊朝清","營二課","台產"]
["103.01.31","9970J6","王秀菱","F041354","張哲彰","營一課","台產"]
["103.01.31","AAY6161","林佑親","DD85076","王裕明","營一課","台產"]
["103.01.31","5266M9","太允國際股份有限公司","L880029","陳維德","營二課","台產"]
["103.01.31","AAY3310","鄭明芳","NR07256","謝中堅","營二課","華南"]
["103.01.31","2767RJ","唐偉豪","A090433","花志明","營一課","富邦"]
["103.01.31","AAM2686","盈旺交通有限公司","C993420","張健宏","營一課","明台"]
["103.01.31","ACA0008","黃敏","J174896","梁志龍","營二課","明台"]
["103.01.31","AAY6336","富域建設股份有限公司","DX72022","吳侑親","營三課","明台"]
["103.01.31","5212J6","曾于真","L879778","郭天南","營一課","華南"]

{"sheet":"O.2014-01新保未投保電訪記錄表","index":17,"n_rows":18,"n_cols":31,"rows_kept":18,"cut":false,"hidden":false,"merged":[[1,26,2,26],[0,0,0,5],[1,6,1,14],[1,15,1,22],[1,23,2,23],[1,24,1,25]]}
["2014-01新保未投保電訪記錄表"]
[null,null,null,null,null,null,"自保保險公司",null,null,null,null,null,null,null,null,"未保考量因素",null,null,null,null,null,null,null,"客戶說明","關貿查詢資料",null,"確認書說明"]
["NO.","車 號","車主名稱","業 代","單強制","未保","台產","富邦","明台","華南","國泰","新安東京","新光","其他","無記錄","親友","企業客戶","便利性","保險費用","服務態度","同行調車","其他","無法聯絡",null,"保險公司","保險內容",null,"合約備註","保險備註","ID/統一編號","出生年月日"]
["1","AFW-7569","陳美燕","陳維德 ",null,"V"]
["2","AAR-9788","正隆(股)公司","梁大民","富邦",null,null,null,null,null,null,null,null,null,null,null,null,null,null,null,null,null,null,null,null,null,null,null,"任意待議","33085508"]
["3","AGU-0629","李仁傑","陳維德","華南",null,null,null,null,null,null,null,null,null,null,null,null,null,null,null,null,null,null,null,null,null,null,null,"單強制","F124679290","68.09.28"]
["4","AFJ-9189","蘇宗焜","賈勇華","華南",null,null,null,null,null,null,null,null,null,null,null,null,null,null,null,null,null,null,null,null,null,null,null,"單強制","F122910930","50.10.19"]
["5","AGE-2323","吳美容","林陳郎","華南",null,null,null,null,null,null,null,null,null,null,null,null,null,null,null,null,null,null,null,null,null,null,null,"任意待議","F203287132","42.11.03"]
["6","AGE-3168","賴逸虹","劉家任",null,"V"]
["7","AGU-3658","張玉芊","林謙慶","富邦",null,null,null,null,null,null,null,null,null,null,null,null,null,null,null,null,null,null,null,null,null,null,null,"1/27任意註銷","F220652633","58.08.29"]
["8","AGU-6008","莊睿文","凌大偉","明台",null,null,null,null,null,null,null,null,null,null,null,null,null,null,null,null,null,null,null,null,null,null,null,"單強制","A120812776","60.04.17"]
["9","AGF-2399","王國樑","鄭英彥","明台",null,null,null,null,null,null,null,null,null,null,null,null,null,null,null,null,null,null,null,null,null,null,null,"單強制","G120835702","49.07.15"]
["10","AGE-8889","邱創立","凌大偉","明台",null,null,null,null,null,null,null,null,null,null,null,null,null,null,null,null,null,null,null,null,null,null,null,"任意待議","F125153035","69.12.18"]
["11","AGC-3155","昌漢開發工程有限公司","林政勳","華南",null,null,null,null,null,null,null,null,null,null,null,null,null,null,null,null,null,null,null,null,null,null,null,"單強制","86806461"]
["12","AGF-1066","梁忠賢","蘇士文","富邦",null,null,null,null,null,null,null,null,null,null,null,null,null,null,null,null,null,null,null,null,null,null,null,"任意待議","L120533242","63.03.06"]
["13","AGU-0522","張瓊方","陳一鋐","華南",null,null,null,null,null,null,null,null,null,null,null,null,null,null,null,null,null,null,null,null,null,null,null," 單強制","A225166182","68.05.22"]
["14","AGU-0810","博創印藝文化事業有限公司","林政勳","華南",null,null,null,null,null,null,null,null,null,null,null,null,null,null,null,null,null,null,null,null,null,null,null,"單強制","84860974"]
["15","AGU-0268","呂坤木","李昀融","明台",null,null,null,null,null,null,null,null,null,null,null,null,null,null,null,null,null,null,null,null,null,null,null,"任意待議","F102686595","36.11.28"]

{"sheet":"P.2014-01續保未投保電訪記錄表","index":18,"n_rows":83,"n_cols":33,"rows_kept":83,"cut":false,"hidden":false,"merged":[[0,0,0,3],[1,9,1,17],[1,18,1,25]]}
["2014-01續保未保電訪記錄表"]
[null,null,null,null,null,null,null,null,null,"自保保險公司",null,null,null,null,null,null,null,null,"未保考量因素",null,null,null,null,null,null,null,null,"關貿查詢資料"]
["NO","車 號","車主名稱","業 代","承保公司","單強制","任意","總保費","車售","台產","富邦","明台","華南","國泰","新安東京","新光","其他","無記錄","親友","企業客戶","便利性","保險費用","服務態度","同行調車","其他","無法聯絡","備註","保險公司","保險內容","投保日期","是否已過戶","ID/統一編號","出生年月日"]
["4","AAT2961","陳鳳梅","林柏霖","華南",null,null,1019,null,null,null,null,null,null,null,null,null,null,null,null,null,null,null,null,null,null,null,null,null,null,null,"F229205989","49.12.16"]
["9","0307YB","賴淑貞","許嘉航","華南",null,null,1019,null,null,null,null,null,null,null,null,null,null,null,null,null,null,null,null,null,null,null,null,null,null,null,"F222535322","64.03.07"]
["11","0508A7","吳偉鈴","簡志勳","明台",null,null,1019,null,null,null,null,null,null,null,null,null,null,null,null,null,null,null,null,null,null,null,null,null,null,null,"P222182248","64.08.03"]
["19","AAT8080","李淑芬","林柏霖","華南",null,null,1019,null,null,null,null,null,null,null,null,null,null,null,null,null,null,null,null,null,null,null,null,null,null,null,"H221948087","65.07.15"]
["34","AAB6998","畢家綠","陳維德","華南",null,null,1019,null,null,null,null,null,null,null,null,null,null,null,null,null,null,null,null,null,null,null,null,null,null,null,"E220461257","58.01.05"]
["43","0199ZT","陳衍樺","李技霖","明台",null,null,1019,null,null,null,null,null,null,null,null,null,null,null,null,null,null,null,null,null,null,null,null,null,null,null,"F223346383","63.09.15"]
["5","AAB1589","林麗雲","許嘉航","華南",null,null,1019,null,null,null,null,null,null,null,null,null,null,null,null,null,null,null,null,null,null,null,null,null,null,null,"P221357634","49.04.22"]
["70","AAY3139","郭力菲","郭力嘉","台產",null,null,1019,null,null,null,null,null,null,null,null,null,null,null,null,null,null,null,null,null,null,null,null,null,null,null,"A223548462","56.09.24"]
["12","AAT7566","呂威穎","花志明","明台",null,null,1099,null,null,null,null,null,null,null,null,null,null,null,null,null,null,null,null,null,null,null,null,null,null,null,"B121185706","64.09.06"]
["26","3688DP","林子傑","陳碧瀛","華南",null,null,1099,null,null,null,null,null,null,null,null,null,null,null,null,null,null,null,null,null,null,null,null,null,null,null,"F123231081","61.10.24"]
["38","3300YK","杜政宏","陳維德","明台",null,null,1099,null,null,null,null,null,null,null,null,null,null,null,null,null,null,null,null,null,null,null,null,null,null,null,"F120482193","59.11.25"]
["3","8858V8","陳清芳","王冠賢","台產",null,null,1099,null,null,null,null,null,null,null,null,null,null,null,null,null,null,null,null,null,null,null,null,null,null,null,"F120990163","45.01.08"]
["47","AAY2588","林美家","林陳郎","明台",null,null,1138,null,null,null,null,null,null,null,null,null,null,null,null,null,null,null,null,null,null,null,null,null,null,null,"L220340632","53.01.29"]
["75","AAA9968","方睿杰","黃翠暖","台產",null,null,1138,null,null,null,null,null,null,null,null,null,null,null,null,null,null,null,null,null,null,null,null,null,null,null,"G120050521","55.04.03"]
["13","AAT7789","王建林","田錦興","富邦",null,null,1148,null,null,null,null,null,null,null,null,null,null,null,null,null,null,null,null,null,null,null,null,null,null,null,"G100143221","38.11.15"]
["72","AAY2191","汪維瓏","簡志勳","明台",null,null,1148,null,null,null,null,null,null,null,null,null,null,null,null,null,null,null,null,null,null,null,null,null,null,null,"J100329090","33.11.11"]
["20","AAT7966","碾鑫股份有限公司","王慶儒","明台",null,null,1218,null,null,null,null,null,null,null,null,null,null,null,null,null,null,null,null,null,null,null,null,null,null,null,"70599373"]
["74","AAY5958","惠而邦衡器控制有限公司","王冠賢","華南",null,null,1218,null,null,null,null,null,null,null,null,null,null,null,null,null,null,null,null,null,null,null,null,null,null,null,"27889697"]
["29","9688F5","林建宇","張昇文","明台",null,null,1318,null,null,null,null,null,null,null,null,null,null,null,null,null,null,null,null,null,null,null,null,null,null,null,"F121711273","61.12.07"]
["17","5729MR","張秀綺","陳一鋐","明台",null,null,2694,null,null,null,null,null,null,null,null,null,null,null,null,null,null,null,null,null,null,null,null,null,null,null,"S221511613","46.05.10"]
["10","0839A7","陳儷珠","陳一鋐","華南",null,null,3737,null,null,null,null,null,null,null,null,null,null,null,null,null,null,null,null,null,null,null,null,null,null,null,"P200602812","47.01.08"]
["8","0725DP","薛林金雀","張昇文","富邦",null,null,4492,null,null,null,null,null,null,null,null,null,null,null,null,null,null,null,null,null,null,null,null,null,null,null,"P200607102","43.09.26"]
["49","3799TK","林黃美英","許嘉航","華南",null,null,5542,null,null,null,null,null,null,null,null,null,null,null,null,null,null,null,null,null,null,null,null,null,null,null,"F202635054","39.06.04"]
["25","7K3768","吳珠速","吳侑親","明台",null,null,10603,null,null,null,null,null,null,null,null,null,null,null,null,null,null,null,null,null,null,null,null,null,null,null,"P221792026","52.11.30"]
["40","AAT9868","蔡雪","張昇文","華南",null,null,10910,null,null,null,null,null,null,null,null,null,null,null,null,null,null,null,null,null,null,null,null,null,null,null,"N203196883","34.05.01"]
["53","8588ZV","蔡嘉汝","黃盛緯","明台",null,null,16805,null,null,null,null,null,null,null,null,null,null,null,null,null,null,null,null,null,null,null,null,null,null,null,"F223753673","65.06.21"]
["27","5668M9","祁亞文","吳侑親","明台",null,null,27464,null,null,null,null,null,null,null,null,null,null,null,null,null,null,null,null,null,null,null,null,null,null,null,"F121904009","54.12.09"]
["42","6996ZT","青峰裝璜工程有限公司","王慶儒","明台",null,null,28171,null,null,null,null,null,null,null,null,null,null,null,null,null,null,null,null,null,null,null,null,null,null,null,"20803858"]
["35","7718J6","陳湘茵","張昇文","明台",null,null,28210,null,null,null,null,null,null,null,null,null,null,null,null,null,null,null,null,null,null,null,null,null,null,null,"C220455006","64.07.04"]
["2","7966L9","陳中春","陳一鋐","華南",null,null,31330,null,null,null,null,null,null,null,null,null,null,null,null,null,null,null,null,null,null,null,null,null,null,null,"G120399578","55.02.15"]
["45","6257A7","陳秀蓮","吳侑親","華南",null,null,32575,null,null,null,null,null,null,null,null,null,null,null,null,null,null,null,null,null,null,null,null,null,null,null,"U220230255","49.03.04"]
["77","AAY3310","鄭明芳","謝中堅","華南",null,null,36202,null,null,null,null,null,null,null,null,null,null,null,null,null,null,null,null,null,null,null,null,null,null,null,"K221480582","71.02.21"]
["6","8229A7","沈夢雄","吳侑親","明台",null,null,37320,null,null,null,null,null,null,null,null,null,null,null,null,null,null,null,null,null,null,null,null,null,null,null,"P120221786","59.05.24"]
["28","7397L2","黃明蘭","許嘉航","華南",null,null,37507,null,null,null,null,null,null,null,null,null,null,null,null,null,null,null,null,null,null,null,null,null,null,null,"Q222133184","59.01.03"]
["79","ACA0008","黃敏","梁志龍","明台",null,null,40694,null,null,null,null,null,null,null,null,null,null,null,null,null,null,null,null,null,null,null,null,null,null,null,"G221428098","70.08.02"]
["67","6259K9","吳清貞","黃盛緯","明台",null,null,43125,null,null,null,null,null,null,null,null,null,null,null,null,null,null,null,null,null,null,null,null,null,null,null,"Y220250811","61.06.04"]
["73","AAY5757","曾三原","花志明","明台",null,null,44296,null,null,null,null,null,null,null,null,null,null,null,null,null,null,null,null,null,null,null,null,null,null,null,"P121493213","57.10.12"]
["52","AAL8868","吳永裕","花志明","華南",null,null,44475,null,null,null,null,null,null,null,null,null,null,null,null,null,null,null,null,null,null,null,null,null,null,null,"L121438522","53.04.10"]
["51","AAL1177","梁家蓁","黃盛緯","台產",null,null,46210,null,null,null,null,null,null,null,null,null,null,null,null,null,null,null,null,null,null,null,null,null,null,null,"B221186161","64.06.25"]
["1","6895YK","新光鋼鐵(股)公司","吳侑親","富邦",null,null,48394,null,null,null,null,null,null,null,null,null,null,null,null,null,null,null,null,null,null,null,null,null,null,null,"35836625"]
["56","AAY5155","高珮珊","凌大偉","明台",null,null,50655,null,null,null,null,null,null,null,null,null,null,null,null,null,null,null,null,null,null,null,null,null,null,null,"F227543191","79.09.25"]
["61","2781WW","陳瑞瑩","陳勝雄","台產",null,null,53071,null,null,null,null,null,null,null,null,null,null,null,null,null,null,null,null,null,null,null,null,null,null,null,"J220988097","52.12.07"]
["60","5450QX","湯秋香","張昇文","明台",null,null,54981,null,null,null,null,null,null,null,null,null,null,null,null,null,null,null,null,null,null,null,null,null,null,null,"F220381853","49.08.14"]
["21","AAT7258","陳慧玉","梁志龍","富邦",null,null,59289,null,null,null,null,null,null,null,null,null,null,null,null,null,null,null,null,null,null,null,null,null,null,null,"N220653583","61.10.31"]
["41","8099UX","朱誠中","吳豐譽","華南",null,null,63285,null,null,null,null,null,null,null,null,null,null,null,null,null,null,null,null,null,null,null,null,null,null,null,"Y120251290","55.02.13"]
["24","AAT5181","華創車電技術中心股份有限公司","黃盛緯","台產",null,null,71903,null,null,null,null,null,null,null,null,null,null,null,null,null,null,null,null,null,null,null,null,null,null,null,"27932239"]
["23","AAT7667","財團法人羅許基金會羅東博愛醫院","簡志勳","富邦",null,null,75874,null,null,null,null,null,null,null,null,null,null,null,null,null,null,null,null,null,null,null,null,null,null,null,"42005610"]
["59","8398YN","陳玉雪","許嘉航","明台",null,null,80599,null,null,null,null,null,null,null,null,null,null,null,null,null,null,null,null,null,null,null,null,null,null,null,"A200165090","42.03.02"]
["78","AAM2686","盈旺交通有限公司","張健宏","明台",null,null,83812,null,null,null,null,null,null,null,null,null,null,null,null,null,null,null,null,null,null,null,null,null,null,null,"89698727"]
["71","AAY3189","陳美玲","賈勇華","華南",null,null,87113,null,null,null,null,null,null,null,null,null,null,null,null,null,null,null,null,null,null,null,null,null,null,null,"L220913528","54.08.31"]
["66","AAY2369","喬貿投資股份有限公司","林柏霖","明台",null,null,89768,null,null,null,null,null,null,null,null,null,null,null,null,null,null,null,null,null,null,null,null,null,null,null,"24394356"]
["16","AAB3328","葉佳莉","吳豐譽","華南",null,null,90011,null,null,null,null,null,null,null,null,null,null,null,null,null,null,null,null,null,null,null,null,null,null,null,"F224318703","67.05.22"]
["62","AAY2199","獵傑管理顧問有限公司","吳豐譽","富邦",null,null,102347,null,null,null,null,null,null,null,null,null,null,null,null,null,null,null,null,null,null,null,null,null,null,null,"12691845"]
["76","AAY6161","林佑親","王裕明","台產",null,null,105760,null,null,null,null,null,null,null,null,null,null,null,null,null,null,null,null,null,null,null,null,null,null,null,"A228435611","73.10.12"]
["80","AAY6336","富域建設股份有限公司","吳侑親","明台",null,null,138206,null,null,null,null,null,null,null,null,null,null,null,null,null,null,null,null,null,null,null,null,null,null,null,"28915504"]
["22","2772RJ","林憲璋","賈勇華","明台",null,null,"?","退保",null,null,null,null,null,null,null,null,null,null,null,null,null,null,null,null,null,null,null,null,null,null,"P121355638","59.04.26"]
["54","3258ZT","龔淑梅","簡志勳","華南",null,null,"?","080P18747448",null,null,null,null,null,null,null,null,null,null,null,null,null,null,null,null,null,null,null,null,null,null,"F221637729","63.03.25"]
["32","6817L2","楊秋鈴","謝中堅","華南",null,null,"?","到期單無",null,null,null,null,null,null,null,null,null,null,null,null,null,null,null,null,null,null,null,null,null,null,"J220316537","51.11.09"]
["31","5128YB","呂玉美","田錦興","明台",null,null,"?","到期單無",null,null,null,null,null,null,null,null,null,null,null,null,null,null,null,null,null,null,null,null,null,null,"F222919828","55.07.04"]
["37","3138R8","凌大偉","凌大偉","明台",null,null,"?","到期單無",null,null,null,null,null,null,null,null,null,null,null,null,null,null,null,null,null,null,null,null,null,null,"P122172455","62.06.03"]
["50","1659T3","吳岳憲","梁志龍","富邦",null,null,"?","到期單無",null,null,null,null,null,null,null,null,null,null,null,null,null,null,null,null,null,null,null,null,null,null,"F124137395","65.11.30"]
["46","AAT5118","范綉清","陳龍雲","華南",null,null,"?","到期單無",null,null,null,null,null,null,null,null,null,null,null,null,null,null,null,null,null,null,null,null,null,null,"J221700622","67.10.03"]
["15","AAY5670","邱政瑋","陳碧瀛","台產",null,null,"?","原1/8改12/24",null,null,null,null,null,null,null,null,null,null,null,null,null,null,null,null,null,null,null,null,null,null,"F125533640","72.07.22"]
["14","5588YB","奕達運通有限公司","程柏盛","明台",null,null,"鎔德",null,null,null,null,null,null,null,null,null,null,null,null,null,null,null,null,null,null,null,null,null,null,null,"21213916"]
["36","3098RJ","羅雅惠","程柏盛","明台",null,null,"鎔德",null,null,null,null,null,null,null,null,null,null,null,null,null,null,null,null,null,null,null,null,null,null,null,"F222066019","61.11.03"]
["68","5D6756","劉興聖","程柏盛","華南",null,null,"鎔德",null,null,null,null,null,null,null,null,null,null,null,null,null,null,null,null,null,null,null,null,null,null,null,"J120566679","52.04.28"]
["69","5839TK","宇田控制科技股份有限公司","程柏盛","明台",null,null,"鎔德",null,null,null,null,null,null,null,null,null,null,null,null,null,null,null,null,null,null,null,null,null,null,null,"84218930"]
["7","3268YN","蔡巧玲","黃英杰","明台",null,null,"鎔德",null,null,null,null,null,null,null,null,null,null,null,null,null,null,null,null,null,null,null,null,null,null,null,"A223217613","53.12.05"]
["18","5123J6","禾翔興業有限公司","黃英杰","明台",null,null,"鎔德",null,null,null,null,null,null,null,null,null,null,null,null,null,null,null,null,null,null,null,null,null,null,null,"16035167"]
["30","8889YX","聚興科技股份有限公司","黃英杰","華南",null,null,"鎔德",null,null,null,null,null,null,null,null,null,null,null,null,null,null,null,null,null,null,null,null,null,null,null,"97282244"]
["33","5209L2","蕭漢武","黃英杰","華南",null,null,"鎔德",null,null,null,null,null,null,null,null,null,null,null,null,null,null,null,null,null,null,null,null,null,null,null,"R121969634","52.09.12"]
["44","7888MS","楊裕全","黃英杰","明台",null,null,"鎔德",null,null,null,null,null,null,null,null,null,null,null,null,null,null,null,null,null,null,null,null,null,null,null,"A121884641","61.03.10"]
["48","AAQ1312","梁仲賢","黃英杰","明台",null,null,"鎔德",null,null,null,null,null,null,null,null,null,null,null,null,null,null,null,null,null,null,null,null,null,null,null,"EA90001696","66.01.06"]
["55","AAD5621","戎錫芬","黃英杰","台產",null,null,"鎔德",null,null,null,null,null,null,null,null,null,null,null,null,null,null,null,null,null,null,null,null,null,null,null,"J220139503","53.06.21"]
["57","3328YS","周伯勳","黃英杰","明台",null,null,"鎔德",null,null,null,null,null,null,null,null,null,null,null,null,null,null,null,null,null,null,null,null,null,null,null,"A120332228","63.05.28"]
["58","2139VR","永量工業有限公司","黃英杰","明台",null,null,"鎔德",null,null,null,null,null,null,null,null,null,null,null,null,null,null,null,null,null,null,null,null,null,null,null,"86269835"]
["39","AAQ0589","張晉豪","陳金昇","明台",null,null,"鎔德",null,null,null,null,null,null,null,null,null,null,null,null,null,null,null,null,null,null,null,null,null,null,null,"N120265572","52.07.18"]
["63","RAA3726","鎔德-財盟租賃股份有限公司","劉恆升","富邦",null,null,"鎔德",null,null,null,null,null,null,null,null,null,null,null,null,null,null,null,null,null,null,null,null,null,null,null,"89947319"]
["64","RAA3731","鎔德-財盟小客車租賃股份有限公司","劉恆升","台產",null,null,"鎔德",null,null,null,null,null,null,null,null,null,null,null,null,null,null,null,null,null,null,null,null,null,null,null,"70438075"]
["65","RAA3732"," 鎔德-財盟小客車租賃股份有限公司","劉恆升","台產",null,null,"鎔德",null,null,null,null,null,null,null,null,null,null,null,null,null,null,null,null,null,null,null,null,null,null,null,"70438075"]

{"sheet":"R.YD-承保業務分析總表","index":19,"n_rows":24,"n_cols":29,"rows_kept":24,"cut":false,"hidden":false,"merged":[[0,0,1,28],[2,0,2,1],[2,2,2,3],[2,4,2,5],[2,6,2,7],[2,8,2,9],[2,10,2,11],[2,12,2,13],[2,14,2,15],[2,16,2,17],[2,20,2,21],[2,22,2,23],[2,24,2,25],[2,26,2,27],[4,0,7,0],[8,0,11,0],[12,0,15,0],[16,0,19,0],[20,0,23,0],[2,18,2,19]]}
["2014年承保業務分析總表"]
[]
["德鎔(新保+續保)",null,"一月",null,"二月",null,"三月",null,"四月",null,"五月",null,"六月",null,"七月",null,"八月",null,"九月",null,"十月",null,"十一月",null,"十二月",null,"總計",null,"%"]
[null,null,"車體險","總保額","車體險","總保額","車體險","總保額","車體險","總保額","車體險","總保額","車體險","總保額","車體險","總保額","車體險","總保額","車體險","總保額","車體險","總保額","車體險","總保額","車體險","總保額","車體險","總保額","車體/總保額"]
["台產","依  德",769416,1448621,400818,734459,1147413,2066793,261380,450001,0,0,0,0,0,0,0,0,0,0,0,0,0,0,0,0,{"$f":"C5+E5+G5+I5+K5+M5+O5+Q5+S5+U5+W5+Y5","v":2579027},{"$f":"D5+F5+H5+J5+L5+N5+P5+R5+T5+V5+X5+Z5","v":4699874},{"$f":"AA5/AB5","v":0.54874385994177721}]
[null,"鎔  德"]
[null,"鉑  德"]
[null,"合  計",{"$f":"SUM(C5:C7)","v":769416},1448621,400818,734459,1147413,2066793,261380,450001,0,0,0,0,0,0,0,0,0,0,0,0,0,0,0,0,2579027,4699874,{"$f":"AA8/AB8","v":0.54874385994177721}]
["明台","依  德",3135840,5566416,1516672,2519534,2532100,4640666,1384290,2363283,113888,198568,0,0,0,0,0,0,0,0,0,0,0,0,0,0,{"$f":"C9+E9+G9+I9+K9+M9+O9+Q9+S9+U9+W9+Y9","v":8682790},{"$f":"D9+F9+H9+J9+L9+N9+P9+R9+T9+V9+X9+Z9","v":15288467},{"$f":"AA9/AB9","v":0.56793071535556838}]
[null,"鎔  德"]
[null,"鉑  德"]
[null,"合  計",{"$f":"SUM(C9:C11)","v":3135840},5566416,1516672,2519534,2532100,4640666,1384290,2363283,113888,198568,0,0,0,0,0,0,0,0,0,0,0,0,0,0,8682790,15288467,{"$f":"AA12/AB12","v":0.56793071535556838}]
["華南","依  德",2831625,4960844,1055555,1836610,1998310,3830027,1505337,2654891,327389,514680,0,0,0,0,0,0,0,0,0,0,0,0,0,0,{"$f":"C13+E13+G13+I13+K13+M13+O13+Q13+S13+U13+W13+Y13","v":7718216},{"$f":"D13+F13+H13+J13+L13+N13+P13+R13+T13+V13+X13+Z13","v":13797052},{"$f":"AA13/AB13","v":0.55941051755114068}]
[null,"鎔  德"]
[null,"鉑  德"]
[null,"合  計",{"$f":"SUM(C13:C15)","v":2831625},4960844,1055555,1836610,1998310,3830027,1505337,2654891,327389,514680,0,0,0,0,0,0,0,0,0,0,0,0,0,0,7718216,13797052,{"$f":"AA16/AB16","v":0.55941051755114068}]
["富邦","依  德",870509,1637890,188922,375262,829092,1542799,33947,69610,175314,266354,0,0,0,0,0,0,0,0,0,0,0,0,0,0,{"$f":"C17+E17+G17+I17+K17+M17+O17+Q17+S17+U17+W17+Y17","v":2097784},{"$f":"D17+F17+H17+J17+L17+N17+P17+R17+T17+V17+X17+Z17","v":3891915},{"$f":"AA17/AB17","v":0.53901074406815153}]
[null,"鎔  德"]
[null,"鉑  德"]
[null,"合  計",{"$f":"SUM(C17:C19)","v":870509},1637890,188922,375262,829092,1542799,33947,69610,175314,266354,0,0,0,0,0,0,0,0,0,0,0,0,0,0,2097784,3891915,{"$f":"AA20/AB20","v":0.53901074406815153}]
["總計","依  德",{"$f":"C5+C9+C13+C17","v":7607390},13613771,3161967,5465865,6506915,12080285,3184954,5537785,616591,979602,0,0,0,0,0,0,0,0,0,0,0,0,0,0,21077817,37677308,{"$f":"AA21/AB21","v":0.55943001554145}]
[null,"鎔  德",0,0,0,0,0,0,0,0,0,0,0,0,0,0,0,0,0,0,0,0,0,0,0,0,0,0,{"$f":"AA22/AB22","v":{"$error":"#DIV/0!"}}]
[null,"鉑  德",0,0,0,0,0,0,0,0,0,0,0,0,0,0,0,0,0,0,0,0,0,0,0,0,0,0,{"$f":"AA23/AB23","v":{"$error":"#DIV/0!"}}]
[null,"合  計",7607390,13613771,3161967,5465865,6506915,12080285,3184954,5537785,616591,979602,0,0,0,0,0,0,0,0,0,0,0,0,0,0,21077817,37677308,{"$f":"AA24/AB24","v":0.55943001554145}]

{"sheet":"成交客戶表","index":20,"n_rows":107,"n_cols":33,"rows_kept":107,"cut":false,"hidden":false,"merged":[]}
["序號","訂車日","車身號碼","訂單號碼","合約/調出單號","客戶名稱","出生年月日","身份證字號","統一編號","郵遞區號","地址","電話","行動電話","車型","引擎號碼","生產年月","車源車色","車源內裝","租賃公司","付款方式","貸款公司","領牌日","車號","課別","業務代表","備註","車輛狀態","投保狀態","車體","其它","強制險","總  計","保險"]
["20","102.11.20","NR24566","8061556","13583","林春英","51.08.03","A221145516",null,"235","新北市中和區連城路127巷19之13號",null,null,"316i Sedan ZA","B692J560","1309","B39","KCSW",null,"現金",null,"103.01.28","AHA-1068","營二課","王冠賢","汎德贈乙式全險","己交車","已投保",0,0,0,0,"明台"]
["35","103.01.07","NR24517","8061517","13835","楊淑娟","72.09.11","F225578356",null,"330","桃園縣桃園市大仁路40巷3弄16號",null,"0988-606-468","316i Sedan ZA","B555J547","1309","475","KCL3",null,"現金","星展銀行","103.01.20","AGE-3161","營二課","陳維德","汎德贈乙式全險","己交車-調入車","已投保",0,0,0,0,"華南"]
["45","103.01.13","VY81200","8058148","13873","施惠文","59.01.02","E220825402",null,"231","新北市新店區二十張路42-10號9樓",null,"0988-213-871","X1 sDrive20d","92818579","1307","475","KCSW",null,"現金",null,"103.01.21","AGE-6822","營一課","張健宏","汎德贈乙式全險","己交車","已投保",0,0,0,0,"明台"]
["51","103.01.07","DY68682","8059065","13900","阮秀美","45.11.12","F201919220",null,"116","台北市文山區木柵路四段159巷16弄51號",null,"0932-918-872","640i Gran Coupe","06098587","1307","475","LCSW",null,"現金",null,"103.01.20","AFJ-8893","營二課","林宗慶","汎德贈乙式全險","己交車-調入車","已投保",0,0,0,0,"富邦"]
["72","103.01.04","VS41016","8059469","13934","長霖寰宇企業有限公司",null,null,"53778824","110","台北市信義區忠孝東路四段169號12樓之1 ",null,"0953-849-809","X1 sDrive18i","B438J544","1307","B39","KCSW",null,"現金","陽信銀行","103.01.21","AGU-2377","營二課","莊朝清","汎德贈乙式全險","己交車","已投保",0,0,0,0,"華南"]
["75","103.01.15","VT79767","8058102","13940","陳柏年","62.06.20","Y120295881",null,"111","台北市士林區忠誠路48號6樓",null,"0932-354-387","X1 sDrive20i","B4680567","1307","300","KCSW",null,"現金",null,"103.01.28","AGU-5358","營一課","凌大偉","汎德贈乙式全險","己交車","已投保",0,0,0,0,"富邦"]
["94","103.01.20","D283084","8064105","13996","世輔冷凍空調有限公司",null,"84203205",null,"406","台中市北屯區松竹路二段306巷46弄32號",null,"0937-277-399","730d Sedan","34498699","1311","475","LCSW",null,"現金",null,"103.01.23","AGF-5198","營一課","凌大偉","汎德贈乙式全險","己交車","已投保",0,0,0,0,"華南"]
["105","103.01.28","VS44795","8061460","14049","林燕玲","58.11.11","A222604452",null,"108","台北市萬華區東園街196號4樓之1",null,"0952-588-198","X1 sDrive18i","B480J579","1309","A96","KCSW",null,"現金",null,"103.01.28","AGU-5708","營一課","蘇士文","汎德贈乙式全險","己交車","已投保",0,0,0,0,"明台"]
["6","102.06.17","0C81052","8060361","13052","吳美容","42.11.03","F203287132",null,"235","新北市中和區民生街23巷7號",null,"0910-226-224","X3 xDrive28i","B1830571","1308","475","LUSW",null,"現金",null,"103.01.13","AGE-2323","營二課","林陳郎",null,"己交車","已投保",0,0,889,889,"華南"]
["62","103.01.04","D700651","8063840","13914","張瓊方","68.05.22","A225166182",null,"231","新北市新店區青山路211巷2弄10號",null,"0928-233-712","320i Gran Turismo","B3830672","1311","300","KCL3",null,"現金",null,"103.01.20","AGU-0522","營二課","陳一鋐",null,"己交車","已投保",0,0,1019,1019,"華南"]
["79","103.01.23","NR15755","8061600","13959","張玉芊","58.08.29","F220652633",null,"242","新北市新莊區中榮街56巷1之2號11樓",null,"0937-029-458","320i Sedan ZA","B8610580","1309","300","HAAT",null,"現金",null,"103.01.24","AGU-3658","營三課","林謙慶",null,"己交車","已投保",0,0,1019,1019,"富邦"]
["65","103.01.08","VY01195","8059734","13918","李仁傑","68.09.28","F124679290",null,"251","新北市淡水區民權路187巷52號6樓",null,"0933-075-794","118i 5-doors","A840J563","1308","300","BEL2",null,"現金",null,"103.01.20","AGU-0629","營二課","陳維德",null,"己交車","已投保",0,0,1099,1099,"華南"]
["91","103.01.21","NR16517","8063836","13978","梁忠賢","63.03.06","L120533242",null,"110","台北市信義區永吉路180巷70弄28號",null,"0932-320-199","320i Sedan ZA","B5060648","1311","B45","HAAT",null,"現金",null,"103.01.29","AGF-1066","營一課","蘇士文",null,"己交車","已投保",0,0,1099,1099,"富邦"]
["98","103.01.28","NR16153","8061720","14015","莊睿文","60.04.17","A120812776",null,"241","新北市三重區集賢路117號7樓",null,"0921-086-853","320i Sedan ZA","B0670588","1309","B39","HAAT",null,"現金",null,"103.01.29","AGU-6008","營一課","凌大偉",null,"己交車","已投保",0,0,1099,1099,"明台"]
["42","103.01.02","L969238","8060877","13856","蘇宗焜","50.10.19","F122910930",null,"260","宜蘭縣宜蘭市中山路五段577巷32號",null,"0932-395-382","X6 xDrive35i","02218561","1308","300","LUSW",null,"現金",null,"103.01.07","AFJ-9189","營三課","賈勇華",null,"己交車","已投保",0,0,1138,1138,"華南"]
["38","103.01.04","0G21499","8061965","13842","呂坤木","36.11.28","F102686595",null,"235","新北市中和區興南路一段185號",null,null,"X3 xDrive20i","A1570597","1309","475","FHAT",null,"現金",null,"103.01.17","AGU-0268","營一課","李昀融",null,"己交車-調入車","已投保",0,0,1148,1148,"明台"]
["40","103.01.04","D046705","8063443","13851","昌漢開發工程有限公司",null,null,"86806461","248","新北市五股區成泰路二段11巷22號4樓",null,"0922-535-177","520d LCI","92428686","1310","475","K8SW",null,"現金","星展銀行","103.01.21","AGC-3155","營二課","林政勳",null,"己交車","已投保",0,0,1398,1398,"華南"]
["59","103.01.03","D009309","8063261","13910","邱創立","69.12.18","F125153035",null,"237","新北市三峽區光明路49號6樓",null,"0913-333-839","520i LCI","B8000648","1310","300","LCLZ",null,"現金",null,"103.01.13","AGE-8889","營一課","凌大偉",null,"己交車","已投保",0,0,1398,1398,"明台"]
["74","103.01.13","F299167","8058316","13937","正隆(股)公司",null,null,"33085508","220","新北市板橋區民生路一段1號","2222-5131#285",null,"Active Hybrid 3","04098572","1307","300","LCLZ",null,"現金",null,"103.01.28","AAR-9788","營一課","梁大民",null,"己交車","已投保",0,0,1398,1398,"富邦"]
["97","103.01.27","D047054","8064007","14007","博創印藝文化事業有限公司",null,null,"84860974","235","新北市中和區中山路三段110號9樓之3之4",null,"0928-254-544","520d LCI","89088707","1311","475","K8SW",null,"現金",null,"103.01.27","AGU-0810","營二課","林政勳",null,"己交車","已投保",0,0,1398,1398,"華南"]
["104","103.01.29","D046124","8062239","14037","王國樑","49.07.15","G120835702",null,"111","台北市士林區中山北路五段829巷47號6樓",null,null,"520d LCI","88718650","1309","300","K8SW",null,"現金",null,"103.01.29","AGF-2399","營三課","鄭英彥",null,"己交車","已投保",0,0,1398,1398,"明台"]
["15","102.10.29","D494696","8062061","13532","林逸豪","56.10.01","H121680408",null,"236","新北市土城區慶祥街1巷1號1樓",null,"0932312858","520d GT LCI","90458656","1309","475","LCSW",null,"現金",null,"103.01.03","AFJ-3937","營一課","王裕明",null,"己交車","已投保",0,3971,1099,5070,"明台"]
["30","103.01.04","NR15964","8061706","13813","程凱得","68.07.12","A124756260",null,"220","新北市板橋區吳鳳路17巷3-3號",null,"0925-682-678","320i Sedan ZA","B6970606","1309","300","HAAT",null,"現金",null,"103.01.09","AGE-0678","營二課","莊朝清",null,"己交車","已投保",0,3971,1138,5109,"明台"]
["103","103.01.24","NR15670","8060051","14033","張玉蓮","33.08.30","H200539355",null,"116","台北市文山區辛亥路四段101巷140弄68-3號",null,"0910-147-433","320i Sedan ZA","A0900508","1308","A83","KCL3",null,"現金",null,"103.01.27","1620-AC","營一課","張健宏",null,"己交車","已投保",0,6248,889,7137,"華南"]
["100","103.01.21","VS39662","8058028","14021","柯瑞月","60.07.13","P221746408",null,"238","新北市樹林區中山路二段156號12樓之3",null,"0935-787-366","X1 sDrive18i","A817J529","1307","300","KCSW",null,"現金",null,"103.01.23","AGU-3339","營一課","蘇士文",null,"己交車","已投保",0,16074,1019,17093,"台產"]
["86","103.01.13","D009376","8063301","13970","黃石彥","53.01.28","H120123440",null,"236","新北市土城區順風路45號3樓",null,"0928-528-908","520i LCI","A5220660","1310","475","LCLZ",null,"現金","陽信銀行","103.01.20","AGU-0106","營三課","鄭英彥",null,"己交車","已投保",0,28594,1099,29693,"明台"]
["57","103.01.07","D046701","8063439","13908","蘇雪麗","56.11.29","A223275428",null,"116","台北市文山區景華街176巷7號2樓",null,"0930-040-555","520d LCI","91598687","1310","475","K8SW",null,"現金",null,"103.01.16","AGU-1129","營三課","賈勇華",null,"己交車","已投保",0,29705,1019,30724,"華南"]
["48","103.01.08","0G24738","8063140","13892","梁瓊文","53.12.06","F222714627",null,"236","新北市土城區仁愛路8-1號7樓",null,"0922-938-494","X3 xDrive20i","A5780634","1310","A52","FHAT",null,"現金",null,"103.01.27","AGE-6281","營二課","張昇文",null,"己交車","已投保",11720,21087,1318,34125,"華南"]
["43","103.01.04","J661167","8063708","13858","劉慧萍","72.05.06","T223248141",null,"711","台南市歸仁區和平南街89巷6號",null,"0931-336-198","116i 5-doors","B248J618","1311","300","BEL2",null,"現金","星展銀行","103.01.17","AGE-2335","營二課","謝中堅",null,"己交車","已投保",12430,23301,1318,37049,"明台"]
["68","103.01.20","J680821","8059746","13929","蔡曜懌","70.06.09","A126220674",null,"221","新北市汐止區忠三街39巷41弄1號",null,"0932-901-920","118i 5-doors","A541J560","1308","A76","BEL2",null,"現金","台新銀行","103.01.23","AGU-0118","營二課","王慶儒",null,"己交車","已投保",14332,24592,1138,40062,"明台"]
["90","103.01.20","NR15991","8061653","13977","蕭思慈","65.05.01","F223704358",null,"235","新北市中和區圓通路299巷12號13樓",null,"0911-846-968","320i Sedan ZA","A2030587","1309","475","HAAT",null,"現金","星展銀行","103.01.24","AGF-5758","營一課","蘇士文",null,"己交車","已投保",20145,20443,1019,41607,"台產"]
["36","103.01.09","NR15883","8060068","13839","葉長青","66.06.16","A124422401",null,"105","台北市松山區健康路31號",null,"0910-385-892","320i Sedan ZA","B7770613","1308","A96","KCSW",null,"現金",null,"103.01.10","AGD-9683","營三課","陳禮建",null,"己交車","已投保",14853,27204,1398,43455,"明台"]
["63","103.01.04","D046699","8063438","13916","林淑惠","52.08.13","A221838454",null,"110","台北市信義區永吉路180巷66弄29號",null,"0933-200-655","520d LCI","91018687","1310","475","K8SW",null,"現金",null,"103.01.13","AFJ-6691","營二課","王冠賢",null,"己交車","已投保",10938,31362,1318,43618,"華南"]
["44","103.01.13","NR24590","8062829","13871","賴玉珍","64.12.20","U220809616",null,"235","新北市中和區員山路327巷41號2樓",null,"0952-623-360","316i Sedan ZA","A393J572","1310","475","KCSW",null,"現金",null,"103.01.28","AGU-1102","營一課","蘇士文",null,"己交車-調入車","已投保",17968,26942,1019,45929,"富邦"]
["96","103.01.27","NR22217","8059982","14001","萬事達嘉友旅店有限公司",null,null,"27571050","108","台北市萬華區中華路一段82號1-9樓",null,"0926-882-011","328i Sedan ZA","B8450540","1308","300","LCLZ",null,"現金",null,"103.01.28","AGU-5567","營二課","謝中堅",null,"己交車","已投保",13682,31904,1398,46984,"華南"]
["93","103.01.16","0C81353","8061981","13995","李佳麗","68.03.15","F224342941",null,"330","桃園縣桃園市大興西路二段139巷97號2樓之2",null,null,"X3 xDrive28i","B9370582","1309","300","LUSW",null,"現金",null,"103.01.27","AGU-5369","營一課","凌大偉",null,"己交車","已投保",14776,31113,1318,47207,"明台"]
["53","103.01.03","F853572","8058438","13903","陳詩萍","68.03.05","H222936385",null,"330","桃園縣桃園市天祥二街8巷13號",null,"0929-822-494","318d Touring","80668574","1307","300","KCL3",null,"現金",null,"103.01.08","AFJ-6835","營二課","陳維德",null,"己交車-調入車","已投保",19236,27093,1019,47348,"華南"]
["80","103.01.08","D700650","8063839","13961","許進平","64.12.31","T121769127",null,"247","新北市蘆洲區民權路97號7樓之1",null,"0983-856-177","320i Gran Turismo","A1760673","1311","300","KCL3",null,"現金","星展銀行","103.01.17","AGU-5138","營一課","花志明",null,"己交車","已投保",15799,31379,1099,48277,"富邦"]
["52","103.01.04","D014328","8058756","13901","許爾佳","63.12.20","F290009473",null,"231","新北市新店區中央六街86號5樓",null,"0921-436-897","528i LCI","A3770578","1307","475","LCLZ",null,"現金",null,"103.01.17","AGU-1698","營二課","林宗慶",null,"己交車","已投保",15618,32379,1059,49056,"富邦"]
["9","102.08.08","DX98773","8063899","13220","珀榮貿易股份有限公司",null,null,"14024257","231","新北市新店區青山路88巷21弄13號1樓",null,"0933-064-949","335i Gran Turismo","02068519","1311","A96","LCL5",null,"現金",null,"103.01.15","AFJ-9936","營三課","陳禮建","1311","己交車","已投保",13597,34186,1398,49181,"華南/明台"]
["3","102.12.30","VS40715","8058082","試獎302","依德(股)公司",null,null,"07656431","235","新北市中和區建一路68號","2223-5053",null,"X1 sDrive18i","B637J539","1307","B39","KCSW",null,"現金",null,"103.01.07","AFJ-5727","營業部","陳德益",null,"己交車","已投保",20877,27531,1398,49806,"台產/明台"]
["19","102.11.20","D358198","8061867","13581","常榮通信有限公司",null,null,"28927797","236","新北市土城區裕民路29號",null,"0988-828-886","328i Gran Turismo","A9700636","1309","300","LCL3",null,"現金","永豐銀行","103.01.02","AFJ-8528","營一課","陳龍雲",null,"己交車","已投保",16418,32176,1398,49992,"明台"]
["5","102.12.30","VS40653","8058079","試獎301","依德(股)公司",null,null,"07656431","235","新北市中和區建一路68號","2223-5053",null,"X1 sDrive18i","A619J539","1307","B38","KCSW",null,"現金",null,"103.01.07","AFJ-5661","營業部","陳德益",null,"己交車","已投保",20877,27741,1398,50016,"台產"]
["1","102.12.30","VS40714","8058081","試獎303","依德(股)公司",null,null,"07656431","235","新北市中和區建一路68號","2223-5053",null,"X1 sDrive18i","B201J539","1307","B39","KCSW",null,"現金",null,"103.01.08","AFJ-5697","營業部","陳德益",null,"己交車","已投保",20580,28071,1398,50049,"台產/明台"]
["13","102.10.02","D700729","8063857","13385","陳泳雯",null,"N222964525",null,"500","彰化縣彰化市中山路三段562號",null,"0931-138-311","320i Gran Turismo","B2660678","1311","475","KCL3",null,"現金","台新銀行","103.01.22","AGE-3955","營三課","孫茂耀","1311大宗客戶-宏達電","己交車","已投保",24651,27540,1059,53250,"明台"]
["101","103.01.22","NR15715","8061589","14026","陳沛宜","49.07.10","A222851648",null,"653","雲林縣口湖鄉福安路95巷6之2號",null,"0963-366-491","320i Sedan ZA","A1220547","1309","300","HAAT",null,"現金",null,"103.01.24","AGU-3698","營二課","林陳郎",null,"己交車","已投保",30943,24764,1019,56726,"明台"]
["10","102.08.26","D700002","8062958","13242","陳志松","57.06.10","H120130178",null,"330","桃園縣桃園市大業路1段119號4樓之2",null,"0926-656-677","320i Gran Turismo","A2880640","1310","300","KCSW",null,"專案","台壽保30/60","103.01.02","AFJ-7887","營三課","林謙慶",null,"己交車","已投保",20299,35663,1099,57061,"富邦"]
["46","103.01.13","NR15695","8060073","13879","邵惠美","43.01.25","F203288513",null,"251","新北市淡水區新市二路三段18號15樓",null,"0919-952-766","320i Sedan ZA","A2250553","1308","B39","KCL3",null,"現金",null,"103.01.17","AGU-0188","營一課","蘇士文",null,"己交車","已投保",39782,19064,1019,59865,"明台"]
["37","103.01.04","NR24564","8061552","13840","呂淑梅","47.01.22","A210420884",null,"114","台北市內湖區成功路五段450巷22弄10號10樓",null,"0960-520-791","316i Sedan ZA","B624J560","1309","A96","KCSW",null,"現金",null,"103.01.28","AGE-7169","營三課","簡志勳",null,"己交車-調入車","已投保",37030,22724,1318,61072,"明台"]
["85","103.01.24","D015834","8063366","13968","百慶纖維股份有限公司",null,null,"22327000","103","台北市大同區塔城街64號7樓",null,"0932-380-205","528i LCI","A7030668","1310","A90","LCLZ",null,"現金",null,"103.01.28","AGU-5585","營三課","劉家任",null,"己交車","已投保",17353,42439,1398,61190,"富邦"]
["64","103.01.04","NR22208","8058247","13917","劉照妏","70.08.13","H222997066",null,"320","桃園縣中壢市龍昌路190巷1號",null,"0928-209-182","328i Sedan ZA","B0630514","1307","300","LCLZ",null,"現金",null,"103.01.20","AGU-1888","營二課","陳維德",null,"己交車","已投保",30561,31122,1138,62821,"台產"]
["67","103.01.04","NR24563","8061551","13923","林維楨","66.07.25","A224466674",null,"114","台北市內湖區康寧路三段75巷159-1號5樓",null,"0911-565-739","316i Sedan ZA","B695J560","1309","A96","KCSW",null,"現金",null,"103.01.29","AGE-8933","營三課","孫茂耀",null,"己交車","已投保",36112,26273,1318,63703,"富邦"]
["56","103.01.15","NR24568","8061557","13906","方文","66.07.03","A124414249",null,"116","台北市文山區羅斯福路六段407號12樓之3",null,"0910-042-369","316i Sedan ZA","B696J560","1309","B39","KCSW",null,"現金",null,"103.01.28","AGU-1035","營三課","林謙慶",null,"己交車","已投保",40080,24415,1398,65893,"明台"]
["73","103.01.04","J658254","8061395","13935","黃治喬","65.01.16","A121866330",null,"220","新北市板橋區篤行路一段16之8號4樓",null,"0939-282-131","116i 5-doors","B814J582","1309","B44","BEL2",null,"現金","星展銀行","103.01.13","AHA-2756","營一課","陳龍雲",null,"己交車","已投保",43383,22343,1099,66825,"華南"]
["87","103.01.10","D046697","8063436","13971","林妙玲","45.01.01","P202130506",null,"236","新北市土城區立德路19號3樓",null,"0963-390-669","520d LCI","90898687","1310","475","K8SW",null,"現金","陽信銀行","103.01.22","AGU-3198","營二課","林陳郎",null,"己交車","已投保",39048,29705,1019,69772,"華南"]
["71","103.01.04","D046704","8063442","13933","王美華","63.06.15","F223405565",null,"247","新北市蘆洲區三民路249號10樓",null,"0952-362-357","520d LCI","91678687","1310","475","K8SW",null,"現金",null,"103.01.17","AGU-0868","營二課","林陳郎",null,"己交車","已投保",39048,30783,1019,70850,"華南"]
["25","102.12.09","0C32649","8061243","13696","高子琄","63.05.29","A221923172",null,"236","新北市土城區明德路二段60號9樓-6",null,"0936-110-033","X5 xDrive30d","30538628","1310","A52","LCSW",null,"現金",null,"103.01.28","AGF-0515","營三課","孫茂耀",null,"己交車","已投保",21888,48308,1019,71215,"富邦"]
["31","103.01.04","NR24555","8061550","13814","津禾教育科技有限公司",null,null,"24373253","110","台北市信義區忠孝東路五段31巷18弄23號4樓",null,"0932-158-340","316i Sedan ZA","B265J560","1309","A96","KCSW",null,"現金",null,"103.01.28","AGU-2121","營二課","莊朝清",null,"己交車","已投保",45019,25361,1398,71778,"華南"]
["60","103.01.15","D046972","8064003","13911","王水珍","40.03.31","H201739966",null,"114","台北市內湖區民權東路六段280巷45弄41號9樓之1",null,"0939-858-609","520d LCI","83848700","1311","475","K8SW",null,"現金",null,"103.01.24","AGU-6588","營一課","凌大偉",null,"己交車","已投保",42932,30124,889,73945,"明台"]
["2","102.12.30","NR22182","8053579","試主299","依德(股)公司",null,null,"07656431","235","新北市中和區建一路68號","2223-5053",null,"328i Sedan ZA","B4630458","1304","300","LCLZ",null,"現金",null,"103.01.07","AGD-9387","營業部","陳德益",null,"己交車","已投保",45824,27202,1398,74424,"明台"]
["4","102.12.30","NR22197","8055799","試主300","依德(股)公司",null,null,"07656431","235","新北市中和區建一路68號","2223-5053",null,"328i Sedan ZA","B1240472","1305","A96","LCLZ",null,"現金",null,"103.01.15","AFJ-7217","營業部","陳德益",null,"己交車","已投保",45824,27202,1398,74424,"明台"]
["14","102.11.04","0F21808","8063202","13507","張鳳英","61.04.06","K220563466",null,"338","桃園縣蘆竹鄉南祥路121號4樓之1",null,"0932-672-385","X3 xDrive20d","73608649","1310","475","FHAT",null,"現金",null,"103.01.21","AGU-2668","營三課","賈勇華","大宗客戶-葡眾","己交車","已投保",44938,28638,1019,74595,"華南"]
["76","103.01.17","J682126","8061407","13943","陳淑貞","40.08.01","P200482294",null,"231","新北市新店區華城一路29號",null,"0937-195-211","118i 5-doors","B287J589","1309","300","BEL2",null,"現金",null,"103.01.21","AGU-2159","營二課","林政勳",null,"己交車","已投保",47924,25706,1188,74818,"明台"]
["26","103.01.04","NN94598","8055913","13700","徐嘉鎂","52.07.23","L220327755",null,"235","新北市中和區安平路186號3樓",null,"0958-368-139","318d Sedan","79238483","1305","475","KCL3",null,"現金",null,"103.01.20","AAU-8168","營三課","劉家任",null,"己交車","已投保",43480,30547,1059,75086,"富邦"]
["34","103.01.10","D046698","8063437","13833","楊金福","49.01.02","F122803556",null,"251","新北市淡水區崁頂72之3號",null,"0935-041-874","520d LCI","91178687","1310","475","K8SW",null,"現金",null,"103.01.16","AFJ-9718","營一課","林柏霖",null,"己交車","已投保",35602,39541,1099,76242,"富邦"]
["41","103.01.04","0G16588","8060299","13854","黃耀興","65.01.31","C120852496",null,"204","基隆市安樂區麥金路14號2樓",null,"0955-703-696","X3 xDrive20i","A4550567","1308","475","FHAT",null,"現金",null,"103.01.13","AFJ-7618","營二課","戴子貽",null,"己交車","已投保",46660,29087,1099,76846,"華南"]
["54","103.01.20","NN94823","8062897","13904","倪至寬","40.06.21","Q100313757",null,"231","新北市新店區明德路113號3樓",null,"0910-180-925","318d Sedan","77738596","1310","300","KCL3",null,"現金",null,"103.01.22","AGE-3305","營一課","王裕明",null,"己交車","已投保",49073,26630,1148,76851,"華南"]
["29","103.01.04","D009096","8062087","13776","賴玉美","49.05.20","U220795233",null,"238","新北市樹林區長壽街15之2號10樓",null,"0939-678-619","520i LCI","B1130614","1309","300","K8SW",null,"現金",null,"103.01.17","AGU-1366","營一課","郭天南",null,"己交車","已投保",44938,30904,1019,76861,"華南"]
["78","103.01.16","D015482","8062201","13947","黃世光","54.08.09","P120617684",null,"108","台北市萬華區 萬大路486巷37弄66號",null,"0911-286-103","528i LCI","A0300640","1309","475","LCLZ",null,"現金",null,"103.01.23","AGD-5899","營二課","陳一鋐",null,"己交車","已投保",50315,26136,1099,77550,"華南"]
["32","103.01.13","D700850","8063871","13818","李秀玫","57.08.29","R221902677",null,"241","新北市三重區永福街201之7號11樓",null,"0922-911-900","320i Gran Turismo","A4800685","1311","A96","KCL3",null,"現金",null,"103.01.23","AGU-3268","營一課","李昀融",null,"己交車","已投保",49734,26942,1019,77695,"明台"]
["8","102.08.26","NR22235","8062840","13219","陳碧珠","51.08.12","F220989859",null,"116","台北市文山區木柵路3段103巷19號",null,"0931-385-182","328i Sedan ZA","C0500557","1310","A96","LCL3",null,"現金",null,"103.01.02","AFJ-7358","營三課","賈勇華",null,"己交車","已投保",46413,30365,1019,77797,"華南"]
["16","102.10.28","D700652","8063841","13537","周展旭","65.03.23","P122221079",null,"220","新北市板橋區長安街138巷7弄22號",null,"0935-762-519","320i Gran Turismo","B1440672","1311","300","KCL3",null,"現金","星展銀行","103.01.20","AGU-0585","營二課","謝中堅",null,"己交車","已投保",46659,30682,1398,78739,"華南"]
["58","103.01.13","D047055","8064008","13909","威盾實業(股)公司",null,null,"80460758","220","新北市板橋區長江路三段125號",null,"0932-121-265","520d LCI","89408707","1311","475","K8SW",null,"現金",null,"103.01.20","AGU-2188","營三課","賈勇華",null,"己交車","已投保",46660,31859,1398,79917,"華南"]
["69","103.01.14","D046974","8064005","13930","李莎莉","55.05.15","A222412347",null,"235","新北市中和區圓通路369巷30弄68號",null,"0922-483-806","520d LCI","84468700","1311","475","K8SW",null,"現金",null,"103.01.17","AGU-0599","營二課","王慶儒",null,"己交車","已投保",51673,27398,1019,80090,"明台"]
["61","103.01.04","0G22718","8063103","13913","莊樹銘","51.08.31","C120715130",null,"231","新北市新店區華城三路79之1號",null,"0928-619-141","X3 xDrive20i","A9140613","1310","300","FHAT",null,"現金",null,"103.01.15","AFJ-7572","營二課","陳一鋐",null,"己交車-調入車","已投保",49932,30703,1099,81734,"華南"]
["17","102.11.21","D358880","8063894","13545","曹桂榮","52.09.08","P121449386",null,"635","雲林縣東勢鄉仁愛路10號",null,"0928-228-543","328i Gran Turismo","A3860688","1311","B39","LCL3",null,"現金",null,"103.01.16","AGX-5858","營一課","郭天南",null,"己交車","已投保",51569,30890,1099,83558,"華南"]
["49","103.01.04","F709400","8058475","13895","王雨涵","75.11.20","F226198585",null,"114","台北市內湖區江南街71巷87號6樓",null,"0956-856-556","428i Coupe","B3490578","1307","300","LCL5",null,"現金","永豐銀行","103.01.15","AGE-6189","營一課","郭天南",null,"己交車","已投保",52718,29445,1457,83620,"華南"]
["92","103.01.20","D009429","8063344","13987","劉聯璋","55.08.01","C120423744",null,"238","新北市樹林區大雅路333號",null,"0931-052-933","520i LCI","A8690667","1310","A90","LCLZ",null,"現金",null,"103.01.21","AGU-1798","營三課","鄭英彥",null,"己交車","已投保",50004,32461,1398,83863,"明台"]
["66","103.01.04","D009403","8063330","13919","海寶實業有限公司",null,null,"15297944","108","台北市萬華區桂林路23號2樓",null,"0919-148-402","520i LCI","A3590662","1310","A52","LCLZ",null,"現金",null,"103.01.21","AFJ-9110","營一課","郭天南",null,"己交車","已投保",48190,34874,1398,84462,"華南"]
["39","103.01.04","D009481","8063929","13849","呂依琪","71.07.07","F225241176",null,"234","新北市永和區民生路22巷11號",null,"0938-083-381","520i LCI","A8900678","1311","475","LCLZ",null,"現金","新光銀行","103.01.21","AGU-2678","營三課","鄭英彥",null,"己交車","已投保",48947,35074,1318,85339,"明台"]
["12","102.08.26","0C82833","8063171","13275","威技電器股份有限公司",null,null,"89888281","235","新北市中和區新民街112號8樓之8",null,"0987-828-635","X3 xDrive28i","B9020633","1310","A52","LUSW",null,"現金",null,"103.01.17","AGU-1088","營三課","郭力嘉",null,"己交車","已投保",51569,32539,1398,85506,"華南"]
["7","102.08.23","0F21989","8063206","13161","黃光武","40.08.30","G100597470",null,"231","新北市新店區明德路67巷6號",null,"0972-712-288","X3 xDrive20d","73538649","1310","A52","FHAT",null,"現金",null,"103.01.20","AGX-3699","營二課","謝中堅",null,"己交車","已投保",51140,33224,1148,85512,"富邦"]
["95","103.01.17","D494695","8062065","13997","宏合建設開發股份有限公司",null,null,"86377905","108","台北市萬華區忠孝西路2段28號",null,"0952-593-038","520d GT LCI","75748654","1309","A89","LCSW",null,"現金",null,"103.01.21","AGU-0958","營三課","林謙慶",null,"己交車-調入車","已投保",52334,33184,1398,86916,"明台"]
["82","103.01.14","D070083","8059019","13963","湯秉康","72.04.21","A128121227",null,"242","新北市新莊區福德三街18號12樓",null,"0981-072-369","520d-T LCI","89468581","1307","300","K8SW",null,"現金",null,"103.01.17","AGU-0788","營二課","林政勳",null,"己交車","已投保",51569,34271,1398,87238,"華南"]
["88","103.01.13","D015842","8063357","13972","劉昇昌","50.11.25","F120948598",null,"231","新北市新店區五峯路145巷5號",null,"0932-041-366","528i LCI","B8950668","1310","475","LCLZ",null,"現金",null,"103.01.16","AFJ-8078","營二課","林陳郎",null,"己交車","已投保",51579,35349,1099,88027,"明台"]
["70","103.01.04","D700753","8063876","13932","華增活業有限公司",null,null,"24304448","106","台北市大安區忠孝東路三段251巷4弄16號3樓",null,"0920-126-989","320i Gran Turismo","B5620677","1311","B38","KCL3",null,"現金",null,"103.01.28","AHF-5158","營一課","陳龍雲",null,"己交車","已投保",59168,27553,1398,88119,"明台"]
["23","102.12.04","0C32651","8061244","13667","名軒開發股份有限公司",null,null,"04615057","248","新北市五股區成泰路1段189巷16號5樓",null,null,"X5 xDrive30d","30548628","1310","A52","LCSW",null,"現金",null,"103.01.03","AGD-7986","營二課","陳一鋐",null,"己交車","已投保",51249,36443,1398,89090,"華南"]
["27","102.12.17","D358897","8063892","13754","鄭朝強","60.11.06","J120608716",null,"300","新竹市東區民生路222巷15號",null,"0933-794-656","328i Gran Turismo","A6950691","1311","A96","LCL3",null,"現金",null,"103.01.28","AGU-9693","營一課","林柏霖",null,"己交車","已投保",53398,34980,1099,89477,"富邦"]
["102","103.01.23","L972832","8062420","14027","郭國勝","56.03.20","K120651629",null,"368","苗栗縣西湖鄉金獅10之8號",null,"0916-831-628","X6 xDrive35i","01098628","1309","475","LUSW",null,"現金",null,"103.01.24","AGU-3298","營二課","陳一鋐",null,"己交車-調入車","已投保",54836,35804,1099,91739,"明台"]
["47","103.01.15","L970655","8060921","13887","莊琪如","61.02.20","Y220093496",null,"105","台北市松山區民生東路三段113巷25弄12號4樓",null,"0932-284-779","X6 xDrive35i","02218592","1308","B38","LUSW",null,"現金",null,"103.01.16","AGE-6626","營二課","謝中堅",null,"己交車","已投保",52282,40350,1019,93651,"富邦"]
["55","103.01.10","L971571","8062392","13905","呂學俊","64.06.05","F123238946",null,"242","新北市新莊區民安路207巷5號6樓",null,"0925-949-308","X6 xDrive35i","00388607","1309","300","LUSW",null,"現金","星展銀行","103.01.10","AGE-0311","營一課","王裕明",null,"己交車","已投保",55455,39469,1099,96023,"明台"]
["18","102.11.06","L974599","8063527","13557","陳榮美",null,"S222045127",null,"235","新北市中和區大仁街10巷9弄25號1樓",null,"0910-152-690","X6 xDrive35i","01478637","1310","475","LUSW",null,"現金",null,"103.01.16","AHA-5818","營三課","劉家任",null,"己交車","已投保",52632,48396,1318,102346,"富邦"]
["21","102.12.10","L974606","8063528","13604","吳世榮","50.04.10","A120100226",null,"116","台北市文山區興隆路3段255巷27號7樓",null,"0952-966-190","X6 xDrive35i","01248643","1310","475","LUSW",null,"現金",null,"103.01.15","AGE-1176","營三課","李玄璸",null,"己交車","已投保",74911,38181,1099,114191,"明台"]
["11","102.08.12","NR16247","8062858","13265","廖哲賢","81.09.18","F128273203",null,"236","新北市土城區青仁路52號5樓",null,null,"320i Sedan ZA","B7490648","1310","475","HAAT",null,"現金",null,"103.01.28","AGF-8666","營一課","張健宏",null,"己交車","已投保",84034,34465,2694,121193,"華南"]
["81","103.01.13","J680157","8057949","13962","陳美燕","75.06.09","E223925909",null,"804","高雄市鼓山區美術南二路52號6樓之1",null,"0915-886-655","118i 5-doors","A274J546","1307","A61","BEL2",null,"現金","聯邦銀行","103.01.17","AFW-7569","營二課","陳維德 ",null,"己交車","未投保"]
["28","103.01.04","NR24569","8061558","13770","賴逸虹","64.02.28","N222808433",null,"220","新北市板橋區新府路1-5號20樓",null,"0988-226-987","316i Sedan ZA","B703J560","1309","B39","KCSW",null,"現金",null,"103.01.29","AGE-3168","營三課","劉家任",null,"己交車","未投保"]
["22","102.11.21","D225505","8059004","13666","和運租車股份有限公司",null,null,"70364778","104","台北市中山區松江路121號15樓",null,null,"520i-T LCI","A9960553","1307","300","K8SW","和運租車股份有限公司","租賃",null,"103.01.16","RAJ-7608","營二課","陳一鋐",null,"己交車","未投保"]
["24","103.01.13","D070188","8059027","13669","協新汽車(股)公司",null,null,"23892144","112","台北市北投區大業路262號",null,null,"520d-T LCI","88518588","1307","475","K8SW","協新汽車(股)公司","租賃",null,"103.01.24","RAJ-6905","營三課","鄭英彥",null,"己交車","未投保"]
["50","103.01.14","D494509","8062053","13897","晉利國際有限公司",null,null,"27514642","222","新北市深坑區北深路三段63號4樓","2662-1058",null,"520d GT LCI","75978633","1309","300","LCSW","財盟小客車租賃(股)公司","租賃",null,"103.01.16","RAJ-7667","營三課","林謙慶","原合約:13896","己交車","未投保"]
["83","103.01.10","D014891","8060760","13966","中租迪和(股)公司",null,null,"05072925","114","台北市內湖區瑞光路362號8樓","2277-7325",null,"528i LCI","B1060611","1308","475","LCLZ","中租迪和(股)公司","租賃",null,"103.01.17","RAJ-7757","營一課","花志明",null,"己交車","未投保"]
["33","103.01.07","KT51059","8063082","13829","中租迪和股份有限公司",null,null,"05072925","114","台北市內湖區瑞光路362號8樓",null,"0935-028-555","428i Coupe","B9710668","1310","B39","LCSW","中租迪和股份有限公司","租賃",null,"103.01.21","RAJ-8108","營一課","花志明",null,"己交車","未投保"]
["89","103.01.17","F709860","8063065","13973","和運租車(股)公司",null,null,"70364778","104","台北市中山區松江路121號15樓","2503-8586",null,"428i Coupe","A0170653","1310","B39","LCSW","和運租車(股)公司","租賃",null,"103.01.24","RAJ-8765","營一課","李昀融",null,"己交車-調入車","未投保"]
["77","103.01.27","D358907","8063881","13945","郵政總局郵政醫院",null,null,"92000371","100","台北市中正區福州路14號",null,null,"328i Gran Turismo","A6150692","1311","300","LCSW","財盟小客車租賃(股)公司","租賃",null,"103.01.28","RAJ-9818","營一課","陳龍雲","原合約:13405","己交車","未投保"]
["84","103.01.09","D283083","8064104","13967","炬將科技股份有限公司",null,null,"80442957","429","台中市神岡區社口里文昌街320巷19號","04-2525-2053",null,"730d Sedan","34478698","1311","475","LCSW","財盟小客車租賃股份有限公司","租賃",null,"103.01.16","RAK-8699","營三課","黃盛緯","原合約013922#汎德贈乙式全險","己交車","未投保"]
["99","103.01.27","NR22219","8059985","14020","創意家行銷(股)公司",null,null,"27749417","114","台北市內湖區瑞光路358巷38弄36號10樓",null,null,"328i Sedan ZA","A8510544","1308","475","LCL3","財盟小客車租賃(股)公司","租賃",null,"103.01.28","RAK-6686","營三課","簡志勳",null,"己交車-調入車","未投保"]
[null,null,null,null,null,null,null,null,null,null,null,null,null,null,null,null,null,null,null,null,null,null,null,null,null,null,null,null,{"$f":"SUM(AC2:AC106)","v":2575208},{"$f":"SUM(AD2:AD106)","v":2144189},104195,4823592]

{"sheet":"新保承保率版(檔名未更新)","index":21,"n_rows":226,"n_cols":14,"rows_kept":226,"cut":false,"hidden":false,"merged":[]}
["客戶名稱","聯絡人","領牌日","表  部  門","付款","保險卡號","車  號","保險",null,"業務代表","車體","其它","強制險","總  計"]
["三大聯合建築師事務所",null,"94.01.01","STF",null,"03AG001382","8869-DV","華南",null,"陳碧瀛",6274,4516,1099,11889]
["林立維",null,"98.11.25","服務部",null,"03AG001389","8629-S2","華南",null,"許慶麟",0,5604,1099,6703]
["徐瑞菁",null,"100.01.13","營三課",null,"011F1B0038415","8399-F9","台產",null,"黃盛緯",8799,18272,1019,28090]
["林世協",null,"101.01.02","營三課",null,"080P18652891","5589-J6","明台",null,"劉家任",40971,26843,1099,68913]
["陶汶",null,"97.01.01","營一課",null,"080P18700998","8268-VR","明台",null,"王裕明",0,3861,889,4750]
["陳膺中",null,"89.01.01","營一課",null,"03AG001397","8F-1557","華南",null,"王裕明",5455,2999,1099,9553]
["陳奇正",null,"93.07.01","STF",null,"080P18701000","3158-MS","明台",null,"陳碧瀛",0,0,1099,1099]
["陳阮玲",null,"86.01.31","STF",null,"03AG001308","K6-8626","華南",null,"陳碧瀛",0,2468,1019,3487]
["來譽企業有限公司",null,"101.01.02","營三課",null,"011F1B0038806","8989-P9","台產",null,"黃盛緯",39711,27560,1138,68409]
["黃庚佳",null,"101.01.13","營一課",null,"03AG001405","7667-L2","華南",null,"張健宏",63255,26989,1099,91343]
["林文章",null,"100.01.21","STF",null,"001F1B0038804","0689-ZT","台產",null,"陳碧瀛",41189,22806,1268,65263]
["頂準投資有限公司",null,"101.01.04","營二課",null,"03AG001403","3369-J6","華南",null,"謝中堅",57656,35468,1597,94721]
["洪定",null,"101.01.06","營二課",null,"03AG001404","5957-L2","華南",null,"謝中堅",56403,28177,1148,85728]
["儒林印刷品有限公司",null,"87.01.01","營二課",null,"03AG001412","P7-9558","華南",null,"謝中堅",0,2922,1099,4021]
["張榮城",null,"101.01.05","營一課",null,"080P18700985","6077-L2","明台",null,"凌大偉",37750,29363,1099,68212]
["李曉雯",null,"94.01.28","營三課",null,"080P18700986","5519-EF","明台",null,"陳禮建",17341,4429,1019,22789]
["劉壽懷",null,"98.01.01","營三課",null,"080P18700987","5922-VM","明台",null,"陳禮建",5742,16037,1019,22798]
["何星潔",null,"95.01.01","營三課",null,"080P18700988","7218-MS","明台",null,"陳禮建",0,3086,1019,4105]
["陳曉萍",null,null,"營三課",null,"011F1B0039298","8718-HJ","台產",null,"黃盛緯",5036,3130,1019,9185]
["張佩宜",null,"97.01.03","營三課",null,"080P18737483","5008-QX","明台",null,"黃盛緯",36468,10677,1019,48164]
["天驪企業有限公司",null,"100.01.04","營三課",null,"080P18700978","9655-A6","明台",null,"郭力嘉",27704,24284,1138,53126]
["皓協有限公司",null,"101.01.03","營三課",null,"080P18700979","8998-R3","明台",null,"郭力嘉",29422,29293,1138,59853]
["賴春美",null,"102.01.02","營一課",null,"03AG003008","AAT-3336","華南",null,"梁大民",14869,27785,1019,43673]
["金徵股份有限公司",null,"97.01.28","服務部",null,"080P18700989","7389-QX","明台",null,"林至柔",48837,14182,1099,64118]
["劉宸均",null,"102.01.29","營二課",null,"080P18700977","AAQ-1388","明台",null,"謝中堅",13002,24915,1218,39135]
["城林都市更新股份有限公司",null,"93.05.01","STF",null,"080P18700956","5957-DS","明台",null,"陳美杏",0,0,1138,1138]
["秦誼縈",null,"98.01.08","STF",null,"03AG003023","1971-VM","華南",null,"陳碧瀛",17203,5213,1019,23435]
["王淑麗",null,"100.01.25","STF",null,"03AG003026","5833-ZT","華南",null,"蔡燕森",80942,17979,1019,99940]
["漢利企業有限公司",null,"98.01.23","營三課",null,"03AG003027","1099-QH","華南",null,"陳禮建",0,3175,1099,4274]
["許新章",null,"94.12.28","服務部",null,"03AG003037","6878-ER","華南",null,"辜正武",12449,10960,1148,24557]
["林哲龍",null,"97.01.04","營二課",null,"080P18769405","5957-QX","明台",null,"王慶儒",8389,12566,1148,22103]
["賴怡倩",null,"100.12.29","營二課",null,"080P18769406","8333-R3","明台",null,"王慶儒",14416,3971,1059,19446]
["劉有福",null,"97.01.21","營二課",null,"080P18769407","7727-QX","明台",null,"王慶儒",0,3450,1148,4598]
["黃振傑",null,"90.01.02","STF",null,"03AG003039","7K-3357","華南",null,"蔡燕森",17408,10153,1148,28709]
["王財旺",null,"87.01.20","營三課",null,"03AG003038","P7-7868","華南",null,"賈勇華",0,5486,1099,6585]
["李澄池",null,"101.01.17","營二課",null,"011F1B0039669","8006-L2","台產",null,"王冠賢",0,2213,1148,3361]
["甯珍珠",null,"100.01.12","STF",null,"03AG003045","6688-A7","華南",null,"許嘉航",73730,26867,1019,101616]
["劉天龍",null,"100.01.07","營一課",null,"080P18769415","8389-ZS","明台",null,"凌大偉",8758,6443,1148,16349]
["陳穎聰",null,"102.01.04","營一課",null,"03AG003041","AAT-6821","華南",null,"張健宏",36593,25532,1218,63343]
["黃煥燿",null,"101.01.19","營一課",null,"03AG003057","8999-L8","華南",null,"蘇士文",0,3521,1099,4620]
["依德股份有限公司",null,"94.05.18","服務部",null,"03AG003046","1616-J6","華南",null,"陳欽榮",8901,6471,1754,17126]
["高維謙",null,"102.01.29","營一課",null,"080P18769449","AAQ-2288","明台",null,"凌大偉",31401,23255,1019,55675]
["吳宙耕",null,"95.01.17","營一課",null,"080P18769401","2979-MS","明台",null,"凌大偉",12656,4988,1099,18743]
["黃弟實",null,"100.01.18","營一課",null,"03AG003042","6018-YJ","華南",null,"凌大偉",6918,20293,1099,28310]
["昶誼工程有限公司",null,"101.01.05","營一課",null,"5855-L2","5855-L2","華南",null,"郭天南",26908,24847,1138,52893]
["詹益乾",null,"102.01.17","STF",null,"03AG003053","AAP-7756","華南",null,"許嘉航",45737,23082,1148,69967]
["黃秀娟",null,"102.01.11","STF",null,"03AG003055","AAT-7756","華南",null,"許嘉航",29922,22969,1019,53910]
["黃筠茜",null,"102.01.17","營一課",null,"05GEA00100","AAQ-0228","富邦",null,"林柏霖",53670,35317,1019,90006]
["何柏凱",null,"101.01.04","營二課",null,"011F1B0039932","1123-L5","台產",null,"陳維德",14056,21083,1099,36238]
["林燕玲",null,"97.01.04","營一課",null,"080P18769417","5708-QX","明台",null,"張哲彰",0,5389,1019,6408]
["許志宏",null,"96.01.31","營一課",null,"080P18769448","5025-QG","明台",null,"張哲彰",0,12747,1099,13846]
["陳劉淑娟",null,"83.10.01","營一課",null,"080P18769446","HE-5769","明台",null,"張哲彰",0,3740,1019,4759]
["鄭冬生",null,"98.01.23","營三課",null,"080P18769444","6306-VM","明台",null,"賈勇華",7139,15172,1099,23410]
["顏秋玲",null,"100.01.14","營一課",null,"03AG003054","6316-YK","華南",null,"張哲彰",28766,33452,1019,63237]
["趙凌仙",null,"99.01.05","營一課",null,"03AG003051","9119-YA","華南",null,"張哲彰",0,2721,1019,3740]
["林順雄",null,"96.01.10","營一課",null,"080P18769421","9999-RJ","明台",null,"張哲彰",8177,3567,1099,12843]
["梁玉賢",null,"96.01.01","營一課",null,"080P18769422","5608-RJ","明台",null,"張哲彰",41585,12788,1019,55392]
["吳德權",null,"101.01.10","營一課",null,"011F1B0039935","7068-L2","台產",null,"張哲彰",23527,24597,1099,49223]
["葉千綺",null,"102.01.28","營三課",null,"05GEA00209","AAY-3328","富邦",null,"郭力嘉",40356,35087,1138,76581]
["陳碧華",null,"98.12.01","服務部",null,"080P18701077","6288-XR","明台",null,"黃榮源",38184,17274,1019,56477]
["蕭彩鳳",null,"101.01.20","服務部",null,"011F1B0040010","9799-J6","台產",null,"李百祥",11529,3286,1019,15834]
["廖雨珍",null,"102.01.14","營三課",null,"080P18769441","AAB-5877","明台",null,"陳禮建",10496,26232,1059,37787]
["賴玉玲",null,"101.01.13","營一課",null,"03AG003060","7658-L2","華南",null,"郭天南",29811,6695,1059,37565]
["台德國際有限公司",null,"101.01.03","營二課",null,"05GEA00202","1629-J6","富邦",null,"林宗慶",22999,10195,1218,34412]
["許淑貞",null,"102.01.08","營一課",null,"03AG003236","AAT-3693","華南",null,"郭天南",32021,29218,1019,62258]
["中鼎機械有限公司",null,"99.01.01","營三課",null,"011F1B0040009","AAD-2802","台產",null,"賈勇華",42632,28014,1218,71864]
["台灣斯巴克環保工程有限公司",null,"98.02.01","服務部",null,"011F1B0040435","3000-UZ","台產",null,"李百祥",30101,12312,1099,43512]
["潘秀蓮",null,"101.01.06","營二課",null,"080P18769430","3399-N3","明台",null,"王慶儒",53479,38544,1019,93042]
["張秀鳳",null,"100.11.01","營二課",null,"05GEA00205","2865-L2","富邦",null,"林宗慶",3329,6610,1019,10958]
["上官鈺",null,"98.01.17","營二課",null,"03AG003062","1919-UZ","華南",null,"謝中堅",0,5497,1019,6516]
["李佳真",null,"102.01.31","營一課",null,"03AG003063","AAY-2866","華南",null,"郭天南",32468,25984,1019,59471]
["眾圓科技有限公司",null,"97.12.30","STF",null,"03AG003064","3258-VM","華南",null,"許嘉航",0,3175,1099,4274]
["林國森",null,"102.01.17","營三課",null,"011F1B0040879","AAB-2830","台產",null,"劉家任",27009,24967,1099,53075]
["蘇美珍",null,"100.11.01","營三課",null,"080P18769440","9426-J5","明台",null,"劉家任",6102,2650,1019,9771]
["林倩如",null,"102.01.11","營一課",null,"080P18769438","AAT-6018","明台",null,"張健宏",33416,18215,1138,52769]
["富思特開發股份有限公司",null,"101.01.17","營一課",null,null,"7999-J6","明台",null,"張健宏",40971,27453,0,68424]
["永紘投資股份有限公司",null,"100.01.03","營一課",null,"011F1B0040886","8898-A7","台產",null,"花志明",16639,18196,1099,35934]
["張志鵬",null,"99.01.08","營一課",null,"03AG003071","6518-YN","華南",null,"花志明",0,4242,1099,5341]
["余政達",null,"101.01.02","營一課",null,"080P18769437","1319-L2","明台",null,"凌大偉",0,2503,1099,3602]
["張清木",null,"97.01.11","營一課",null,"03AG003070","0007-TK","華南",null,"凌大偉",0,2967,1099,4066]
["俞國昌",null,"93.12.01","營三課",null,"080P18747308","1288-TK","明台",null,"簡志勳",116846,16570,1148,134564]
["陳靜儀",null,"93.10.01","營二課",null,"080P18769439","7N-9631","明台",null,"張昇文",0,4762,889,5651]
["曾超琦",null,"102.01.09","營二課",null,"080P18771059","AAB-0399","明台",null,"王慶儒",39465,34776,1099,75340]
["鑫宏益塑膠有限公司",null,"89.12.29","服務部",null,"011F1B0041320","7K-2788","台產",null,"陳俊田",0,4547,1099,5646]
["林威志",null,"97.07.01","營一課",null,"03AG003073","8378-J6","華南",null,"郭天南",8640,17925,1099,27664]
["林淑媛",null,"90.01.01","服務部",null,"03AG003075","7K-7588","華南",null,"陳俊田",0,2402,1019,3421]
["楊昆發",null,"101.01.04","營二課",null,"011F1B0041298","3699-Q9","台產",null,"梁志龍",36546,28993,1099,66638]
["張珠宜",null,"96.01.01","營二課",null,"080P18747318","2089-QM","明台",null,"王慶儒",21897,12888,1019,35804]
["許高榮",null,"101.01.04","營二課",null,"080P18771062","5500-L2","明台",null,"梁志龍",49233,24798,1138,75169]
["許進東",null,"97.01.01","營二課",null,"080P18771058","8288-TJ","明台",null,"張昇文",34966,15893,1099,51958]
["鄭俊明",null,"96.10.01","營一課",null,"05GEA00210","9869-QT","富邦",null,"王裕明",41563,2225,1099,44887]
["黃秋梓",null,"100.01.01","營一課",null,"05GEA00212","1628-ZT","富邦",null,"王裕明",8283,10492,1019,19794]
["陳烱明",null,"101.01.12","營一課",null,"03AG003077","6728-L2","華南",null,"王裕明",12875,14889,1099,28863]
["黃笠凱",null,"102.01.02","營二課",null,"080P18771080","AAT-6369","明台",null,"張昇文",46122,42728,1218,90068]
["黃清順",null,"99.02.09","營三課",null,"080P18771057","3325-YB","明台",null,"蕭敏聰",46603,19914,1218,67735]
["王淑娟",null,"101.12.26","營一課",null,"AAT-1637","AAT-1637","華南",null,"王裕明",26780,15557,1019,43356]
["曾于真",null,"101.01.31","營一課",null,"03AG003341","5212-J6","華南",null,"郭天南",8329,23961,1019,33309]
["劉紋妃",null,"101.01.05","營二課",null,"03AG003079","7918-H6","華南",null,"張昇文",23996,23956,1059,49011]
["張瑞軍",null,"94.01.12","服務部",null,"03AG604626","8816-ED","華南",null,"李百祥",0,0,1099,1099]
["周志遠",null,"102.01.02","營二課",null,"080P18771077","AAT-6565","明台",null,"梁志龍",47244,30448,1099,78791]
["邁拓企業股份有限公司",null,"97.01.01","營一課",null,"05GEA00211","7029-QX","富邦",null,"王裕明",5902,9140,0,15042]
["吳宛明",null,"102.01.17","營二課",null,"03AG003083","AAQ-9988","華南",null,"林政勳",42520,28059,1019,71598]
["林陳雯",null,"102.01.16","營二課",null,"03AG003081","AAP-8877","華南",null,"陳一鋐",37203,25195,889,63287]
["陳家慧",null,"102.01.25","營一課",null,"03AG003082","AAY-2535","華南",null,"梁大民",0,4025,1138,5163]
["王秀萍",null,"101.01.10","營二課",null,"080P18771074","6818-L2","明台",null,"林政勳",26774,24004,1059,51837]
["張朝旺",null,"102.01.17","營二課",null,"080P18771071","AAQ-6168","明台",null,"林政勳",41644,30867,1099,73610]
["杜易龍",null,"101.01.31","營二課",null,"080P18771075","9555-L7","明台",null,"林政勳",0,0,1099,1099]
["憬德建設股份有限公司",null,"98.01.01","STF",null,"03AG003084","1413-S9","華南",null,"林信宗",52142,19342,1218,72702]
["林玉霞",null,"94.12.01","營二課",null,"080P18771076","5601-MR","明台",null,"陳一鋐",0,2747,1019,3766]
["吳美專",null,"102.01.15","營二課",null,"080P18771063","AAT-9158","明台",null,"陳一鋐",38705,25486,1019,65210]
["黃福財",null,"82.12.01","STF",null,"03AG003307","JD-4322","華南",null,"蔡燕森",0,5610,1148,6758]
["陳瑩芝",null,"100.01.27","營一課",null,"03AG003087","6030-A7","華南",null,"張哲彰",21484,17183,1019,39686]
["陳文軺",null,"95.01.01","營二課",null,"080P18771064","6036-MS","明台",null,"林陳郎",28711,8825,1099,38635]
["簡梅蘭",null,"101.01.05","營二課",null,"011F1B0041763","1995-J6","台產",null,"陳維德",27997,21608,1059,50664]
["馬玉娟",null,"97.01.01","服務部",null,"011F1B0041833","0388-TK","台產",null,"黃榮源",8230,9262,1019,18511]
["王芬鐘",null,"89.01.01","營二課",null,"03AG604627","3210-K8","華南",null,"王慶儒",36649,9014,1019,46682]
["林淑慧",null,"102.01.17","營二課",null,"03AG003086","AAQ-1989","華南",null,"梁志龍",18843,24482,1019,44344]
["趙立宜",null,"98.03.01","營二課",null,"03AG003092","1658-YK","華南",null,"梁志龍",113136,19967,1926,135029]
["許文襦",null,"99.01.01","營二課",null,"080P18771068","6600-YN","明台",null,"梁志龍",55921,26008,1099,83028]
["張湘愉",null,"101.11.01","STF",null,"011F1B0041917","7689-T3","台產",null,"張湘愉",23264,18944,719,42927]
["陳建發",null,"100.01.27","營一課",null,"011F1B0041970","5168-ZT","台產",null,"凌大偉",0,2939,1099,4038]
["黃玉玲",null,"101.01.10","STF",null,"03AG003097","5056-L2","華南",null,"林信宗",20219,6157,1019,27395]
["萬成紙品有限公司",null,"97.01.01","營一課",null,"03AG003089","5189-QY","華南",null,"凌大偉",0,3175,1099,4274]
["林育秀",null,"99.01.01","營一課",null,"03AG003091","7066-YN","華南",null,"凌大偉",15269,5497,1019,21785]
["洪森強",null,"102.01.22","營二課",null,"080P18771070","AAY-1727","明台",null,"張昇文",0,21814,1099,22913]
["張韻華",null,"100.01.11","營三課",null,"080P18771069","0319-ZS","明台",null,"郭力嘉",28546,20946,1019,50511]
["蔡東翰",null,"102.01.24","營二課",null,"080P18804408","AAY-1313","明台",null,"王慶儒",12876,28873,1099,42848]
["廖利利",null,"89.01.01","營一課",null,"080P18804407","8F-8370","明台",null,"凌大偉",0,3109,889,3998]
["簡銘賜地政士事務所",null,"100.01.12","營一課",null,"080P18804404","3993-A7","明台",null,"花志明",10519,18727,1099,30345]
["嚴文遠",null,"102.01.15","營三課",null,"080P18771066","AAT-5781","明台",null,"鄭英彥",27695,52690,1099,81484]
["陳淑美",null,"102.01.31","營二課",null,"080P18804403","AAY-5887","明台",null,"莊朝清",19797,29848,1318,50963]
["鄧皓晏",null,"102.01.17","營二課",null,"03AG003090","AAT-9366","華南",null,"林陳郎",36593,23245,1099,60937]
["姜家賢",null,"100.01.28","營三課",null,"080P18747448","3258-ZT","明台",null,"簡志勳",40702,17970,1398,60070]
["方欽永",null,"102.01.25","營二課",null,"03AG002515","AAD-2260","華南",null,"王慶儒",37795,27030,1099,65924]
["田君華",null,"96.01.01","服務部",null,"080P18804402","3268-RJ","明台",null,"周益弘",18556,15351,1019,34926]
["華登建設有限公司",null,"100.01.18","營二課",null,"080P18804401","5338-A7","明台",null,"林陳郎",0,3567,1099,4666]
["利明週邊有限公司",null,"95.01.01","營二課",null,"080P18804409","2835-ES","明台",null,"王慶儒",8436,11069,1099,20604]
["林明宗",null,"102.01.31","營二課",null,"05GEA00215","ABK-5555","富邦",null,"王冠賢",13610,8159,1099,22868]
["沈綺紅",null,"102.01.01","營二課",null,"05GEA00214","ABV-5556","富邦",null,"王冠賢",27977,28195,1019,57191]
["蔡秀梅",null,"102.01.14","營二課",null,"03AG003095","AAT-5263","華南",null,"陳一鋐",42511,22969,1138,66618]
["精信精密工業(股)公司",null,"99.01.01","營一課",null,"080P18804410","7079-YN","明台",null,"凌大偉",40787,16290,1099,58176]
["梁妙金",null,"87.07.01","營三課",null,"03AG003094","DH-9900","華南",null,"簡志勳",0,2721,1019,3740]
["謝元",null,"97.01.01","營三課",null,"080P18804411","1111-QX","明台",null,"賈勇華",0,0,1099,1099]
["台灣偉登精密工業(股)公司",null,"99.01.01","營三課",null,"080P18804412","7887-YN","明台",null,"簡志勳",68886,21585,1796,92267]
["呂賴素英",null,"97.01.01","營二課",null,"03AG002510","9576-QY","華南",null,"謝中堅",0,5770,889,6659]
["羅麗玉",null,"96.01.01","服務部",null,"080P18804450","1689-RJ","明台",null,"黃榮源",45005,14136,1019,60160]
["施淑滿",null,"94.12.23","服務部",null,"03AG002511","5325-ER","華南",null,"陳勝雄",21023,6004,1019,28046]
["蔡乙誠",null,"98.01.01","營二課",null,"080P18804449","2738-VM","明台",null,"張昇文",28797,6560,1099,36456]
["張瓊蓉",null,"101.01.18","營二課",null,"03AG002512","4455-L2","華南",null,"謝中堅",7622,3381,1019,12022]
["鄧三貴",null,"100.01.18","營三課",null,"03AG001613","6539-YJ","華南",null,"簡志勳",0,0,1099,1099]
["泉洪企業有限公司",null,"97.01.01","營三課",null,"03AG003093","6666-QY","華南",null,"黃盛緯",7217,10127,1099,18443]
["陳威達",null,"102.01.09","營三課",null,"080P18804413","AAB-0667","明台",null,"林謙慶",9033,5059,1218,15310]
["哈伯實業有限公司",null,"101.01.06","營一課",null,"03AG003098","1299-M8","華南",null,"郭天南",10455,29660,1138,41253]
["曾淑華",null,"102.01.18","營二課",null,"03AG002501","AAT-9585","華南",null,"戴子貽",39884,37208,1138,78230]
["蕭惠文",null,"99.12.01","服務部",null,"011F1B0042140","0918-A7","台產",null,"李技霖",6332,6306,1019,13657]
["祐丞營造有限公司",null,"101.01.18","營二課",null,"03AG002504","8238-L2","華南",null,"張昇文",11899,4459,1138,17496]
["張月香",null,"102.01.21","營三課",null,"03AG002503","AAT-7153","華南",null,"賈勇華",32021,27613,1138,60772]
["呂緯盛",null,"100.12.28","營三課",null,"03AG002502","ABB-1959","華南",null,"黃盛緯",0,6602,1099,7701]
["林嘉玲",null,"95.01.01","營三課",null,"080P18804417","7678-MS","明台",null,"黃盛緯",0,7953,1019,8972]
["洪孟涵",null,"88.01.01","營三課",null,"080P18804416","DG-5577","明台",null,"郭力嘉",12795,4193,1138,18126]
["陳君寧",null,"89.01.20","營二課",null,"03AG002507","8F-7686","華南",null,"林陳郎",0,2341,1019,3360]
["黃婷芳",null,"101.01.10","營二課",null,"03AG002505","1926-J6","華南",null,"張昇文",8016,17861,1059,26936]
["吳仁豪",null,"101.01.12","營二課",null,"03AG002506","7367-L2","華南",null,"林陳郎",0,3767,1099,4866]
["千凡實業有限公司",null,"96.01.01","STF",null,"080P18804414","3996-RJ","明台",null,"謝宛倫",24195,12697,1099,37991]
["曾淑慧",null,"102.01.23","營一課",null,"080P18804415","AAQ-5898","明台",null,"林柏霖",21394,31103,1019,53516]
["鍾素媛",null,"102.01.31","營二課",null,"080P18804418","AAY-2658","明台",null,"莊朝清",44918,22489,1019,68426]
["唐偉豪",null,"96.01.01","營一課",null,"05GEA00217","2767-RJ","富邦",null,"花志明",7692,5033,1099,13824]
["吳美珠",null,"101.01.01","營二課",null,"05GEA00216","6319-H6","富邦",null,"張昇文",18161,7930,1019,27110]
["達立科技股份有限公司",null,"99.12.01","營二課",null,"080P18804419","9958-A6","明台",null,"陳維德",7139,17448,1099,25686]
["呂文琴",null,"95.01.01","服務部",null,"03AG002514","3700-ES","華南",null,"陳勝雄",0,4718,1019,5737]
["吳枷妮",null,"101.01.19","營一課",null,"03AG002516","1958-L8","華南",null,"王裕明",24782,25112,1059,50953]
["林味鈴",null,"102.01.25","營三課",null,"080P18804421","AAY-0925","明台",null,"簡志勳",5289,32320,1019,38628]
["林秀鑾",null,"96.01.01","營二課",null,"080P18804420","6566-RJ","明台",null,"謝中堅",0,5605,1019,6624]
["許家福",null,"101.01.01","服務部",null,"03AG002522","5588-Q3","華南",null,"許慶麟",11481,16703,1398,29582]
["陳建民",null,"99.11.01","營三課",null,"03AG002519","0596-ZS","華南",null,"黃盛緯",13590,18365,1099,33054]
["啟運興業(股)公司",null,"97.01.01","STF",null,"03AG002517","0588-QY","華南",null,"許嘉航",49293,10128,1099,60520]
["高幼華",null,"102.01.31","營三課",null,"080P18804422","AAY-1832","明台",null,"林謙慶",48495,22109,1059,71663]
["榮大貿易股份有限公司",null,"100.01.11","營一課",null,"080P18804426","2255-A7","明台",null,"梁大民",27005,24964,1099,53068]
["陳曉華",null,"102.01.14","營三課",null,"080P18804424","AAB-5979","明台",null,"林謙慶",36163,35639,1138,72940]
["林敬堯",null,"100.01.21","STF",null,"011F1B0042595","5668-YK","台產",null,"蔡青勳",35492,23751,1099,60342]
["洪子鈞",null,"103.01.01","營二課",null,null,"AGE-3378","富邦",null,"梁志龍",43105,39012,0,82117]
["陳進成",null,"97.01.01","營一課",null,"03AG002520","8558-YK","華南",null,"花志明",8254,16859,1099,26212]
["江之馼",null,"100.01.14","營三課",null,"080P18804427","5838-YJ","明台",null,"陳禮建",0,3971,1099,5070]
["顏錫亮",null,"98.01.01","營二課",null,"080P18804428","5388-VF","明台",null,"張昇文",9106,3567,1099,13772]
["陳亭安",null,"92.01.01","STF",null,"080P18804429","1568-FG","明台",null,"吳美玲",16646,7640,1318,25604]
["良盟塑膠股份有限公司",null,"94.01.01","營一課",null,"03AG002521","6598-KD","華南",null,"蘇士文",0,4994,1099,6093]
["潘芳中",null,"99.01.01","營三課",null,"011F14B0042584","6958-YN","台產",null,"蕭敏聰",60853,27057,1148,89058]
["葡瑛企業社",null,"102.01.18","營三課",null,"03AG0002523","AAT-9139","華南",null,"賈勇華",36595,23399,1218,61212]
["高長壽",null,"101.01.19","營三課",null,"03AG002525","8955-J6","華南",null,"郭力嘉",78368,24817,1099,104284]
["游仁德",null,"95.01.01","營一課",null,"080P18804430","8122-DA","明台",null,"梁大民",0,10879,1099,11978]
["林麗琴",null,"101.11.12","營一課",null,null,"ABB-5055","明台",null,"陳龍雲",0,13829,0,13829]
["鄭建大",null,"102.01.25","營二課",null,"080P18804446","AAY-3788","明台",null,"林陳郎",13559,7340,1148,22047]
["蔡協霖",null,"102.01.23","服務部",null,"03AG002529","AAD-1567","華南",null,"洪嘉榮",42533,22435,1218,66186]
["世隆興業有限公司",null,"101.03.00","營二課",null,"05GEA00219","0253-L3","富邦",null,"張昇文",33721,19726,1138,54585]
["王秀菱",null,"101.01.31","營一課",null,"011F1B0042963","9970-J6","台產",null,"張哲彰",39432,23632,1158,64222]
["張安瑜",null,"88.01.01","服務部",null,"080P18804444","ZX-4759","明台",null,"陳俊田",4887,3745,1019,9651]
["林真伊",null,"100.06.01","營三課",null,"080P18804440","6589-ZV","明台",null,"黃盛緯",0,0,1019,1019]
["陳豐源",null,"102.01.24","營二課",null,"011F1B0043468","AAY-0606","台產",null,"陳維德",43238,30587,1099,74924]
["馮錦輝",null,"102.01.11","營三課",null,"011F1B0043261","AAT-8527","台產",null,"黃盛緯",38583,24626,1687,64896]
["余承義",null,"100.01.27","營三課",null,"03AG002534","0019-ZT","華南",null,"陳禮建",9718,12215,1099,23032]
["一廷企業有限公司",null,"94.01.01","營一課",null,"03AG002533","5387-KD","華南",null,"梁大民",20289,10945,1099,32333]
["趙璽",null,"100.01.17","營三課",null,"080P18804448","3358-F9","明台",null,"黃盛緯",22164,26739,1099,50002]
["毛喬德",null,"99.09.29","營三課",null,null,"8899-D8","明台",null,"黃盛緯",82579,20979,0,103558]
["李香雲",null,"100.01.21","營二課",null,"03AG002535","0696-ZT","華南",null,"梁志龍",30003,15578,1019,46600]
["鐳瑪科技有限公司",null,"101.01.19","營三課",null,"080P18804432","8055-L8","明台",null,"蕭敏聰",34106,25596,1138,60840]
["凰吉企業有限公司",null,"102.01.25","營二課",null,"080P18804433","AAQ-0888","明台",null,"王慶儒",42139,37589,1218,80946]
["楊元銑",null,"101.01.06","STF",null,"080P18804435","6899-M8","明台",null,"謝宛倫",29286,33543,1099,63928]
["鍾春芳",null,"99.01.01","營一課",null,"05GEA00221","6490-VD","富邦",null,"陳龍雲",30531,9348,1019,40898]
["徐采廷",null,"100.01.27","營三課",null,"011F1B0043423","3399-F9","台產",null,"黃盛緯",15748,13259,1019,30026]
["臺璟國際企業有限公司",null,"99.01.01","營二課",null,"080P18804436","8085-YS","明台",null,"謝中堅",63142,18830,1099,83071]
["李素麗",null,"102.01.24","營一課",null,"05GEA00222","AAY-1699","富邦",null,"郭天南",31543,24963,1019,57525]
["依德股份有限公司",null,"102.11.26","營業部","現金","05GEA01321","AGU-0181","富邦",null,"陳德益",43044,3179,1398,47621]
["楷峰國際有限公司",null,"100.01.01","營二課",null,"080P18747855","AGF-0567","明台",null,"王慶儒",20527,35963,1398,57888]
["黃雅貞",null,"97.01.01","服務部",null,"03AG002550","3888-VR","華南",null,"許慶麟",33455,5279,1019,39753]
["韓若璽",null,"102.01.28","營一課",null,"03AG002546","AAD-5515","華南",null,"陳龍雲",44297,33524,1218,79039]
["李德勇",null,"99.01.01","STF",null,"05GF000027","2111-YS","富邦",null,"謝宛倫",11452,7659,1099,20210]
["黃勝志",null,"101.01.31","營一課",null,"03AG002548","8977-L2","華南",null,"張健宏",0,3992,1099,5091]
["汪島雄",null,"102.01.01","營一課",null,"080P18747860","AAD-3528","明台",null,"盧培育",0,0,1148,1148]
["松銘營造股份有限公司",null,"102.01.29","營一課",null,"080P18804625","AAY-5299","明台",null,"凌大偉",49304,42532,1218,93054]
["鉦越企業有限公司",null,"101.01.29","營二課",null,"03AG002551","6266-L2","華南",null,"梁志龍",0,3867,1455,5322]
["張天相",null,"102.01.31","營二課",null,"011F1B0043719","AAY-2198","台產",null,"莊朝清",33818,27136,1218,62172]
["哲鼎股份有限公司",null,"94.01.31","服務部",null,"080P18804621","3687-EB","明台",null,"陳勝雄",18390,7884,1099,27373]
["太允國際股份有限公司",null,"101.01.31","營二課",null,"011F1B0043696","5266-M9","台產",null,"陳維德",26615,24563,1138,52316]
[null,null,null,null,null,null,null,null,null,null,{"$f":"SUM(K2:K224)","v":5032182},{"$f":"SUM(L2:L224)","v":3516798},241199,8790179]
["工作表名稱請改為續保承保率版"]

{"sheet":"依德+鎔德","index":22,"n_rows":80,"n_cols":13,"rows_kept":80,"cut":false,"hidden":false,"merged":[]}
["2014年1-3月各保險公司承保金額及占比分析"]
[null,null,null,null,null,null,null,null,null,null,null,null,"2014-04-12"]
["台灣產物","依德",null,"%",null,"鎔德",null,"%",null,"總計",null,"%"]
[null,"件數","金額","件數","金額","件數","金額","件數","金額","件數","金額","件數","金額"]
["車體",{"$f":"'[2]2014-12'!J5","v":11},{"$f":"'[2]2014-12'!K5","v":769830},null,null,2,129736,null,null,{"$f":"B5+F5","v":13},899566]
["其他",{"$f":"'[2]2014-12'!J6","v":1},{"$f":"'[2]2014-12'!K6","v":17093},null,null,0,0,null,null,1,17093]
["單強制",{"$f":"'[2]2014-12'!J7","v":7},{"$f":"'[2]2014-12'!K7","v":8978},null,null,0,0,null,null,7,8978]
["新保",{"$f":"'[2]2014-12'!J8","v":19},{"$f":"'[2]2014-12'!K8","v":795901},{"$f":"'[2]2014-12'!N8","v":9.947643979057591E-2},{"$f":"'[2]2014-12'!O8","v":8.379034227769637E-2},2,129736,1.4285714285714285E-2,1.7561811047550877E-2,21,925637,{"$f":"J8/$J$72","v":6.3444108761329304E-2},{"$f":"K8/$K$72","v":5.4816463682316942E-2}]
["車體",{"$f":"'[2]2014-12'!J9","v":66},{"$f":"'[2]2014-12'!K9","v":3333833},null,null,5,262778,null,null,71,3596611]
["其他",{"$f":"'[2]2014-12'!J10","v":11},{"$f":"'[2]2014-12'!K10","v":74999},null,null,0,0,null,null,11,74999]
["單強制",{"$f":"'[2]2014-12'!J11","v":0},{"$f":"'[2]2014-12'!K11","v":0},null,null,0,0,null,null,0,0]
["續保",{"$f":"'[2]2014-12'!J12","v":77},{"$f":"'[2]2014-12'!K12","v":3408832},{"$f":"'[2]2014-12'!N12","v":0.13774597495527727},{"$f":"'[2]2014-12'!O12","v":0.15861068616903418},5,262778,4.4247787610619468E-2,5.3845920563650881E-2,82,3671610,{"$f":"J12/$J$76","v":0.12202380952380952},{"$f":"K12/$K$76","v":0.13922378740908634}]
["車體",{"$f":"'[2]2014-12'!J13","v":77},{"$f":"'[2]2014-12'!K13","v":4103663},null,null,7,392514,null,null,84,4496177]
["其他",{"$f":"'[2]2014-12'!J14","v":12},{"$f":"'[2]2014-12'!K14","v":92092},null,null,0,0,null,null,12,92092]
["單強制",{"$f":"'[2]2014-12'!J15","v":7},{"$f":"'[2]2014-12'!K15","v":8978},null,null,0,0,null,null,7,8978]
["總計",{"$f":"'[2]2014-12'!J16","v":96},{"$f":"'[2]2014-12'!K16","v":4204733},{"$f":"'[2]2014-12'!N16","v":0.128},{"$f":"'[2]2014-12'!O16","v":0.13567796080210032},7,392514,2.766798418972332E-2,3.1996049423614788E-2,103,4597247,{"$f":"J16/J80","v":0.10269192422731804},{"$f":"K16/K80","v":0.10627478797908785}]
[]
[]
["明台產物","依德",null,"%",null,"鎔德",null,"%",null,"總計",null,"%"]
[null,"件數","金額","件數","金額","件數","金額",null,null,"件數","金額","件數","金額"]
["車體",{"$f":"'[2]2014-12'!J21","v":52},{"$f":"'[2]2014-12'!K21","v":3491860},null,null,52,3848270,null,null,{"$f":"B21+F21","v":104},7340130]
["其他",{"$f":"'[2]2014-12'!J22","v":3},{"$f":"'[2]2014-12'!K22","v":39872},null,null,2,44090,null,null,5,83962]
["單強制",{"$f":"'[2]2014-12'!J23","v":9},{"$f":"'[2]2014-12'!K23","v":11333},null,null,4,5601,null,null,13,16934]
["新保",{"$f":"'[2]2014-12'!J24","v":64},{"$f":"'[2]2014-12'!K24","v":3543065},{"$f":"'[2]2014-12'!N24","v":0.33507853403141363},{"$f":"'[2]2014-12'!O24","v":0.37300446797042131},58,3897961,0.41428571428571431,0.52765041740706087,122,7441026,{"$f":"J24/$J$72","v":0.36858006042296071},{"$f":"K24/$K$72","v":0.44065949339554933}]
["車體",{"$f":"'[2]2014-12'!J25","v":170},{"$f":"'[2]2014-12'!K25","v":8661641},null,null,46,2427281,null,null,216,11088922]
["其他",{"$f":"'[2]2014-12'!J26","v":53},{"$f":"'[2]2014-12'!K26","v":463369},null,null,9,77725,null,null,62,541094]
["單強制",{"$f":"'[2]2014-12'!J27","v":12},{"$f":"'[2]2014-12'!K27","v":13313},null,null,5,5454,null,null,17,18767]
["續保",{"$f":"'[2]2014-12'!J28","v":235},{"$f":"'[2]2014-12'!K28","v":9138323},{"$f":"'[2]2014-12'!N28","v":0.42039355992844363},{"$f":"'[2]2014-12'!O28","v":0.42520009242587109},60,2510460,0.53097345132743368,0.51441912845909088,295,11648783,{"$f":"J28/$J$76","v":0.43898809523809523},{"$f":"K28/$K$76","v":0.4417102273843298}]
["車體",{"$f":"'[2]2014-12'!J29","v":222},{"$f":"'[2]2014-12'!K29","v":12153501},null,null,98,6275551,null,null,320,18429052]
["其他",{"$f":"'[2]2014-12'!J30","v":56},{"$f":"'[2]2014-12'!K30","v":503241},null,null,11,121815,null,null,67,625056]
["單強制",{"$f":"'[2]2014-12'!J31","v":21},{"$f":"'[2]2014-12'!K31","v":24646},null,null,9,11055,null,null,30,35701]
["總計",{"$f":"'[2]2014-12'!J32","v":299},{"$f":"'[2]2014-12'!K32","v":12681388},{"$f":"'[2]2014-12'!N32","v":0.39866666666666667},{"$f":"'[2]2014-12'!O32","v":0.40920193124753113},118,6408421,0.466403162055336,0.52238685764923265,417,19089809,{"$f":"J32/$J$80","v":0.41575274177467597},{"$f":"K32/$K$80","v":0.44130006589515053}]
[]
[]
["華南產物","依德",null,"%",null,"鎔德",null,"%",null,"總計",null,"%"]
[null,"件數","金額","件數","金額","件數","金額",null,null,"件數","金額","件數","金額"]
["車體",{"$f":"'[2]2014-12'!J37","v":45},{"$f":"'[2]2014-12'!K37","v":3281011},null,null,36,2342968,null,null,{"$f":"B37+F37","v":81},5623979]
["其他",{"$f":"'[2]2014-12'!J38","v":4},{"$f":"'[2]2014-12'!K38","v":48619},null,null,0,0,null,null,4,48619]
["單強制",{"$f":"'[2]2014-12'!J39","v":20},{"$f":"'[2]2014-12'!K39","v":25915},null,null,11,13762,null,null,31,39677]
["新保",{"$f":"'[2]2014-12'!J40","v":69},{"$f":"'[2]2014-12'!K40","v":3355545},{"$f":"'[2]2014-12'!N40","v":0.36125654450261779},{"$f":"'[2]2014-12'!O40","v":0.35326286068017587},47,2356730,0.33571428571428569,0.3190205259148931,116,5712275,{"$f":"J40/$J$72","v":0.35045317220543809},{"$f":"K40/$K$72","v":0.33828240993057429}]
["車體",{"$f":"'[2]2014-12'!J41","v":147},{"$f":"'[2]2014-12'!K41","v":6959058},null,null,30,1576287,null,null,177,8535345]
["其他",{"$f":"'[2]2014-12'!J42","v":51},{"$f":"'[2]2014-12'!K42","v":327090},null,null,4,49206,null,null,55,376296]
["單強制",{"$f":"'[2]2014-12'!J43","v":6},{"$f":"'[2]2014-12'!K43","v":6514},null,null,0,0,null,null,6,6514]
["續保",{"$f":"'[2]2014-12'!J44","v":204},{"$f":"'[2]2014-12'!K44","v":7292662},{"$f":"'[2]2014-12'!N44","v":0.36493738819320215},{"$f":"'[2]2014-12'!O44","v":0.33932271341586828},34,1625493,0.30088495575221241,0.33308026910460753,238,8918155,{"$f":"J44/$J$76","v":0.35416666666666669},{"$f":"K44/$K$76","v":0.33816753843716529}]
["車體",{"$f":"'[2]2014-12'!J45","v":192},{"$f":"'[2]2014-12'!K45","v":10240069},null,null,66,3919255,null,null,258,14159324]
["其他",{"$f":"'[2]2014-12'!J46","v":55},{"$f":"'[2]2014-12'!K46","v":375709},null,null,4,49206,null,null,59,424915]
["單強制",{"$f":"'[2]2014-12'!J47","v":26},{"$f":"'[2]2014-12'!K47","v":32429},null,null,11,13762,null,null,37,46191]
["總計",{"$f":"'[2]2014-12'!J48","v":273},{"$f":"'[2]2014-12'!K48","v":10648207},{"$f":"'[2]2014-12'!N48","v":0.36399999999999999},{"$f":"'[2]2014-12'!O48","v":0.34359542257704595},81,3982223,0.3201581027667984,0.32461365435081435,354,14630430,{"$f":"J48/$J$80","v":0.35294117647058826},{"$f":"K48/$K$80","v":0.33821237934200321}]
[]
[]
["富邦產物","依德",null,"%",null,"鎔德",null,"%",null,"總計",null,"%"]
[null,"件數","金額","件數","金額","件數","金額",null,null,"件數","金額","件數","金額"]
["車體",{"$f":"'[2]2014-12'!J53","v":28},{"$f":"'[2]2014-12'!K53","v":1789509},null,null,15,983713,null,null,{"$f":"B53+F53","v":43},2773222]
["其他",{"$f":"'[2]2014-12'!J54","v":0},{"$f":"'[2]2014-12'!K54","v":0},null,null,0,0,null,null,0,0]
["單強制",{"$f":"'[2]2014-12'!J55","v":11},{"$f":"'[2]2014-12'!K55","v":14700},null,null,18,19253,null,null,29,33953]
["新保",{"$f":"'[2]2014-12'!J56","v":39},{"$f":"'[2]2014-12'!K56","v":1804209},{"$f":"'[2]2014-12'!N56","v":0.20418848167539266},{"$f":"'[2]2014-12'!O56","v":0.18994232907170649},33,1002966,0.23571428571428571,0.13576724563049508,72,2807175,{"$f":"J56/$J$72","v":0.2175226586102719},{"$f":"K56/$K$72","v":0.16624163299155939}]
["車體",{"$f":"'[2]2014-12'!J57","v":36},{"$f":"'[2]2014-12'!K57","v":1620597},null,null,10,461968,null,null,46,2082565]
["其他",{"$f":"'[2]2014-12'!J58","v":5},{"$f":"'[2]2014-12'!K58","v":29286},null,null,3,18386,null,null,8,47672]
["單強制",{"$f":"'[2]2014-12'!J59","v":2},{"$f":"'[2]2014-12'!K59","v":2118},null,null,1,1099,null,null,3,3217]
["續保",{"$f":"'[2]2014-12'!J60","v":43},{"$f":"'[2]2014-12'!K60","v":1652001},{"$f":"'[2]2014-12'!N60","v":7.6923076923076927E-2},{"$f":"'[2]2014-12'!O60","v":7.686650798922641E-2},14,481453,0.12389380530973451,9.865468187265071E-2,57,2133454,{"$f":"J60/$J$76","v":8.4821428571428575E-2},{"$f":"K60/$K$76","v":8.0898446769418569E-2}]
["車體",{"$f":"'[2]2014-12'!J61","v":64},{"$f":"'[2]2014-12'!K61","v":3410106},null,null,25,1445681,null,null,89,4855787]
["其他",{"$f":"'[2]2014-12'!J62","v":5},{"$f":"'[2]2014-12'!K62","v":29286},null,null,3,18386,null,null,8,47672]
["單強制",{"$f":"'[2]2014-12'!J63","v":13},{"$f":"'[2]2014-12'!K63","v":16818},null,null,19,20352,null,null,32,37170]
["總計",{"$f":"'[2]2014-12'!J64","v":82},{"$f":"'[2]2014-12'!K64","v":3456210},{"$f":"'[2]2014-12'!N64","v":0.10933333333333334},{"$f":"'[2]2014-12'!O64","v":0.11152468537332266},47,1484419,0.1857707509881423,0.12100343857633826,129,4940629,{"$f":"J64/$J$80","v":0.12861415752741776},{"$f":"K64/$K$80","v":0.11421276678375837}]
[]
[]
["保險公司","依德",null,"%",null,"鎔德",null,"%",null,"總計",null,"%"]
[null,"件數","金額","件數","金額","件數","金額",null,null,"件數","金額","件數","金額"]
["車   體",{"$f":"'[2]2014-12'!J69","v":136},{"$f":"'[2]2014-12'!K69","v":9332210},null,null,105,7304687,null,null,{"$f":"B69+F69","v":241},16636897]
["其   他",{"$f":"'[2]2014-12'!J70","v":8},{"$f":"'[2]2014-12'!K70","v":105584},null,null,2,44090,null,null,10,149674]
["單強制",{"$f":"'[2]2014-12'!J71","v":47},{"$f":"'[2]2014-12'!K71","v":60926},null,null,33,38616,null,null,80,99542]
["新  保",{"$f":"'[2]2014-12'!J72","v":191},{"$f":"'[2]2014-12'!K72","v":9498720},{"$f":"'[2]2014-12'!N72","v":0.25466666666666665},{"$f":"'[2]2014-12'!O72","v":0.306503875473217},140,7387393,0.55335968379446643,0.60218843541801281,331,16886113,{"$f":"H72/H80","v":0.55335968379446643},{"$f":"I72/I80","v":0.60218843541801281}]
["車  體",{"$f":"'[2]2014-12'!J73","v":419},{"$f":"'[2]2014-12'!K73","v":20575129},null,null,91,4728314,null,null,510,25303443]
["其  他",{"$f":"'[2]2014-12'!J74","v":120},{"$f":"'[2]2014-12'!K74","v":894744},null,null,16,145317,null,null,136,1040061]
["單強制",{"$f":"'[2]2014-12'!J75","v":20},{"$f":"'[2]2014-12'!K75","v":21945},null,null,6,6553,null,null,26,28498]
["續  保",{"$f":"'[2]2014-12'!J76","v":559},{"$f":"'[2]2014-12'!K76","v":21491818},{"$f":"'[2]2014-12'!N76","v":0.74533333333333329},{"$f":"'[2]2014-12'!O76","v":0.693496124526783},113,4880184,0.44664031620553357,0.39781156458198713,672,26372002,{"$f":"H76/H80","v":0.44664031620553357},{"$f":"I76/I80","v":0.39781156458198713}]
["車體",{"$f":"'[2]2014-12'!J77","v":555},{"$f":"'[2]2014-12'!K77","v":29907339},null,null,196,12033001,null,null,751,41940340]
["其他",{"$f":"'[2]2014-12'!J78","v":128},{"$f":"'[2]2014-12'!K78","v":1000328},null,null,18,189407,null,null,146,1189735]
["單強制",{"$f":"'[2]2014-12'!J79","v":67},{"$f":"'[2]2014-12'!K79","v":82871},null,null,39,45169,null,null,106,128040]
["總  計",{"$f":"'[2]2014-12'!J80","v":750},{"$f":"'[2]2014-12'!K80","v":30990538},{"$f":"'[2]2014-12'!N80","v":1},{"$f":"'[2]2014-12'!O80","v":1},253,12267577,1,1,1003,43258115,{"$f":"J80/$J$80","v":1},{"$f":"K80/$K$80","v":1}]